Workbook
Name Address_1: #REF!
Name Address_1: #REF!
Name Address_1: #REF!
Name Address_2: #REF!
Name Address_2: #REF!
Name Address_2: #REF!
Name brevet: 'Control Entry'!$C$6
Name Brevet_Description: 'Control Entry'!$B$8
Name Brevet_Length: 'Control Entry'!$B$6
Name Brevet_Number: 'Control Entry'!$B$9
Name City: #REF!
Name City: #REF!
Name City: #REF!
Name Close: 'Control Entry'!$M$15:$M$24
Name Close_time: 'Control Entry'!$O$15:$O$24
Name Control_1: 'Control Entry'!$D$15:$O$15
Name Control_10: 'Control Entry'!$D$24:$O$24
Name Control_11: 'Control Entry'!#REF!
Name Control_11: 'Control Entry'!#REF!
Name Control_11: 'Control Entry'!#REF!
Name Control_12: 'Control Entry'!#REF!
Name Control_12: 'Control Entry'!#REF!
Name Control_12: 'Control Entry'!#REF!
Name Control_13: 'Control Entry'!#REF!
Name Control_13: 'Control Entry'!#REF!
Name Control_13: 'Control Entry'!#REF!
Name Control_14: 'Control Entry'!#REF!
Name Control_14: 'Control Entry'!#REF!
Name Control_14: 'Control Entry'!#REF!
Name Control_15: 'Control Entry'!#REF!
Name Control_15: 'Control Entry'!#REF!
Name Control_15: 'Control Entry'!#REF!
Name Control_16: 'Control Entry'!#REF!
Name Control_16: 'Control Entry'!#REF!
Name Control_16: 'Control Entry'!#REF!
Name Control_17: 'Control Entry'!#REF!
Name Control_17: 'Control Entry'!#REF!
Name Control_17: 'Control Entry'!#REF!
Name Control_18: 'Control Entry'!#REF!
Name Control_18: 'Control Entry'!#REF!
Name Control_18: 'Control Entry'!#REF!
Name Control_19: 'Control Entry'!#REF!
Name Control_19: 'Control Entry'!#REF!
Name Control_19: 'Control Entry'!#REF!
Name Control_2: 'Control Entry'!$D$16:$O$16
Name Control_20: 'Control Entry'!#REF!
Name Control_20: 'Control Entry'!#REF!
Name Control_20: 'Control Entry'!#REF!
Name Control_3: 'Control Entry'!$D$17:$O$17
Name Control_4: 'Control Entry'!$D$18:$O$18
Name Control_5: 'Control Entry'!$D$19:$O$19
Name Control_6: 'Control Entry'!$D$20:$O$20
Name Control_7: 'Control Entry'!$D$21:$O$21
Name Control_8: 'Control Entry'!$D$22:$O$22
Name Control_9: 'Control Entry'!$D$23:$O$23
Name Country: #REF!
Name Country: #REF!
Name Country: #REF!
Name Distance: 'Control Entry'!$D$15:$D$24
Name email: #REF!

Sheet Control Entry
A1: DO NOT MOVE OR DELETE ROWS OR COLUMNS (delete contents of cells only) | H1: Scroll right to see further instructions | Q1: You can create 2control cards (upto 20 controls) for one event, or 2control cards (up to 10 controls) with different start loctions for a single event.
A3: Template Revised: | B3: 45428
A4: Card Revised: | B4: 45444
A6: Brevet Length: | B6: 200 | C6: =IF(Brevet_Length>=1200,Brevet_Length,IF(Brevet_Length>=1000,1000,IF(Brevet_Length>=600,600,IF(Brevet_Length>=400,400,IF(Brevet_Length>=300,300,IF(Brevet_Length>=200,200,100)))))) -> 200 | J6: Instructions | Q6: Fill nominal brevet length. This is the ACP distance eg 200, 300, 1000
A7: Maximum Time: | B7: =IF(brevet=1200,90,IF(brevet=1000,75,IF(brevet=600,40,IF(brevet=400,27,IF(brevet=300,20,IF(brevet=200,13.5,IF(brevet<200,L7,0))))))) -> 13.5 | L7: =IF(Brevet_Length=150,10.5,IF(Brevet_Length=100,7,IF(Brevet_Length=50,3.5,IF(Brevet_Length=25, 2,0)))) -> 0 | Q7: Maximum allowable time automatically calculated
A8: Brevet Description: | B8: LM June 200 | Q8: Enter the brevet name eg 'Remembrance Day Brevet'
A9: Brevet Number: | B9: 5358 | Q9: Enter the brevet number. This is the BCR database number, and can be found on the event page in the database
A10: Schedule date: | B10: 45451 | E10: Organizer phone # | Q10: Enter the schedule date. This is the official ACP listed date and can be found on the shcedule on the website
A12: Start Date: | B12: 45451 | Q12: Enter the start date. This will be the same as the schedule date, exceot for pre-rides or unless a ride window has been enabled.
A13: Start Time: | B13: 0.29166667 | D13: Control Card #1 | I13: Control Card #1 Information Control Question (optional) | Q13: Enter the start time. This will be the official ACP listed start time found on the event page, unless a ride window has been enabled.
D14: Distance | E14: Locale | F14: Establishment 1 | G14: Establishment 2 | H14: Establishment 3 | I14: Signature/Answer 1 | J14: Signature/Answer 2 | K14: Signature/Answer 3 | L14: Open | M14: Close | N14: Open time | O14: Close time | Q14: Organizer phone number is optional
C15: Control 1 | D15: 0 | E15: Burnaby | F15: Starbucks | G15: 6568 Hastings St | L15: =Start_date+Start_time -> 45451.292 | M15: =L15+"1:00" -> 45451.333 | N15: =IF(ISBLANK(Distance),"",Open Control_1) -> 45451.292 | O15: =IF(ISBLANK(Distance),"",Close Control_1) -> 45451.333 | Q15: Fill in the control distance. The opening and closing times will be automatically calculated based on the start time and the brevet distance. If you need more than 10 controls, or need an alternate start loction, use card #2, otherwise leave that section blank.
C16: Control 2 | D16: 86.1 | E16: Abbotsford | F16: Straiton Road & | G16: Sumas Mtn Road | I16: Back of Stop Sign | J16: Word on tag? | L16: =IF(ISBLANK(Distance),"",IF(Distance>1000,(Distance-1000)/26+33.0847,(IF(Distance>600,(Distance-600)/28+18.799,(IF(Distance>400,(Distance-400)/30+12.1324,(IF(Distance>200,(Distance-200)/32+5.8824,Distance/34)))))))) -> 2.5323529 | M16: =IF(ISBLANK(Distance),"",IF(Distance>=brevet,D16200IF(brevet>1200,(brevet-1200)*75/1000+90,Max_time),IF(Distance>1200,(Distance-1200)*75/1000+90,IF(Distance>1000,(Distance-1000)/(1000/75)+75,IF(Distance>600,(Distance-600)/(400/35)+40,IF(Distance<=60,(Distance/20+1),Distance/15)))))) -> 5.74 | N16: =IF(ISBLANK(Distance),"",Open_time Control_1+(INT(Open)&":"&IF(ROUND(((Open-INT(Open))*60),0)<10,0,"")&ROUND(((Open-INT(Open))*60),0))) -> 45451.397 | O16: =IF(ISBLANK(Distance),"",Open_time Control_1+(INT(Close)&":"&IF(ROUND(((Close-INT(Close))*60),0)<10,0,"")&ROUND(((Close-INT(Close))*60),0))) -> 45451.531 | Q16: Fill in the Locale (city) for each control. Establishment 1, 2, and 3 can be used to describe the control itself eg Locale HOPE Est.1 BUSINESS Est.2 Dairy Queen Est.3 817 Water Ave . For a secret control, use SECRET as the locale.
C17: Control 3 | D17: 96.4 | E17: Abbotsford | F17: Birchwood Dairy | I17: Yellow posted speed sign | J17: Speed limit (mph)? | L17: =IF(ISBLANK(Distance),"",IF(Distance>1000,(Distance-1000)/26+33.0847,(IF(Distance>600,(Distance-600)/28+18.799,(IF(Distance>400,(Distance-400)/30+12.1324,(IF(Distance>200,(Distance-200)/32+5.8824,Distance/34)))))))) -> 2.8352941 | M17: =IF(ISBLANK(Distance),"",IF(Distance>=brevet,IF(brevet>1200,(brevet-1200)*75/1000+90,Max_time),IF(Distance>1200,(Distance-1200)*75/1000+90,IF(Distance>1000,(Distance-1000)/(1000/75)+75,IF(Distance>600,(Distance-600)/(400/35)+40,IF(Distance<=60,(Distance/20+1),Distance/15)))))) -> 6.4266667 | N17: =IF(ISBLANK(Distance),"",Open_time Control_1+(INT(Open)&":"&IF(ROUND(((Open-INT(Open))*60),0)<10,0,"")&ROUND(((Open-INT(Open))*60),0))) -> 45451.41 | O17: =IF(ISBLANK(Distance),"",Open_time Control_1+(INT(Close)&":"&IF(ROUND(((Close-INT(Close))*60),0)<10,0,"")&ROUND(((Close-INT(Close))*60),0))) -> 45451.56 | Q17: When using information controls, you can put your question in the Signature/Answer section eg Sig/Ans.1 Sign on main door Sig/Ans. 2 This week's special is? Sig/Ans. 3 ________________
C18: Control 4 | D18: 102.6 | E18: Abbotsford | F18: 2nd Ave & | G18: B St | I18: Back of Stop Sign | J18: Word on tag? | L18: =IF(ISBLANK(Distance),"",IF(Distance>1000,(Distance-1000)/26+33.0847,(IF(Distance>600,(Distance-600)/28+18.799,(IF(Distance>400,(Distance-400)/30+12.1324,(IF(Distance>200,(Distance-200)/32+5.8824,Distance/34)))))))) -> 3.0176471 | M18: =IF(ISBLANK(Distance),"",IF(Distance>=brevet,IF(brevet>1200,(brevet-1200)*75/1000+90,Max_time),IF(Distance>1200,(Distance-1200)*75/1000+90,IF(Distance>1000,(Distance-1000)/(1000/75)+75,IF(Distance>600,(Distance-600)/(400/35)+40,IF(Distance<=60,(Distance/20+1),Distance/15)))))) -> 6.84 | N18: =IF(ISBLANK(Distance),"",Open_time Control_1+(INT(Open)&":"&IF(ROUND(((Open-INT(Open))*60),0)<10,0,"")&ROUND(((Open-INT(Open))*60),0))) -> 45451.417 | O18: =IF(ISBLANK(Distance),"",Open_time Control_1+(INT(Close)&":"&IF(ROUND(((Close-INT(Close))*60),0)<10,0,"")&ROUND(((Close-INT(Close))*60),0))) -> 45451.576
C19: Control 5 | D19: 155.9 | E19: Langley | F19: Allard Crescent & | G19: 208 St | I19: Back of Stop Sign | J19: Township of Langley Sticker | K19: 6 digit number? | L19: =IF(ISBLANK(Distance),"",IF(Distance>1000,(Distance-1000)/26+33.0847,(IF(Distance>600,(Distance-600)/28+18.799,(IF(Distance>400,(Distance-400)/30+12.1324,(IF(Distance>200,(Distance-200)/32+5.8824,Distance/34)))))))) -> 4.5852941 | M19: =IF(ISBLANK(Distance),"",IF(Distance>=brevet,IF(brevet>1200,(brevet-1200)*75/1000+90,Max_time),IF(Distance>1200,(Distance-1200)*75/1000+90,IF(Distance>1000,(Distance-1000)/(1000/75)+75,IF(Distance>600,(Distance-600)/(400/35)+40,IF(Distance<=60,(Distance/20+1),Distance/15)))))) -> 10.393333 | N19: =IF(ISBLANK(Distance),"",Open_time Control_1+(INT(Open)&":"&IF(ROUND(((Open-INT(Open))*60),0)<10,0,"")&ROUND(((Open-INT(Open))*60),0))) -> 45451.483 | O19: =IF(ISBLANK(Distance),"",Open_time Control_1+(INT(Close)&":"&IF(ROUND(((Close-INT(Close))*60),0)<10,0,"")&ROUND(((Close-INT(Close))*60),0))) -> 45451.725
C20: Control 6 | D20: 184.4 | E20: Coquitlam | F20: Bert Flinn Park | G20: David Ave & | H20: Heritage Mountain Blvd | I20: Cross Walk Sign | J20: Color of zip tie on pole? | L20: =IF(ISBLANK(Distance),"",IF(Distance>1000,(Distance-1000)/26+33.0847,(IF(Distance>600,(Distance-600)/28+18.799,(IF(Distance>400,(Distance-400)/30+12.1324,(IF(Distance>200,(Distance-200)/32+5.8824,Distance/34)))))))) -> 5.4235294 | M20: =IF(ISBLANK(Distance),"",IF(Distance>=brevet,IF(brevet>1200,(brevet-1200)*75/1000+90,Max_time),IF(Distance>1200,(Distance-1200)*75/1000+90,IF(Distance>1000,(Distance-1000)/(1000/75)+75,IF(Distance>600,(Distance-600)/(400/35)+40,IF(Distance<=60,(Distance/20+1),Distance/15)))))) -> 12.293333 | N20: =IF(ISBLANK(Distance),"",Open_time Control_1+(INT(Open)&":"&IF(ROUND(((Open-INT(Open))*60),0)<10,0,"")&ROUND(((Open-INT(Open))*60),0))) -> 45451.517 | O20: =IF(ISBLANK(Distance),"",Open_time Control_1+(INT(Close)&":"&IF(ROUND(((Close-INT(Close))*60),0)<10,0,"")&ROUND(((Close-INT(Close))*60),0))) -> 45451.804
C21: Control 7 | D21: 201.4 | E21: Burnaby | F21: Hop & Vine | G21: Taphouse | I21: Hop & Vine Sign Above Entrance | J21: What letter is missing? | L21: =IF(ISBLANK(Distance),"",IF(Distance>1000,(Distance-1000)/26+33.0847,(IF(Distance>600,(Distance-600)/28+18.799,(IF(Distance>400,(Distance-400)/30+12.1324,(IF(Distance>200,(Distance-200)/32+5.8824,Distance/34)))))))) -> 5.92615 | M21: =IF(ISBLANK(Distance),"",IF(Distance>=brevet,IF(brevet>1200,(brevet-1200)*75/1000+90,Max_time),IF(Distance>1200,(Distance-1200)*75/1000+90,IF(Distance>1000,(Distance-1000)/(1000/75)+75,IF(Distance>600,(Distance-600)/(400/35)+40,IF(Distance<=60,(Distance/20+1),Distance/15)))))) -> 13.5 | N21: =IF(ISBLANK(Distance),"",Open_time Control_1+(INT(Open)&":"&IF(ROUND(((Open-INT(Open))*60),0)<10,0,"")&ROUND(((Open-INT(Open))*60),0))) -> 45451.539 | O21: =IF(ISBLANK(Distance),"",Open_time Control_1+(INT(Close)&":"&IF(ROUND(((Close-INT(Close))*60),0)<10,0,"")&ROUND(((Close-INT(Close))*60),0))) -> 45451.854
C22: Control 8 | L22: =IF(ISBLANK(Distance),"",IF(Distance>1000,(Distance-1000)/26+33.0847,(IF(Distance>600,(Distance-600)/28+18.799,(IF(Distance>400,(Distance-400)/30+12.1324,(IF(Distance>200,(Distance-200)/32+5.8824,Distance/34)))))))) | M22: =IF(ISBLANK(Distance),"",IF(Distance>=brevet,IF(brevet>1200,(brevet-1200)*75/1000+90,Max_time),IF(Distance>1200,(Distance-1200)*75/1000+90,IF(Distance>1000,(Distance-1000)/(1000/75)+75,IF(Distance>600,(Distance-600)/(400/35)+40,IF(Distance<=60,(Distance/20+1),Distance/15)))))) | N22: =IF(ISBLANK(Distance),"",Open_time Control_1+(INT(Open)&":"&IF(ROUND(((Open-INT(Open))*60),0)<10,0,"")&ROUND(((Open-INT(Open))*60),0))) | O22: =IF(ISBLANK(Distance),"",Open_time Control_1+(INT(Close)&":"&IF(ROUND(((Close-INT(Close))*60),0)<10,0,"")&ROUND(((Close-INT(Close))*60),0)))
C23: Control 9 | L23: =IF(ISBLANK(Distance),"",IF(Distance>1000,(Distance-1000)/26+33.0847,(IF(Distance>600,(Distance-600)/28+18.799,(IF(Distance>400,(Distance-400)/30+12.1324,(IF(Distance>200,(Distance-200)/32+5.8824,Distance/34)))))))) | M23: =IF(ISBLANK(Distance),"",IF(Distance>=brevet,IF(brevet>1200,(brevet-1200)*75/1000+90,Max_time),IF(Distance>1200,(Distance-1200)*75/1000+90,IF(Distance>1000,(Distance-1000)/(1000/75)+75,IF(Distance>600,(Distance-600)/(400/35)+40,IF(Distance<=60,(Distance/20+1),Distance/15)))))) | N23: =IF(ISBLANK(Distance),"",Open_time Control_1+(INT(Open)&":"&IF(ROUND(((Open-INT(Open))*60),0)<10,0,"")&ROUND(((Open-INT(Open))*60),0))) | O23: =IF(ISBLANK(Distance),"",Open_time Control_1+(INT(Close)&":"&IF(ROUND(((Close-INT(Close))*60),0)<10,0,"")&ROUND(((Close-INT(Close))*60),0)))
C24: Control 10 | L24: =IF(ISBLANK(Distance),"",IF(Distance>1000,(Distance-1000)/26+33.0847,(IF(Distance>600,(Distance-600)/28+18.799,(IF(Distance>400,(Distance-400)/30+12.1324,(IF(Distance>200,(Distance-200)/32+5.8824,Distance/34)))))))) | M24: =IF(ISBLANK(Distance),"",IF(Distance>=brevet,IF(brevet>1200,(brevet-1200)*75/1000+90,Max_time),IF(Distance>1200,(Distance-1200)*75/1000+90,IF(Distance>1000,(Distance-1000)/(1000/75)+75,IF(Distance>600,(Distance-600)/(400/35)+40,IF(Distance<=60,(Distance/20+1),Distance/15)))))) | N24: =IF(ISBLANK(Distance),"",Open_time Control_1+(INT(Open)&":"&IF(ROUND(((Open-INT(Open))*60),0)<10,0,"")&ROUND(((Open-INT(Open))*60),0))) | O24: =IF(ISBLANK(Distance),"",Open_time Control_1+(INT(Close)&":"&IF(ROUND(((Close-INT(Close))*60),0)<10,0,"")&ROUND(((Close-INT(Close))*60),0)))
D26: Control Card #2 | I26: Control Card #2 Information Control Question (optional)
D27: Distance | E27: Locale | F27: Establishment 1 | G27: Establishment 2 | H27: Establishment 3 | I27: Signature/Answer 1 | J27: Signature/Answer 2 | K27: Signature/Answer 3 | L27: Open | M27: Close | N27: Open time | O27: Close time
L28: =IF(ISBLANK(D28),"",IF(D28>1000,(D28-1000)/26+33.0847,(IF(D28>600,(D28-600)/28+18.799,(IF(D28>400,(D28-400)/30+12.1324,(IF(D28>200,(D28-200)/32+5.8824,D28/34)))))))) | M28: =IF(ISBLANK(D28),"",IF((D28=0),1,IF(D28>=brevet,IF(brevet>1200,(brevet-1200)*75/1000+90,Max_time),IF(D28>1200,(D28-1200)*75/1000+90,IF(D28>1000,(D28-1000)/(1000/75)+75,IF(D28>600,(D28-600)/(400/35)+40,IF(D28<=60,D28/20+1,D28/15))))))) | N28: =IF(ISBLANK(D28),"",Open_time Control_1+(INT(L28)&":"&IF(ROUND(((L28-INT(L28))*60),0)<10,0,"")&ROUND(((L28-INT(L28))*60),0))) | O28: =IF(ISBLANK(D28),"",Open_time Control_1+(INT(M28)&":"&IF(ROUND(((M28-INT(M28))*60),0)<10,0,"")&ROUND(((M28-INT(M28))*60),0)))
L29: =IF(ISBLANK(D29),"",IF(D29>1000,(D29-1000)/26+33.0847,(IF(D29>600,(D29-600)/28+18.799,(IF(D29>400,(D29-400)/30+12.1324,(IF(D29>200,(D29-200)/32+5.8824,D29/34)))))))) | M29: =IF(ISBLANK(D29),"",IF((D29=0),1,IF(D29>=brevet,IF(brevet>1200,(brevet-1200)*75/1000+90,Max_time),IF(D29>1200,(D29-1200)*75/1000+90,IF(D29>1000,(D29-1000)/(1000/75)+75,IF(D29>600,(D29-600)/(400/35)+40,IF(D29<=60,D29/20+1,D29/15))))))) | N29: =IF(ISBLANK(D29),"",Open_time Control_1+(INT(L29)&":"&IF(ROUND(((L29-INT(L29))*60),0)<10,0,"")&ROUND(((L29-INT(L29))*60),0))) | O29: =IF(ISBLANK(D29),"",Open_time Control_1+(INT(M29)&":"&IF(ROUND(((M29-INT(M29))*60),0)<10,0,"")&ROUND(((M29-INT(M29))*60),0)))
L30: =IF(ISBLANK(D30),"",IF(D30>1000,(D30-1000)/26+33.0847,(IF(D30>600,(D30-600)/28+18.799,(IF(D30>400,(D30-400)/30+12.1324,(IF(D30>200,(D30-200)/32+5.8824,D30/34)))))))) | M30: =IF(ISBLANK(D30),"",IF((D30=0),1,IF(D30>=brevet,IF(brevet>1200,(brevet-1200)*75/1000+90,Max_time),IF(D30>1200,(D30-1200)*75/1000+90,IF(D30>1000,(D30-1000)/(1000/75)+75,IF(D30>600,(D30-600)/(400/35)+40,IF(D30<=60,D30/20+1,D30/15))))))) | N30: =IF(ISBLANK(D30),"",Open_time Control_1+(INT(L30)&":"&IF(ROUND(((L30-INT(L30))*60),0)<10,0,"")&ROUND(((L30-INT(L30))*60),0))) | O30: =IF(ISBLANK(D30),"",Open_time Control_1+(INT(M30)&":"&IF(ROUND(((M30-INT(M30))*60),0)<10,0,"")&ROUND(((M30-INT(M30))*60),0)))
L31: =IF(ISBLANK(D31),"",IF(D31>1000,(D31-1000)/26+33.0847,(IF(D31>600,(D31-600)/28+18.799,(IF(D31>400,(D31-400)/30+12.1324,(IF(D31>200,(D31-200)/32+5.8824,D31/34)))))))) | M31: =IF(ISBLANK(D31),"",IF((D31=0),1,IF(D31>=brevet,IF(brevet>1200,(brevet-1200)*75/1000+90,Max_time),IF(D31>1200,(D31-1200)*75/1000+90,IF(D31>1000,(D31-1000)/(1000/75)+75,IF(D31>600,(D31-600)/(400/35)+40,IF(D31<=60,D31/20+1,D31/15))))))) | N31: =IF(ISBLANK(D31),"",Open_time Control_1+(INT(L31)&":"&IF(ROUND(((L31-INT(L31))*60),0)<10,0,"")&ROUND(((L31-INT(L31))*60),0))) | O31: =IF(ISBLANK(D31),"",Open_time Control_1+(INT(M31)&":"&IF(ROUND(((M31-INT(M31))*60),0)<10,0,"")&ROUND(((M31-INT(M31))*60),0)))
L32: =IF(ISBLANK(D32),"",IF(D32>1000,(D32-1000)/26+33.0847,(IF(D32>600,(D32-600)/28+18.799,(IF(D32>400,(D32-400)/30+12.1324,(IF(D32>200,(D32-200)/32+5.8824,D32/34)))))))) | M32: =IF(ISBLANK(D32),"",IF((D32=0),1,IF(D32>=brevet,IF(brevet>1200,(brevet-1200)*75/1000+90,Max_time),IF(D32>1200,(D32-1200)*75/1000+90,IF(D32>1000,(D32-1000)/(1000/75)+75,IF(D32>600,(D32-600)/(400/35)+40,IF(D32<=60,D32/20+1,D32/15))))))) | N32: =IF(ISBLANK(D32),"",Open_time Control_1+(INT(L32)&":"&IF(ROUND(((L32-INT(L32))*60),0)<10,0,"")&ROUND(((L32-INT(L32))*60),0))) | O32: =IF(ISBLANK(D32),"",Open_time Control_1+(INT(M32)&":"&IF(ROUND(((M32-INT(M32))*60),0)<10,0,"")&ROUND(((M32-INT(M32))*60),0)))
L33: =IF(ISBLANK(D33),"",IF(D33>1000,(D33-1000)/26+33.0847,(IF(D33>600,(D33-600)/28+18.799,(IF(D33>400,(D33-400)/30+12.1324,(IF(D33>200,(D33-200)/32+5.8824,D33/34)))))))) | M33: =IF(ISBLANK(D33),"",IF((D33=0),1,IF(D33>=brevet,IF(brevet>1200,(brevet-1200)*75/1000+90,Max_time),IF(D33>1200,(D33-1200)*75/1000+90,IF(D33>1000,(D33-1000)/(1000/75)+75,IF(D33>600,(D33-600)/(400/35)+40,IF(D33<=60,D33/20+1,D33/15))))))) | N33: =IF(ISBLANK(D33),"",Open_time Control_1+(INT(L33)&":"&IF(ROUND(((L33-INT(L33))*60),0)<10,0,"")&ROUND(((L33-INT(L33))*60),0))) | O33: =IF(ISBLANK(D33),"",Open_time Control_1+(INT(M33)&":"&IF(ROUND(((M33-INT(M33))*60),0)<10,0,"")&ROUND(((M33-INT(M33))*60),0)))
L34: =IF(ISBLANK(D34),"",IF(D34>1000,(D34-1000)/26+33.0847,(IF(D34>600,(D34-600)/28+18.799,(IF(D34>400,(D34-400)/30+12.1324,(IF(D34>200,(D34-200)/32+5.8824,D34/34)))))))) | M34: =IF(ISBLANK(D34),"",IF((D34=0),1,IF(D34>=brevet,IF(brevet>1200,(brevet-1200)*75/1000+90,Max_time),IF(D34>1200,(D34-1200)*75/1000+90,IF(D34>1000,(D34-1000)/(1000/75)+75,IF(D34>600,(D34-600)/(400/35)+40,IF(D34<=60,D34/20+1,D34/15))))))) | N34: =IF(ISBLANK(D34),"",Open_time Control_1+(INT(L34)&":"&IF(ROUND(((L34-INT(L34))*60),0)<10,0,"")&ROUND(((L34-INT(L34))*60),0))) | O34: =IF(ISBLANK(D34),"",Open_time Control_1+(INT(M34)&":"&IF(ROUND(((M34-INT(M34))*60),0)<10,0,"")&ROUND(((M34-INT(M34))*60),0)))
L35: =IF(ISBLANK(D35),"",IF(D35>1000,(D35-1000)/26+33.0847,(IF(D35>600,(D35-600)/28+18.799,(IF(D35>400,(D35-400)/30+12.1324,(IF(D35>200,(D35-200)/32+5.8824,D35/34)))))))) | M35: =IF(ISBLANK(D35),"",IF((D35=0),1,IF(D35>=brevet,IF(brevet>1200,(brevet-1200)*75/1000+90,Max_time),IF(D35>1200,(D35-1200)*75/1000+90,IF(D35>1000,(D35-1000)/(1000/75)+75,IF(D35>600,(D35-600)/(400/35)+40,IF(D35<=60,D35/20+1,D35/15))))))) | N35: =IF(ISBLANK(D35),"",Open_time Control_1+(INT(L35)&":"&IF(ROUND(((L35-INT(L35))*60),0)<10,0,"")&ROUND(((L35-INT(L35))*60),0))) | O35: =IF(ISBLANK(D35),"",Open_time Control_1+(INT(M35)&":"&IF(ROUND(((M35-INT(M35))*60),0)<10,0,"")&ROUND(((M35-INT(M35))*60),0)))
L36: =IF(ISBLANK(D36),"",IF(D36>1000,(D36-1000)/26+33.0847,(IF(D36>600,(D36-600)/28+18.799,(IF(D36>400,(D36-400)/30+12.1324,(IF(D36>200,(D36-200)/32+5.8824,D36/34)))))))) | M36: =IF(ISBLANK(D36),"",IF((D36=0),1,IF(D36>=brevet,IF(brevet>1200,(brevet-1200)*75/1000+90,Max_time),IF(D36>1200,(D36-1200)*75/1000+90,IF(D36>1000,(D36-1000)/(1000/75)+75,IF(D36>600,(D36-600)/(400/35)+40,IF(D36<=60,D36/20+1,D36/15))))))) | N36: =IF(ISBLANK(D36),"",Open_time Control_1+(INT(L36)&":"&IF(ROUND(((L36-INT(L36))*60),0)<10,0,"")&ROUND(((L36-INT(L36))*60),0))) | O36: =IF(ISBLANK(D36),"",Open_time Control_1+(INT(M36)&":"&IF(ROUND(((M36-INT(M36))*60),0)<10,0,"")&ROUND(((M36-INT(M36))*60),0)))
L37: =IF(ISBLANK(D37),"",IF(D37>1000,(D37-1000)/26+33.0847,(IF(D37>600,(D37-600)/28+18.799,(IF(D37>400,(D37-400)/30+12.1324,(IF(D37>200,(D37-200)/32+5.8824,D37/34)))))))) | M37: =IF(ISBLANK(D37),"",IF((D37=0),1,IF(D37>=brevet,IF(brevet>1200,(brevet-1200)*75/1000+90,Max_time),IF(D37>1200,(D37-1200)*75/1000+90,IF(D37>1000,(D37-1000)/(1000/75)+75,IF(D37>600,(D37-600)/(400/35)+40,IF(D37<=60,D37/20+1,D37/15))))))) | N37: =IF(ISBLANK(D37),"",Open_time Control_1+(INT(L37)&":"&IF(ROUND(((L37-INT(L37))*60),0)<10,0,"")&ROUND(((L37-INT(L37))*60),0))) | O37: =IF(ISBLANK(D37),"",Open_time Control_1+(INT(M37)&":"&IF(ROUND(((M37-INT(M37))*60),0)<10,0,"")&ROUND(((M37-INT(M37))*60),0)))

Sheet Card #1
C2: Founding member of LES RANDONNEURS MONDIAUX (1983) | I2: Card revised: | J2: ='Control Entry'!B4 -> 45444
E3: Control Card | I3: Brevet # | J3: =IF(ISBLANK(Brevet_Number),"",Brevet_Number) -> 5358
E4: =IF(ISBLANK(Brevet_Length),"",Brevet_Length&" km Randonnée") -> 200 km Randonnée
E5: =IF(ISBLANK(Brevet_Description),"",Brevet_Description) -> LM June 200
B8: Rider: | G8: Member #
B10: Bicycle Type Circle one | D10: -------> | E10: Single Tandem Fixed Recumbent Velomobile
C11: (circle)
D12: Start Date: | F12: =IF(ISBLANK('Control Entry'!B12),"",'Control Entry'!B12) -> 45451 | H12: Start time: | I12: =IF(ISBLANK('Control Entry'!B13),"",'Control Entry'!B13) -> 0.29166667
D14: Finish Date: | H14: Finish time:
H16: Elapsed time:
C17: Rider's signature at completion
B19: At each control, please have signed or answer question and note time of day
B20: DIST (km) | C20: Open | D20: Close | E20: Locale | F20: Establishment | G20: Signature/Answer | J20: Time of Passage
C21: =Control_1 Open_time -> 45451.292 | D21: =Control_1 Close_time -> 45451.333 | F21: =IF(ISBLANK(Control_1 Establishment_1),"",Control_1 Establishment_1) -> Starbucks | G21: =IF(ISBLANK('Control Entry'!I15),"",'Control Entry'!I15)
B22: =IF(ISBLANK(Distance Control_1),"",Control_1 Distance) -> 0 | C22: =Control_1 Open_time -> 45451.292 | D22: =Control_1 Close_time -> 45451.333 | E22: =IF(ISBLANK(Locale Control_1),"",Locale Control_1) -> Burnaby | F22: =IF(ISBLANK(Control_1 Establishment_2),"",Control_1 Establishment_2) -> 6568 Hastings St | G22: =IF(ISBLANK('Control Entry'!J15),"",'Control Entry'!J15)
C23: =Control_1 Open_time -> 45451.292 | D23: =Control_1 Close_time -> 45451.333 | F23: =IF(ISBLANK(Control_1 Establishment_3),"",Control_1 Establishment_3) | G23: =IF(ISBLANK('Control Entry'!K15),"",'Control Entry'!K15)
C24: =Control_2 Open_time -> 45451.397 | D24: =Control_2 Close_time -> 45451.531 | F24: =IF(ISBLANK(Control_2 Establishment_1),"",Control_2 Establishment_1) -> Straiton Road & | G24: =IF(ISBLANK('Control Entry'!I16),"",'Control Entry'!I16) -> Back of Stop Sign
B25: =IF(ISBLANK(Distance Control_2),"",Control_2 Distance) -> 86.1 | C25: =Control_2 Open_time -> 45451.397 | D25: =Control_2 Close_time -> 45451.531 | E25: =IF(ISBLANK(Locale Control_2),"",Locale Control_2) -> Abbotsford | F25: =IF(ISBLANK(Control_2 Establishment_2),"",Control_2 Establishment_2) -> Sumas Mtn Road | G25: =IF(ISBLANK('Control Entry'!J16),"",'Control Entry'!J16) -> Word on tag?
C26: =Control_2 Open_time -> 45451.397 | D26: =Control_2 Close_time -> 45451.531 | F26: =IF(ISBLANK(Control_2 Establishment_3),"",Control_2 Establishment_3) | G26: =IF(ISBLANK('Control Entry'!K16),"",'Control Entry'!K16)
C27: =Control_3 Open_time -> 45451.41 | D27: =Control_3 Close_time -> 45451.56 | F27: =IF(ISBLANK(Control_3 Establishment_1),"",Control_3 Establishment_1) -> Birchwood Dairy | G27: =IF(ISBLANK('Control Entry'!I17),"",'Control Entry'!I17) -> Yellow posted speed sign
B28: =IF(ISBLANK(Distance Control_3),"",Control_3 Distance) -> 96.4 | C28: =Control_3 Open_time -> 45451.41 | D28: =Control_3 Close_time -> 45451.56 | E28: =IF(ISBLANK(Locale Control_3),"",Locale Control_3) -> Abbotsford | F28: =IF(ISBLANK(Control_3 Establishment_2),"",Control_3 Establishment_2) | G28: =IF(ISBLANK('Control Entry'!J17),"",'Control Entry'!J17) -> Speed limit (mph)?
C29: =Control_3 Open_time -> 45451.41 | D29: =Control_3 Close_time -> 45451.56 | F29: =IF(ISBLANK(Control_3 Establishment_3),"",Control_3 Establishment_3) | G29: =IF(ISBLANK('Control Entry'!K17),"",'Control Entry'!K17)
C30: =Control_4 Open_time -> 45451.417 | D30: =Control_4 Close_time -> 45451.576 | F30: =IF(ISBLANK(Control_4 Establishment_1),"",Control_4 Establishment_1) -> 2nd Ave & | G30: =IF(ISBLANK('Control Entry'!I18),"",'Control Entry'!I18) -> Back of Stop Sign
B31: =IF(ISBLANK(Distance Control_4),"",Control_4 Distance) -> 102.6 | C31: =Control_4 Open_time -> 45451.417 | D31: =Control_4 Close_time -> 45451.576 | E31: =IF(ISBLANK(Locale Control_4),"",Locale Control_4) -> Abbotsford | F31: =IF(ISBLANK(Control_4 Establishment_2),"",Control_4 Establishment_2) -> B St | G31: =IF(ISBLANK('Control Entry'!J18),"",'Control Entry'!J18) -> Word on tag?
C32: =Control_4 Open_time -> 45451.417 | D32: =Control_4 Close_time -> 45451.576 | F32: =IF(ISBLANK(Control_4 Establishment_3),"",Control_4 Establishment_3) | G32: =IF(ISBLANK('Control Entry'!K18),"",'Control Entry'!K18)
C33: =Control_5 Open_time -> 45451.483 | D33: =Control_5 Close_time -> 45451.725 | F33: =IF(ISBLANK(Control_5 Establishment_1),"",Control_5 Establishment_1) -> Allard Crescent & | G33: =IF(ISBLANK('Control Entry'!I19),"",'Control Entry'!I19) -> Back of Stop Sign
B34: =IF(ISBLANK(Distance Control_5),"",Control_5 Distance) -> 155.9 | C34: =Control_5 Open_time -> 45451.483 | D34: =Control_5 Close_time -> 45451.725 | E34: =IF(ISBLANK(Locale Control_5),"",Locale Control_5) -> Langley | F34: =IF(ISBLANK(Control_5 Establishment_2),"",Control_5 Establishment_2) -> 208 St | G34: =IF(ISBLANK('Control Entry'!J19),"",'Control Entry'!J19) -> Township of Langley Sticker
C35: =Control_5 Open_time -> 45451.483 | D35: =Control_5 Close_time -> 45451.725 | F35: =IF(ISBLANK(Control_5 Establishment_3),"",Control_5 Establishment_3) | G35: =IF(ISBLANK('Control Entry'!K19),"",'Control Entry'!K19) -> 6 digit number?
C36: =Control_6 Open_time -> 45451.517 | D36: =Control_6 Close_time -> 45451.804 | F36: =IF(ISBLANK(Control_6 Establishment_1),"",Control_6 Establishment_1) -> Bert Flinn Park | G36: =IF(ISBLANK('Control Entry'!I20),"",'Control Entry'!I20) -> Cross Walk Sign
B37: =IF(ISBLANK(Distance Control_6),"",Control_6 Distance) -> 184.4 | C37: =Control_6 Open_time -> 45451.517 | D37: =Control_6 Close_time -> 45451.804 | E37: =IF(ISBLANK(Locale Control_6),"",Locale Control_6) -> Coquitlam | F37: =IF(ISBLANK(Control_6 Establishment_2),"",Control_6 Establishment_2) -> David Ave & | G37: =IF(ISBLANK('Control Entry'!J20),"",'Control Entry'!J20) -> Color of zip tie on pole?
C38: =Control_6 Open_time -> 45451.517 | D38: =Control_6 Close_time -> 45451.804 | F38: =IF(ISBLANK(Control_6 Establishment_3),"",Control_6 Establishment_3) -> Heritage Mountain Blvd | G38: =IF(ISBLANK('Control Entry'!K20),"",'Control Entry'!K20)
C39: =Control_7 Open_time -> 45451.539 | D39: =Control_7 Close_time -> 45451.854 | F39: =IF(ISBLANK(Control_7 Establishment_1),"",Control_7 Establishment_1) -> Hop & Vine | G39: =IF(ISBLANK('Control Entry'!I21),"",'Control Entry'!I21) -> Hop & Vine Sign Above Entrance
B40: =IF(ISBLANK(Distance Control_7),"",Control_7 Distance) -> 201.4 | C40: =Control_7 Open_time -> 45451.539 | D40: =Control_7 Close_time -> 45451.854 | E40: =IF(ISBLANK(Locale Control_7),"",Locale Control_7) -> Burnaby | F40: =IF(ISBLANK(Control_7 Establishment_2),"",Control_7 Establishment_2) -> Taphouse | G40: =IF(ISBLANK('Control Entry'!J21),"",'Control Entry'!J21) -> What letter is missing?
C41: =Control_7 Open_time -> 45451.539 | D41: =Control_7 Close_time -> 45451.854 | F41: =IF(ISBLANK(Control_7 Establishment_3),"",Control_7 Establishment_3) | G41: =IF(ISBLANK('Control Entry'!K21),"",'Control Entry'!K21)
C42: =Control_8 Open_time | D42: =Control_8 Close_time | F42: =IF(ISBLANK(Control_8 Establishment_1),"",Control_8 Establishment_1) | G42: =IF(ISBLANK('Control Entry'!I22),"",'Control Entry'!I22)
B43: =IF(ISBLANK(Distance Control_8),"",Control_8 Distance) | C43: =Control_8 Open_time | D43: =Control_8 Close_time | E43: =IF(ISBLANK(Locale Control_8),"",Locale Control_8) | F43: =IF(ISBLANK(Control_8 Establishment_2),"",Control_8 Establishment_2) | G43: =IF(ISBLANK('Control Entry'!J22),"",'Control Entry'!J22)
C44: =Control_8 Open_time | D44: =Control_8 Close_time | F44: =IF(ISBLANK(Control_8 Establishment_3),"",Control_8 Establishment_3) | G44: =IF(ISBLANK('Control Entry'!K22),"",'Control Entry'!K22)
C45: =Control_9 Open_time | D45: =Control_9 Close_time | F45: =IF(ISBLANK(Control_9 Establishment_1),"",Control_9 Establishment_1) | G45: =IF(ISBLANK('Control Entry'!I23),"",'Control Entry'!I23)
B46: =IF(ISBLANK(Distance Control_9),"",Control_9 Distance) | C46: =Control_9 Open_time | D46: =Control_9 Close_time | E46: =IF(ISBLANK(Locale Control_9),"",Locale Control_9) | F46: =IF(ISBLANK(Control_9 Establishment_2),"",Control_9 Establishment_2) | G46: =IF(ISBLANK('Control Entry'!J23),"",'Control Entry'!J23)
C47: =Control_9 Open_time | D47: =Control_9 Close_time | F47: =IF(ISBLANK(Control_9 Establishment_3),"",Control_9 Establishment_3) | G47: =IF(ISBLANK('Control Entry'!K23),"",'Control Entry'!K23)
C48: =Control_10 Open_time | D48: =Control_10 Close_time | F48: =IF(ISBLANK(Control_10 Establishment_1),"",Control_10 Establishment_1) | G48: =IF(ISBLANK('Control Entry'!I24),"",'Control Entry'!I24)
B49: =IF(ISBLANK(Distance Control_10),"",Control_10 Distance) | C49: =Control_10 Open_time | D49: =Control_10 Close_time | E49: =IF(ISBLANK(Locale Control_10),"",Locale Control_10) | F49: =IF(ISBLANK(Control_10 Establishment_2),"",Control_10 Establishment_2) | G49: =IF(ISBLANK('Control Entry'!J24),"",'Control Entry'!J24)
C50: =Control_10 Open_time | D50: =Control_10 Close_time | F50: =IF(ISBLANK(Control_10 Establishment_3),"",Control_10 Establishment_3) | G50: =IF(ISBLANK('Control Entry'!K24),"",'Control Entry'!K24)
B52: Report results or abandonment through registration email link | I52: Organizer: | J52: =IF(ISBLANK('Control Entry'!F10),"",'Control Entry'!F10)
B54: Template revised: | C54: ='Control Entry'!B3 -> 45428

Sheet Card #2
C2: Founding member of LES RANDONNEURS MONDIAUX (1983) | I2: Card revised: | J2: ='Control Entry'!B4 -> 45444
E3: Control Card | I3: Brevet # | J3: =IF(ISBLANK(Brevet_Number),"",Brevet_Number) -> 5358
E4: =IF(ISBLANK(Brevet_Length),"",Brevet_Length&" km Randonnée") -> 200 km Randonnée
E5: =IF(ISBLANK(Brevet_Description),"",Brevet_Description) -> LM June 200
B8: Rider: | G8: Member #
B10: Bicycle Type Circle one | D10: -------> | E10: Single Tandem Fixed Recumbent Velomobile
C11: (circle)
D12: Start Date: | F12: =IF(ISBLANK('Control Entry'!B12),"",'Control Entry'!B12) -> 45451 | H12: Start time: | I12: =IF(ISBLANK('Control Entry'!B13),"",'Control Entry'!B13) -> 0.29166667
D14: Finish Date: | H14: Finish time:
H16: Elapsed time:
C17: Rider's signature at completion
B19: At each control, please have signed or answer question and note time of day
B20: DIST (km) | C20: Open | D20: Close | E20: Locale | F20: Establishment | G20: Signature/Answer | J20: Time of Passage
C21: ='Control Entry'!N$28 | D21: ='Control Entry'!O$28 | F21: =IF(ISBLANK('Control Entry'!F$28),"",'Control Entry'!F$28) | G21: =IF(ISBLANK('Control Entry'!I$28),"",'Control Entry'!I$28)
B22: =IF(ISBLANK('Control Entry'!D$28),"",'Control Entry'!D$28) | C22: ='Control Entry'!N$28 | D22: ='Control Entry'!O$28 | E22: =IF(ISBLANK('Control Entry'!E$28),"",'Control Entry'!E$28) | F22: =IF(ISBLANK('Control Entry'!G$28),"",'Control Entry'!G$28) | G22: =IF(ISBLANK('Control Entry'!J$28),"",'Control Entry'!J$28)
C23: ='Control Entry'!N$28 | D23: ='Control Entry'!O$28 | F23: =IF(ISBLANK('Control Entry'!H$28),"",'Control Entry'!H$28) | G23: =IF(ISBLANK('Control Entry'!K$28),"",'Control Entry'!K$28)
C24: ='Control Entry'!N$29 | D24: ='Control Entry'!O$29 | F24: =IF(ISBLANK('Control Entry'!F$29),"",'Control Entry'!F$29) | G24: =IF(ISBLANK('Control Entry'!I$29),"",'Control Entry'!I$29)
B25: =IF(ISBLANK('Control Entry'!D$29),"",'Control Entry'!D$29) | C25: ='Control Entry'!N$29 | D25: ='Control Entry'!O$29 | E25: =IF(ISBLANK('Control Entry'!E$29),"",'Control Entry'!E$29) | F25: =IF(ISBLANK('Control Entry'!G$29),"",'Control Entry'!G$29) | G25: =IF(ISBLANK('Control Entry'!J$29),"",'Control Entry'!J$29)
C26: ='Control Entry'!N$29 | D26: ='Control Entry'!O$29 | F26: =IF(ISBLANK('Control Entry'!H$29),"",'Control Entry'!H$29) | G26: =IF(ISBLANK('Control Entry'!K$29),"",'Control Entry'!K$29)
C27: ='Control Entry'!N$30 | D27: ='Control Entry'!O$30 | F27: =IF(ISBLANK('Control Entry'!F$30),"",'Control Entry'!F$30) | G27: =IF(ISBLANK('Control Entry'!I$30),"",'Control Entry'!I$30)
B28: =IF(ISBLANK('Control Entry'!D$30),"",'Control Entry'!D$30) | C28: ='Control Entry'!N$30 | D28: ='Control Entry'!O$30 | E28: =IF(ISBLANK('Control Entry'!E$30),"",'Control Entry'!E$30) | F28: =IF(ISBLANK('Control Entry'!G$30),"",'Control Entry'!G$30) | G28: =IF(ISBLANK('Control Entry'!J$30),"",'Control Entry'!J$30)
C29: ='Control Entry'!N$30 | D29: ='Control Entry'!O$30 | F29: =IF(ISBLANK('Control Entry'!H$30),"",'Control Entry'!H$30) | G29: =IF(ISBLANK('Control Entry'!K$30),"",'Control Entry'!K$30)
C30: ='Control Entry'!N$31 | D30: ='Control Entry'!O$31 | F30: =IF(ISBLANK('Control Entry'!F$31),"",'Control Entry'!F$31) | G30: =IF(ISBLANK('Control Entry'!I$31),"",'Control Entry'!I$31)
B31: =IF(ISBLANK('Control Entry'!D$31),"",'Control Entry'!D$31) | C31: ='Control Entry'!N$31 | D31: ='Control Entry'!O$31 | E31: =IF(ISBLANK('Control Entry'!E$31),"",'Control Entry'!E$31) | F31: =IF(ISBLANK('Control Entry'!G$31),"",'Control Entry'!G$31) | G31: =IF(ISBLANK('Control Entry'!J$31),"",'Control Entry'!J$31)
C32: ='Control Entry'!N$31 | D32: ='Control Entry'!O$31 | F32: =IF(ISBLANK('Control Entry'!H$31),"",'Control Entry'!H$31) | G32: =IF(ISBLANK('Control Entry'!K$31),"",'Control Entry'!K$31)
C33: ='Control Entry'!N$32 | D33: ='Control Entry'!O$32 | F33: =IF(ISBLANK('Control Entry'!F$32),"",'Control Entry'!F$32) | G33: =IF(ISBLANK('Control Entry'!I$32),"",'Control Entry'!I$32)
B34: =IF(ISBLANK('Control Entry'!D$32),"",'Control Entry'!D$32) | C34: ='Control Entry'!N$32 | D34: ='Control Entry'!O$32 | E34: =IF(ISBLANK('Control Entry'!E$32),"",'Control Entry'!E$32) | F34: =IF(ISBLANK('Control Entry'!G$32),"",'Control Entry'!G$32) | G34: =IF(ISBLANK('Control Entry'!J$32),"",'Control Entry'!J$32)
C35: ='Control Entry'!N$32 | D35: ='Control Entry'!O$32 | F35: =IF(ISBLANK('Control Entry'!H$32),"",'Control Entry'!H$32) | G35: =IF(ISBLANK('Control Entry'!K$32),"",'Control Entry'!K$32)
C36: ='Control Entry'!N$33 | D36: ='Control Entry'!O$33 | F36: =IF(ISBLANK('Control Entry'!F$33),"",'Control Entry'!F$33) | G36: =IF(ISBLANK('Control Entry'!I$33),"",'Control Entry'!I$33)
B37: =IF(ISBLANK('Control Entry'!D$33),"",'Control Entry'!D$33) | C37: ='Control Entry'!N$33 | D37: ='Control Entry'!O$33 | E37: =IF(ISBLANK('Control Entry'!E$33),"",'Control Entry'!E$33) | F37: =IF(ISBLANK('Control Entry'!G$33),"",'Control Entry'!G$33) | G37: =IF(ISBLANK('Control Entry'!J$33),"",'Control Entry'!J$33)
C38: ='Control Entry'!N$33 | D38: ='Control Entry'!O$33 | F38: =IF(ISBLANK('Control Entry'!H$33),"",'Control Entry'!H$33) | G38: =IF(ISBLANK('Control Entry'!K$33),"",'Control Entry'!K$33)
C39: ='Control Entry'!N$34 | D39: ='Control Entry'!O$34 | F39: =IF(ISBLANK('Control Entry'!F$34),"",'Control Entry'!F$34) | G39: =IF(ISBLANK('Control Entry'!I$34),"",'Control Entry'!I$34)
B40: =IF(ISBLANK('Control Entry'!D$34),"",'Control Entry'!D$34) | C40: ='Control Entry'!N$34 | D40: ='Control Entry'!O$34 | E40: =IF(ISBLANK('Control Entry'!E$34),"",'Control Entry'!E$34) | F40: =IF(ISBLANK('Control Entry'!G$34),"",'Control Entry'!G$34) | G40: =IF(ISBLANK('Control Entry'!J$34),"",'Control Entry'!J$34)
C41: ='Control Entry'!N$34 | D41: ='Control Entry'!O$34 | F41: =IF(ISBLANK('Control Entry'!H$34),"",'Control Entry'!H$34) | G41: =IF(ISBLANK('Control Entry'!K$34),"",'Control Entry'!K$34)
C42: ='Control Entry'!N$35 | D42: ='Control Entry'!O$35 | F42: =IF(ISBLANK('Control Entry'!F$35),"",'Control Entry'!F$35) | G42: =IF(ISBLANK('Control Entry'!I$35),"",'Control Entry'!I$35)
B43: =IF(ISBLANK('Control Entry'!D$35),"",'Control Entry'!D$35) | C43: ='Control Entry'!N$35 | D43: ='Control Entry'!O$35 | E43: =IF(ISBLANK('Control Entry'!E$35),"",'Control Entry'!E$35) | F43: =IF(ISBLANK('Control Entry'!G$35),"",'Control Entry'!G$35) | G43: =IF(ISBLANK('Control Entry'!J$35),"",'Control Entry'!J$35)
C44: ='Control Entry'!N$35 | D44: ='Control Entry'!O$35 | F44: =IF(ISBLANK('Control Entry'!H$35),"",'Control Entry'!H$35) | G44: =IF(ISBLANK('Control Entry'!K$35),"",'Control Entry'!K$35)
C45: ='Control Entry'!N$36 | D45: ='Control Entry'!O$36 | F45: =IF(ISBLANK('Control Entry'!F$36),"",'Control Entry'!F$36) | G45: =IF(ISBLANK('Control Entry'!I$36),"",'Control Entry'!I$36)
B46: =IF(ISBLANK('Control Entry'!D$36),"",'Control Entry'!D$36) | C46: ='Control Entry'!N$36 | D46: ='Control Entry'!O$36 | E46: =IF(ISBLANK('Control Entry'!E$36),"",'Control Entry'!E$36) | F46: =IF(ISBLANK('Control Entry'!G$36),"",'Control Entry'!G$36) | G46: =IF(ISBLANK('Control Entry'!J$36),"",'Control Entry'!J$36)
C47: ='Control Entry'!N$36 | D47: ='Control Entry'!O$36 | F47: =IF(ISBLANK('Control Entry'!H$36),"",'Control Entry'!H$36) | G47: =IF(ISBLANK('Control Entry'!K$36),"",'Control Entry'!K$36)
C48: ='Control Entry'!N$37 | D48: ='Control Entry'!O$37 | F48: =IF(ISBLANK('Control Entry'!F$37),"",'Control Entry'!F$37) | G48: =IF(ISBLANK('Control Entry'!I$37),"",'Control Entry'!I$37)
B49: =IF(ISBLANK('Control Entry'!D$37),"",'Control Entry'!D$37) | C49: ='Control Entry'!N$37 | D49: ='Control Entry'!O$37 | E49: =IF(ISBLANK('Control Entry'!E$37),"",'Control Entry'!E$37) | F49: =IF(ISBLANK('Control Entry'!G$37),"",'Control Entry'!G$37) | G49: =IF(ISBLANK('Control Entry'!J$37),"",'Control Entry'!J$37)
C50: ='Control Entry'!N$37 | D50: ='Control Entry'!O$37 | F50: =IF(ISBLANK('Control Entry'!H$37),"",'Control Entry'!H$37) | G50: =IF(ISBLANK('Control Entry'!K$37),"",'Control Entry'!K$37)
B52: Report results or abandonment through registration email link | I52: Organizer: | J52: =IF(ISBLANK('Control Entry'!F10),"",'Control Entry'!F10)
B54: Template revised: | C54: ='Control Entry'!B3 -> 45428
