Workbook
Name Address_1: #REF!
Name Address_1: #REF!
Name Address_1: #REF!
Name Address_1: #REF!
Name Address_2: #REF!
Name Address_2: #REF!
Name Address_2: #REF!
Name Address_2: #REF!
Name brevet: 'Control Entry'!$C$6
Name Brevet_Description: 'Control Entry'!$B$8
Name Brevet_Length: 'Control Entry'!$B$6
Name Brevet_Number: 'Control Entry'!$B$9
Name City: #REF!
Name City: #REF!
Name City: #REF!
Name City: #REF!
Name Close: 'Control Entry'!$M$15:$M$24
Name Close_time: 'Control Entry'!$O$15:$O$24
Name Control_1: 'Control Entry'!$D$15:$O$15
Name Control_10: 'Control Entry'!$D$24:$O$24
Name Control_11: 'Control Entry'!#REF!
Name Control_11: 'Control Entry'!#REF!
Name Control_11: 'Control Entry'!#REF!
Name Control_11: 'Control Entry'!#REF!
Name Control_12: 'Control Entry'!#REF!
Name Control_12: 'Control Entry'!#REF!
Name Control_12: 'Control Entry'!#REF!
Name Control_12: 'Control Entry'!#REF!
Name Control_13: 'Control Entry'!#REF!
Name Control_13: 'Control Entry'!#REF!
Name Control_13: 'Control Entry'!#REF!
Name Control_13: 'Control Entry'!#REF!
Name Control_14: 'Control Entry'!#REF!
Name Control_14: 'Control Entry'!#REF!
Name Control_14: 'Control Entry'!#REF!
Name Control_14: 'Control Entry'!#REF!
Name Control_15: 'Control Entry'!#REF!
Name Control_15: 'Control Entry'!#REF!
Name Control_15: 'Control Entry'!#REF!
Name Control_15: 'Control Entry'!#REF!
Name Control_16: 'Control Entry'!#REF!
Name Control_16: 'Control Entry'!#REF!
Name Control_16: 'Control Entry'!#REF!
Name Control_16: 'Control Entry'!#REF!
Name Control_17: 'Control Entry'!#REF!
Name Control_17: 'Control Entry'!#REF!
Name Control_17: 'Control Entry'!#REF!
Name Control_17: 'Control Entry'!#REF!
Name Control_18: 'Control Entry'!#REF!
Name Control_18: 'Control Entry'!#REF!
Name Control_18: 'Control Entry'!#REF!
Name Control_18: 'Control Entry'!#REF!
Name Control_19: 'Control Entry'!#REF!
Name Control_19: 'Control Entry'!#REF!
Name Control_19: 'Control Entry'!#REF!
Name Control_19: 'Control Entry'!#REF!
Name Control_2: 'Control Entry'!$D$16:$O$16
Name Control_20: 'Control Entry'!#REF!
Name Control_20: 'Control Entry'!#REF!
Name Control_20: 'Control Entry'!#REF!

Sheet Control Entry
A1: DO NOT DELETE OR MOVE ROWS OR COLUMNS (delete contents of cells only) | I1: Scroll right to see further instructions | Q1: You can create 4 control cards (upto 40 controls) for one event, or 4 control cards (up to 10 controls) with different start loctions for a single event, or 2 sets of 2 control cards. Control Card #1 will only show '#1' if a distance, not zero, is entered into the first distance box for Control Card #2. Similarly for Control Card #3 and Control Card #4. If CC#3 starts at distance 0 and CC#4 has a distance greater than 0, then CC#3 will display as CC#1 and CC#4 will display as CC#2. This allows for 2 cards for start location 1 and two cards for start location 2.
A3: Template Revised: | B3: 44700
A4: Card Revised: | B4: 44745
A6: Brevet Length: | B6: 600 | C6: =IF(Brevet_Length>=1200,Brevet_Length,IF(Brevet_Length>=1000,1000,IF(Brevet_Length>=600,600,IF(Brevet_Length>=400,400,IF(Brevet_Length>=300,300,IF(Brevet_Length>=200,200,100)))))) -> 600 | J6: Instructions | Q6: Fill nominal brevet length. This is the ACP distance eg 200, 300, 1000
A7: Maximum Time: | B7: =IF(brevet=1200,90,IF(brevet=1000,75,IF(brevet=600,40,IF(brevet=400,27,IF(brevet=300,20,IF(brevet=200,13.5,IF(brevet=100,7,0))))))) -> 40 | Q7: Maximum allowable time automatically calculated
A8: Brevet Description: | B8: Hats Off East Coaster | Q8: Enter the brevet name eg 'Remembrance Day Brevet'
A9: Brevet Number: | B9: 5161 | Q9: Enter the brevet number. This is the BCR database number, and can be found on the event page in the database
A10: Schedule date: | B10: 44758 | Q10: Enter the schedule date. This is the official ACP listed date and can be found on the shcedule on the website
A12: Start Date: | B12: 44758 | Q12: Enter the start date. This will be the same as the schedule date, exceot for pre-rides or unless a ride window has been enabled.
A13: Start Time: | B13: 0.25 | D13: Control Card #1 | I13: Control Card #1 Information Control Question (optional) | Q13: Enter the start time. This will be the official ACP listed start time found on the event page, unless a ride window has been enabled.
D14: Distance | E14: Locale | F14: Establishment 1 | G14: Establishment 2 | H14: Establishment 3 | I14: Signature/Answer 1 | J14: Signature/Answer 2 | K14: Signature/Answer 3 | L14: Open | M14: Close | N14: Open time | O14: Close time | Q14: Fill in the control distance. The opening and closing times will be automatically calculated based on the start time and the brevet distance. If you need more than 10 controls, use card #2, otherwise leave that section blank.
C15: Control 1 | D15: 0 | E15: NANAIMO | F15: BUSINESS | G15: Canco | H15: 1050 Terminal Ave N | L15: =Start_date+Start_time -> 44758.25 | M15: =L15+"1:00" -> 44758.292 | N15: =IF(ISBLANK(Distance),"",Open Control_1) -> 44758.25 | O15: =IF(ISBLANK(Distance),"",Close Control_1) -> 44758.292 | Q15: Fill in the Locale (city) for each control. Establishment 1, 2, and 3 can be used to describe the control itself eg Locale HOPE Est.1 Dairy Queen Est.2 817 Water Ave Est. 3 (left blank)
C16: Control 2 | D16: 50.7 | E16: ERRINGTON | F16: INFORMATION | G16: Englishman River Falls Provincial Park | H16: 2245 Errington Rd | I16: End of parking lot info sign to left of trail | J16: Is there a map of the campgound? | L16: =IF(ISBLANK(Distance),"",IF(Distance>1000,(Distance-1000)/26+33.0847,(IF(Distance>600,(Distance-600)/28+18.799,(IF(Distance>400,(Distance-400)/30+12.1324,(IF(Distance>200,(Distance-200)/32+5.8824,Distance/34)))))))) -> 1.4911765 | M16: =IF(ISBLANK(Distance),"",IF(Distance>=brevet,IF(brevet>1200,(brevet-1200)*75/1000+90,Max_time),IF(Distance>1200,(Distance-1200)*75/1000+90,IF(Distance>1000,(Distance-1000)/(1000/75)+75,IF(Distance>600,(Distance-600)/(400/35)+40,IF(Distance<=60,(Distance/20+1),Distance/15)))))) -> 3.535 | N16: =IF(ISBLANK(Distance),"",Open_time Control_1+(INT(Open)&":"&IF(ROUND(((Open-INT(Open))*60),0)<10,0,"")&ROUND(((Open-INT(Open))*60),0))) -> 44758.312 | O16: =IF(ISBLANK(Distance),"",Open_time Control_1+(INT(Close)&":"&IF(ROUND(((Close-INT(Close))*60),0)<10,0,"")&ROUND(((Close-INT(Close))*60),0))) -> 44758.397 | Q16: When using information controls, you can put your question in the Signature/Answer section eg Sig/Ans.1 Sign on main door Sig/Ans. 2 This week's special is? Sig/Ans. 3 ________________
C17: Control 3 | D17: 138.1 | E17: CUMBERLAND | F17: INFORMATION | G17: Cumberland Lake Park Gate | H17: 1100 Comox Lake Rd | I17: Main sign, bottom notice | J17: CLWS is the park _______ ? | L17: =IF(ISBLANK(Distance),"",IF(Distance>1000,(Distance-1000)/26+33.0847,(IF(Distance>600,(Distance-600)/28+18.799,(IF(Distance>400,(Distance-400)/30+12.1324,(IF(Distance>200,(Distance-200)/32+5.8824,Distance/34)))))))) -> 4.0617647 | M17: =IF(ISBLANK(Distance),"",IF(Distance>=brevet,IF(brevet>1200,(brevet-1200)*75/1000+90,Max_time),IF(Distance>1200,(Distance-1200)*75/1000+90,IF(Distance>1000,(Distance-1000)/(1000/75)+75,IF(Distance>600,(Distance-600)/(400/35)+40,IF(Distance<=60,(Distance/20+1),Distance/15)))))) -> 9.2066667 | N17: =IF(ISBLANK(Distance),"",Open_time Control_1+(INT(Open)&":"&IF(ROUND(((Open-INT(Open))*60),0)<10,0,"")&ROUND(((Open-INT(Open))*60),0))) -> 44758.419 | O17: =IF(ISBLANK(Distance),"",Open_time Control_1+(INT(Close)&":"&IF(ROUND(((Close-INT(Close))*60),0)<10,0,"")&ROUND(((Close-INT(Close))*60),0))) -> 44758.633
C18: Control 4 | D18: 203.7 | E18: CAMPBELL RIVER | F18: BUSINESS | G18: Duncan Bay General Store | H18: 3930 N. Island Hwy | L18: =IF(ISBLANK(Distance),"",IF(Distance>1000,(Distance-1000)/26+33.0847,(IF(Distance>600,(Distance-600)/28+18.799,(IF(Distance>400,(Distance-400)/30+12.1324,(IF(Distance>200,(Distance-200)/32+5.8824,Distance/34)))))))) -> 5.998025 | M18: =IF(ISBLANK(Distance),"",IF(Distance>=brevet,IF(brevet>1200,(brevet-1200)*75/1000+90,Max_time),IF(Distance>1200,(Distance-1200)*75/1000+90,IF(Distance>1000,(Distance-1000)/(1000/75)+75,IF(Distance>600,(Distance-600)/(400/35)+40,IF(Distance<=60,(Distance/20+1),Distance/15)))))) -> 13.58 | N18: =IF(ISBLANK(Distance),"",Open_time Control_1+(INT(Open)&":"&IF(ROUND(((Open-INT(Open))*60),0)<10,0,"")&ROUND(((Open-INT(Open))*60),0))) -> 44758.5 | O18: =IF(ISBLANK(Distance),"",Open_time Control_1+(INT(Close)&":"&IF(ROUND(((Close-INT(Close))*60),0)<10,0,"")&ROUND(((Close-INT(Close))*60),0))) -> 44758.816
C19: Control 5 | D19: 258.2 | E19: COURTENAY | F19: BUSINESS | G19: Chevron | H19: 600 Ryan Rd | L19: =IF(ISBLANK(Distance),"",IF(Distance>1000,(Distance-1000)/26+33.0847,(IF(Distance>600,(Distance-600)/28+18.799,(IF(Distance>400,(Distance-400)/30+12.1324,(IF(Distance>200,(Distance-200)/32+5.8824,Distance/34)))))))) -> 7.70115 | M19: =IF(ISBLANK(Distance),"",IF(Distance>=brevet,IF(brevet>1200,(brevet-1200)*75/1000+90,Max_time),IF(Distance>1200,(Distance-1200)*75/1000+90,IF(Distance>1000,(Distance-1000)/(1000/75)+75,IF(Distance>600,(Distance-600)/(400/35)+40,IF(Distance<=60,(Distance/20+1),Distance/15)))))) -> 17.213333 | N19: =IF(ISBLANK(Distance),"",Open_time Control_1+(INT(Open)&":"&IF(ROUND(((Open-INT(Open))*60),0)<10,0,"")&ROUND(((Open-INT(Open))*60),0))) -> 44758.571 | O19: =IF(ISBLANK(Distance),"",Open_time Control_1+(INT(Close)&":"&IF(ROUND(((Close-INT(Close))*60),0)<10,0,"")&ROUND(((Close-INT(Close))*60),0))) -> 44758.967
C20: Control 6 | D20: 367.6 | E20: NANAIMO | F20: BUSINESS | G20: Bluebird Motel | H20: 995 Terminal Ave N | I20: Or self sign | L20: =IF(ISBLANK(Distance),"",IF(Distance>1000,(Distance-1000)/26+33.0847,(IF(Distance>600,(Distance-600)/28+18.799,(IF(Distance>400,(Distance-400)/30+12.1324,(IF(Distance>200,(Distance-200)/32+5.8824,Distance/34)))))))) -> 11.1199 | M20: =IF(ISBLANK(Distance),"",IF(Distance>=brevet,IF(brevet>1200,(brevet-1200)*75/1000+90,Max_time),IF(Distance>1200,(Distance-1200)*75/1000+90,IF(Distance>1000,(Distance-1000)/(1000/75)+75,IF(Distance>600,(Distance-600)/(400/35)+40,IF(Distance<=60,(Distance/20+1),Distance/15)))))) -> 24.506667 | N20: =IF(ISBLANK(Distance),"",Open_time Control_1+(INT(Open)&":"&IF(ROUND(((Open-INT(Open))*60),0)<10,0,"")&ROUND(((Open-INT(Open))*60),0))) -> 44758.713 | O20: =IF(ISBLANK(Distance),"",Open_time Control_1+(INT(Close)&":"&IF(ROUND(((Close-INT(Close))*60),0)<10,0,"")&ROUND(((Close-INT(Close))*60),0))) -> 44759.271
C21: Control 7 | L21: =IF(ISBLANK(Distance),"",IF(Distance>1000,(Distance-1000)/26+33.0847,(IF(Distance>600,(Distance-600)/28+18.799,(IF(Distance>400,(Distance-400)/30+12.1324,(IF(Distance>200,(Distance-200)/32+5.8824,Distance/34)))))))) | M21: =IF(ISBLANK(Distance),"",IF(Distance>=brevet,IF(brevet>1200,(brevet-1200)*75/1000+90,Max_time),IF(Distance>1200,(Distance-1200)*75/1000+90,IF(Distance>1000,(Distance-1000)/(1000/75)+75,IF(Distance>600,(Distance-600)/(400/35)+40,IF(Distance<=60,(Distance/20+1),Distance/15)))))) | N21: =IF(ISBLANK(Distance),"",Open_time Control_1+(INT(Open)&":"&IF(ROUND(((Open-INT(Open))*60),0)<10,0,"")&ROUND(((Open-INT(Open))*60),0))) | O21: =IF(ISBLANK(Distance),"",Open_time Control_1+(INT(Close)&":"&IF(ROUND(((Close-INT(Close))*60),0)<10,0,"")&ROUND(((Close-INT(Close))*60),0)))
C22: Control 8 | L22: =IF(ISBLANK(Distance),"",IF(Distance>1000,(Distance-1000)/26+33.0847,(IF(Distance>600,(Distance-600)/28+18.799,(IF(Distance>400,(Distance-400)/30+12.1324,(IF(Distance>200,(Distance-200)/32+5.8824,Distance/34)))))))) | M22: =IF(ISBLANK(Distance),"",IF(Distance>=brevet,IF(brevet>1200,(brevet-1200)*75/1000+90,Max_time),IF(Distance>1200,(Distance-1200)*75/1000+90,IF(Distance>1000,(Distance-1000)/(1000/75)+75,IF(Distance>600,(Distance-600)/(400/35)+40,IF(Distance<=60,(Distance/20+1),Distance/15)))))) | N22: =IF(ISBLANK(Distance),"",Open_time Control_1+(INT(Open)&":"&IF(ROUND(((Open-INT(Open))*60),0)<10,0,"")&ROUND(((Open-INT(Open))*60),0))) | O22: =IF(ISBLANK(Distance),"",Open_time Control_1+(INT(Close)&":"&IF(ROUND(((Close-INT(Close))*60),0)<10,0,"")&ROUND(((Close-INT(Close))*60),0)))
C23: Control 9 | L23: =IF(ISBLANK(Distance),"",IF(Distance>1000,(Distance-1000)/26+33.0847,(IF(Distance>600,(Distance-600)/28+18.799,(IF(Distance>400,(Distance-400)/30+12.1324,(IF(Distance>200,(Distance-200)/32+5.8824,Distance/34)))))))) | M23: =IF(ISBLANK(Distance),"",IF(Distance>=brevet,IF(brevet>1200,(brevet-1200)*75/1000+90,Max_time),IF(Distance>1200,(Distance-1200)*75/1000+90,IF(Distance>1000,(Distance-1000)/(1000/75)+75,IF(Distance>600,(Distance-600)/(400/35)+40,IF(Distance<=60,(Distance/20+1),Distance/15)))))) | N23: =IF(ISBLANK(Distance),"",Open_time Control_1+(INT(Open)&":"&IF(ROUND(((Open-INT(Open))*60),0)<10,0,"")&ROUND(((Open-INT(Open))*60),0))) | O23: =IF(ISBLANK(Distance),"",Open_time Control_1+(INT(Close)&":"&IF(ROUND(((Close-INT(Close))*60),0)<10,0,"")&ROUND(((Close-INT(Close))*60),0)))
C24: Control 10 | L24: =IF(ISBLANK(Distance),"",IF(Distance>1000,(Distance-1000)/26+33.0847,(IF(Distance>600,(Distance-600)/28+18.799,(IF(Distance>400,(Distance-400)/30+12.1324,(IF(Distance>200,(Distance-200)/32+5.8824,Distance/34)))))))) | M24: =IF(ISBLANK(Distance),"",IF(Distance>=brevet,IF(brevet>1200,(brevet-1200)*75/1000+90,Max_time),IF(Distance>1200,(Distance-1200)*75/1000+90,IF(Distance>1000,(Distance-1000)/(1000/75)+75,IF(Distance>600,(Distance-600)/(400/35)+40,IF(Distance<=60,(Distance/20+1),Distance/15)))))) | N24: =IF(ISBLANK(Distance),"",Open_time Control_1+(INT(Open)&":"&IF(ROUND(((Open-INT(Open))*60),0)<10,0,"")&ROUND(((Open-INT(Open))*60),0))) | O24: =IF(ISBLANK(Distance),"",Open_time Control_1+(INT(Close)&":"&IF(ROUND(((Close-INT(Close))*60),0)<10,0,"")&ROUND(((Close-INT(Close))*60),0)))
D26: Control Card #2 | I26: Control Card #2 Information Control Question (optional)
D27: Distance | E27: Locale | F27: Establishment 1 | G27: Establishment 2 | H27: Establishment 3 | I27: Signature/Answer 1 | J27: Signature/Answer 2 | K27: Signature/Answer 3 | L27: Open | M27: Close | N27: Open time | O27: Close time
D28: 392.9 | E28: YELLOW POINT | F28: INFORMATION | G28: Yellow Point Park | H28: 4151 Yellow Pt Rd | I28: Structure behind info sign | J28: How many toilets? | L28: =IF(ISBLANK(D28),"",IF(D28>1000,(D28-1000)/26+33.0847,(IF(D28>600,(D28-600)/28+18.799,(IF(D28>400,(D28-400)/30+12.1324,(IF(D28>200,(D28-200)/32+5.8824,D28/34)))))))) -> 11.910525 | M28: =IF(ISBLANK(D28),"",IF((D28=0),1,IF(D28>=brevet,IF(brevet>1200,(brevet-1200)*75/1000+90,Max_time),IF(D28>1200,(D28-1200)*75/1000+90,IF(D28>1000,(D28-1000)/(1000/75)+75,IF(D28>600,(D28-600)/(400/35)+40,IF(D28<=60,D28/20+1,D28/15))))))) -> 26.193333 | N28: =IF(ISBLANK(D28),"",Open_time Control_1+(INT(L28)&":"&IF(ROUND(((L28-INT(L28))*60),0)<10,0,"")&ROUND(((L28-INT(L28))*60),0))) -> 44758.747 | O28: =IF(ISBLANK(D28),"",Open_time Control_1+(INT(M28)&":"&IF(ROUND(((M28-INT(M28))*60),0)<10,0,"")&ROUND(((M28-INT(M28))*60),0))) -> 44759.342
D29: 443.9 | E29: SAHTLAM | F29: INFORMATION | G29: Wake Lake Nature Reserve | H29: 4465 Barnjum Rd | I29: Info sign to right of gate up stairs | J29: __________Toads of Wake Lake? | L29: =IF(ISBLANK(D29),"",IF(D29>1000,(D29-1000)/26+33.0847,(IF(D29>600,(D29-600)/28+18.799,(IF(D29>400,(D29-400)/30+12.1324,(IF(D29>200,(D29-200)/32+5.8824,D29/34)))))))) -> 13.595733 | M29: =IF(ISBLANK(D29),"",IF((D29=0),1,IF(D29>=brevet,IF(brevet>1200,(brevet-1200)*75/1000+90,Max_time),IF(D29>1200,(D29-1200)*75/1000+90,IF(D29>1000,(D29-1000)/(1000/75)+75,IF(D29>600,(D29-600)/(400/35)+40,IF(D29<=60,D29/20+1,D29/15))))))) -> 29.593333 | N29: =IF(ISBLANK(D29),"",Open_time Control_1+(INT(L29)&":"&IF(ROUND(((L29-INT(L29))*60),0)<10,0,"")&ROUND(((L29-INT(L29))*60),0))) -> 44758.817 | O29: =IF(ISBLANK(D29),"",Open_time Control_1+(INT(M29)&":"&IF(ROUND(((M29-INT(M29))*60),0)<10,0,"")&ROUND(((M29-INT(M29))*60),0))) -> 44759.483
D30: 462 | E30: GLENORA | F30: INFORMATION | G30: Trails Head Park | H30: 4289 Robertson Rd | I30: Below info signs on outside wall of washrooms | J30: Is the water potable? | L30: =IF(ISBLANK(D30),"",IF(D30>1000,(D30-1000)/26+33.0847,(IF(D30>600,(D30-600)/28+18.799,(IF(D30>400,(D30-400)/30+12.1324,(IF(D30>200,(D30-200)/32+5.8824,D30/34)))))))) -> 14.199067 | M30: =IF(ISBLANK(D30),"",IF((D30=0),1,IF(D30>=brevet,IF(brevet>1200,(brevet-1200)*75/1000+90,Max_time),IF(D30>1200,(D30-1200)*75/1000+90,IF(D30>1000,(D30-1000)/(1000/75)+75,IF(D30>600,(D30-600)/(400/35)+40,IF(D30<=60,D30/20+1,D30/15))))))) -> 30.8 | N30: =IF(ISBLANK(D30),"",Open_time Control_1+(INT(L30)&":"&IF(ROUND(((L30-INT(L30))*60),0)<10,0,"")&ROUND(((L30-INT(L30))*60),0))) -> 44758.842 | O30: =IF(ISBLANK(D30),"",Open_time Control_1+(INT(M30)&":"&IF(ROUND(((M30-INT(M30))*60),0)<10,0,"")&ROUND(((M30-INT(M30))*60),0))) -> 44759.533
D31: 489.9 | E31: MILL BAY | F31: BUSINESS | G31: Your choice | H31: 825 Deloume Rd | L31: =IF(ISBLANK(D31),"",IF(D31>1000,(D31-1000)/26+33.0847,(IF(D31>600,(D31-600)/28+18.799,(IF(D31>400,(D31-400)/30+12.1324,(IF(D31>200,(D31-200)/32+5.8824,D31/34)))))))) -> 15.129067 | M31: =IF(ISBLANK(D31),"",IF((D31=0),1,IF(D31>=brevet,IF(brevet>1200,(brevet-1200)*75/1000+90,Max_time),IF(D31>1200,(D31-1200)*75/1000+90,IF(D31>1000,(D31-1000)/(1000/75)+75,IF(D31>600,(D31-600)/(400/35)+40,IF(D31<=60,D31/20+1,D31/15))))))) -> 32.66 | N31: =IF(ISBLANK(D31),"",Open_time Control_1+(INT(L31)&":"&IF(ROUND(((L31-INT(L31))*60),0)<10,0,"")&ROUND(((L31-INT(L31))*60),0))) -> 44758.881 | O31: =IF(ISBLANK(D31),"",Open_time Control_1+(INT(M31)&":"&IF(ROUND(((M31-INT(M31))*60),0)<10,0,"")&ROUND(((M31-INT(M31))*60),0))) -> 44759.611
D32: 510 | E32: SHAWNIGAN LAKE | F32: INFORMATION | G32: West Shawnigan Provincial Park | H32: W. Shawnigan Lake Rd | I32: One Way sign near gate | J32: First word under arrow? | L32: =IF(ISBLANK(D32),"",IF(D32>1000,(D32-1000)/26+33.0847,(IF(D32>600,(D32-600)/28+18.799,(IF(D32>400,(D32-400)/30+12.1324,(IF(D32>200,(D32-200)/32+5.8824,D32/34)))))))) -> 15.799067 | M32: =IF(ISBLANK(D32),"",IF((D32=0),1,IF(D32>=brevet,IF(brevet>1200,(brevet-1200)*75/1000+90,Max_time),IF(D32>1200,(D32-1200)*75/1000+90,IF(D32>1000,(D32-1000)/(1000/75)+75,IF(D32>600,(D32-600)/(400/35)+40,IF(D32<=60,D32/20+1,D32/15))))))) -> 34 | N32: =IF(ISBLANK(D32),"",Open_time Control_1+(INT(L32)&":"&IF(ROUND(((L32-INT(L32))*60),0)<10,0,"")&ROUND(((L32-INT(L32))*60),0))) -> 44758.908 | O32: =IF(ISBLANK(D32),"",Open_time Control_1+(INT(M32)&":"&IF(ROUND(((M32-INT(M32))*60),0)<10,0,"")&ROUND(((M32-INT(M32))*60),0))) -> 44759.667
D33: 601.2 | E33: NANAIMO | F33: BUSINESS | G33: Canco | H33: 1050 Terminal Ave N | L33: =IF(ISBLANK(D33),"",IF(D33>1000,(D33-1000)/26+33.0847,(IF(D33>600,(D33-600)/28+18.799,(IF(D33>400,(D33-400)/30+12.1324,(IF(D33>200,(D33-200)/32+5.8824,D33/34)))))))) -> 18.841857 | M33: =IF(ISBLANK(D33),"",IF((D33=0),1,IF(D33>=brevet,IF(brevet>1200,(brevet-1200)*75/1000+90,Max_time),IF(D33>1200,(D33-1200)*75/1000+90,IF(D33>1000,(D33-1000)/(1000/75)+75,IF(D33>600,(D33-600)/(400/35)+40,IF(D33<=60,D33/20+1,D33/15))))))) -> 40 | N33: =IF(ISBLANK(D33),"",Open_time Control_1+(INT(L33)&":"&IF(ROUND(((L33-INT(L33))*60),0)<10,0,"")&ROUND(((L33-INT(L33))*60),0))) -> 44759.035 | O33: =IF(ISBLANK(D33),"",Open_time Control_1+(INT(M33)&":"&IF(ROUND(((M33-INT(M33))*60),0)<10,0,"")&ROUND(((M33-INT(M33))*60),0))) -> 44759.917
L34: =IF(ISBLANK(D34),"",IF(D34>1000,(D34-1000)/26+33.0847,(IF(D34>600,(D34-600)/28+18.799,(IF(D34>400,(D34-400)/30+12.1324,(IF(D34>200,(D34-200)/32+5.8824,D34/34)))))))) | M34: =IF(ISBLANK(D34),"",IF((D34=0),1,IF(D34>=brevet,IF(brevet>1200,(brevet-1200)*75/1000+90,Max_time),IF(D34>1200,(D34-1200)*75/1000+90,IF(D34>1000,(D34-1000)/(1000/75)+75,IF(D34>600,(D34-600)/(400/35)+40,IF(D34<=60,D34/20+1,D34/15))))))) | N34: =IF(ISBLANK(D34),"",Open_time Control_1+(INT(L34)&":"&IF(ROUND(((L34-INT(L34))*60),0)<10,0,"")&ROUND(((L34-INT(L34))*60),0))) | O34: =IF(ISBLANK(D34),"",Open_time Control_1+(INT(M34)&":"&IF(ROUND(((M34-INT(M34))*60),0)<10,0,"")&ROUND(((M34-INT(M34))*60),0)))
L35: =IF(ISBLANK(D35),"",IF(D35>1000,(D35-1000)/26+33.0847,(IF(D35>600,(D35-600)/28+18.799,(IF(D35>400,(D35-400)/30+12.1324,(IF(D35>200,(D35-200)/32+5.8824,D35/34)))))))) | M35: =IF(ISBLANK(D35),"",IF((D35=0),1,IF(D35>=brevet,IF(brevet>1200,(brevet-1200)*75/1000+90,Max_time),IF(D35>1200,(D35-1200)*75/1000+90,IF(D35>1000,(D35-1000)/(1000/75)+75,IF(D35>600,(D35-600)/(400/35)+40,IF(D35<=60,D35/20+1,D35/15))))))) | N35: =IF(ISBLANK(D35),"",Open_time Control_1+(INT(L35)&":"&IF(ROUND(((L35-INT(L35))*60),0)<10,0,"")&ROUND(((L35-INT(L35))*60),0))) | O35: =IF(ISBLANK(D35),"",Open_time Control_1+(INT(M35)&":"&IF(ROUND(((M35-INT(M35))*60),0)<10,0,"")&ROUND(((M35-INT(M35))*60),0)))
L36: =IF(ISBLANK(D36),"",IF(D36>1000,(D36-1000)/26+33.0847,(IF(D36>600,(D36-600)/28+18.799,(IF(D36>400,(D36-400)/30+12.1324,(IF(D36>200,(D36-200)/32+5.8824,D36/34)))))))) | M36: =IF(ISBLANK(D36),"",IF((D36=0),1,IF(D36>=brevet,IF(brevet>1200,(brevet-1200)*75/1000+90,Max_time),IF(D36>1200,(D36-1200)*75/1000+90,IF(D36>1000,(D36-1000)/(1000/75)+75,IF(D36>600,(D36-600)/(400/35)+40,IF(D36<=60,D36/20+1,D36/15))))))) | N36: =IF(ISBLANK(D36),"",Open_time Control_1+(INT(L36)&":"&IF(ROUND(((L36-INT(L36))*60),0)<10,0,"")&ROUND(((L36-INT(L36))*60),0))) | O36: =IF(ISBLANK(D36),"",Open_time Control_1+(INT(M36)&":"&IF(ROUND(((M36-INT(M36))*60),0)<10,0,"")&ROUND(((M36-INT(M36))*60),0)))
L37: =IF(ISBLANK(D37),"",IF(D37>1000,(D37-1000)/26+33.0847,(IF(D37>600,(D37-600)/28+18.799,(IF(D37>400,(D37-400)/30+12.1324,(IF(D37>200,(D37-200)/32+5.8824,D37/34)))))))) | M37: =IF(ISBLANK(D37),"",IF((D37=0),1,IF(D37>=brevet,IF(brevet>1200,(brevet-1200)*75/1000+90,Max_time),IF(D37>1200,(D37-1200)*75/1000+90,IF(D37>1000,(D37-1000)/(1000/75)+75,IF(D37>600,(D37-600)/(400/35)+40,IF(D37<=60,D37/20+1,D37/15))))))) | N37: =IF(ISBLANK(D37),"",Open_time Control_1+(INT(L37)&":"&IF(ROUND(((L37-INT(L37))*60),0)<10,0,"")&ROUND(((L37-INT(L37))*60),0))) | O37: =IF(ISBLANK(D37),"",Open_time Control_1+(INT(M37)&":"&IF(ROUND(((M37-INT(M37))*60),0)<10,0,"")&ROUND(((M37-INT(M37))*60),0)))
D39: Control Card #3 | I39: Control Card #3 Information Control Question (optional)
D40: Distance | E40: Locale | F40: Establishment 1 | G40: Establishment 2 | H40: Establishment 3 | I40: Signature/Answer 1 | J40: Signature/Answer 2 | K40: Signature/Answer 3 | L40: Open | M40: Close | N40: Open time | O40: Close time
L41: =IF(ISBLANK(D41),"",IF(D41>1000,(D41-1000)/26+33.0847,(IF(D41>600,(D41-600)/28+18.799,(IF(D41>400,(D41-400)/30+12.1324,(IF(D41>200,(D41-200)/32+5.8824,D41/34)))))))) | M41: =IF(ISBLANK(D41),"",IF((D41=0),1,IF(D41>=brevet,IF(brevet>1200,(brevet-1200)*75/1000+90,Max_time),IF(D41>1200,(D41-1200)*75/1000+90,IF(D41>1000,(D41-1000)/(1000/75)+75,IF(D41>600,(D41-600)/(400/35)+40,IF(D41<=60,D41/20+1,D41/15))))))) | N41: =IF(ISBLANK(D41),"",Open_time Control_1+(INT(L41)&":"&IF(ROUND(((L41-INT(L41))*60),0)<10,0,"")&ROUND(((L41-INT(L41))*60),0))) | O41: =IF(ISBLANK(D41),"",Open_time Control_1+(INT(M41)&":"&IF(ROUND(((M41-INT(M41))*60),0)<10,0,"")&ROUND(((M41-INT(M41))*60),0)))
L42: =IF(ISBLANK(D42),"",IF(D42>1000,(D42-1000)/26+33.0847,(IF(D42>600,(D42-600)/28+18.799,(IF(D42>400,(D42-400)/30+12.1324,(IF(D42>200,(D42-200)/32+5.8824,D42/34)))))))) | M42: =IF(ISBLANK(D42),"",IF((D42=0),1,IF(D42>=brevet,IF(brevet>1200,(brevet-1200)*75/1000+90,Max_time),IF(D42>1200,(D42-1200)*75/1000+90,IF(D42>1000,(D42-1000)/(1000/75)+75,IF(D42>600,(D42-600)/(400/35)+40,IF(D42<=60,D42/20+1,D42/15))))))) | N42: =IF(ISBLANK(D42),"",Open_time Control_1+(INT(L42)&":"&IF(ROUND(((L42-INT(L42))*60),0)<10,0,"")&ROUND(((L42-INT(L42))*60),0))) | O42: =IF(ISBLANK(D42),"",Open_time Control_1+(INT(M42)&":"&IF(ROUND(((M42-INT(M42))*60),0)<10,0,"")&ROUND(((M42-INT(M42))*60),0)))
L43: =IF(ISBLANK(D43),"",IF(D43>1000,(D43-1000)/26+33.0847,(IF(D43>600,(D43-600)/28+18.799,(IF(D43>400,(D43-400)/30+12.1324,(IF(D43>200,(D43-200)/32+5.8824,D43/34)))))))) | M43: =IF(ISBLANK(D43),"",IF((D43=0),1,IF(D43>=brevet,IF(brevet>1200,(brevet-1200)*75/1000+90,Max_time),IF(D43>1200,(D43-1200)*75/1000+90,IF(D43>1000,(D43-1000)/(1000/75)+75,IF(D43>600,(D43-600)/(400/35)+40,IF(D43<=60,D43/20+1,D43/15))))))) | N43: =IF(ISBLANK(D43),"",Open_time Control_1+(INT(L43)&":"&IF(ROUND(((L43-INT(L43))*60),0)<10,0,"")&ROUND(((L43-INT(L43))*60),0))) | O43: =IF(ISBLANK(D43),"",Open_time Control_1+(INT(M43)&":"&IF(ROUND(((M43-INT(M43))*60),0)<10,0,"")&ROUND(((M43-INT(M43))*60),0)))
L44: =IF(ISBLANK(D44),"",IF(D44>1000,(D44-1000)/26+33.0847,(IF(D44>600,(D44-600)/28+18.799,(IF(D44>400,(D44-400)/30+12.1324,(IF(D44>200,(D44-200)/32+5.8824,D44/34)))))))) | M44: =IF(ISBLANK(D44),"",IF((D44=0),1,IF(D44>=brevet,IF(brevet>1200,(brevet-1200)*75/1000+90,Max_time),IF(D44>1200,(D44-1200)*75/1000+90,IF(D44>1000,(D44-1000)/(1000/75)+75,IF(D44>600,(D44-600)/(400/35)+40,IF(D44<=60,D44/20+1,D44/15))))))) | N44: =IF(ISBLANK(D44),"",Open_time Control_1+(INT(L44)&":"&IF(ROUND(((L44-INT(L44))*60),0)<10,0,"")&ROUND(((L44-INT(L44))*60),0))) | O44: =IF(ISBLANK(D44),"",Open_time Control_1+(INT(M44)&":"&IF(ROUND(((M44-INT(M44))*60),0)<10,0,"")&ROUND(((M44-INT(M44))*60),0)))
L45: =IF(ISBLANK(D45),"",IF(D45>1000,(D45-1000)/26+33.0847,(IF(D45>600,(D45-600)/28+18.799,(IF(D45>400,(D45-400)/30+12.1324,(IF(D45>200,(D45-200)/32+5.8824,D45/34)))))))) | M45: =IF(ISBLANK(D45),"",IF((D45=0),1,IF(D45>=brevet,IF(brevet>1200,(brevet-1200)*75/1000+90,Max_time),IF(D45>1200,(D45-1200)*75/1000+90,IF(D45>1000,(D45-1000)/(1000/75)+75,IF(D45>600,(D45-600)/(400/35)+40,IF(D45<=60,D45/20+1,D45/15))))))) | N45: =IF(ISBLANK(D45),"",Open_time Control_1+(INT(L45)&":"&IF(ROUND(((L45-INT(L45))*60),0)<10,0,"")&ROUND(((L45-INT(L45))*60),0))) | O45: =IF(ISBLANK(D45),"",Open_time Control_1+(INT(M45)&":"&IF(ROUND(((M45-INT(M45))*60),0)<10,0,"")&ROUND(((M45-INT(M45))*60),0)))
...

Sheet Control Card #1
A1: At each control, please have signed or answer question and note time of day | H1: |
A2: DIST (km) | B2: Open | C2: Close | D2: Locale | E2: Establishment | F2: Signature/Answer | G2: Time of Passage | H2: | | K2: Founding member of LES RANDONNEURS MONDIAUX (1983)
B3: =Control_1 Open_time -> 44758.25 | C3: =Control_1 Close_time -> 44758.292 | E3: =IF(ISBLANK(Control_1 Establishment_1),"",Control_1 Establishment_1) -> BUSINESS | F3: =IF(ISBLANK('Control Entry'!I15),"",'Control Entry'!I15) | H3: | | O3: Control Card | S3: =IF('Control Entry'!D28=0,"","#1") -> #1
A4: =IF(ISBLANK(Distance Control_1),"",Control_1 Distance) -> 0 | B4: =Control_1 Open_time -> 44758.25 | C4: =Control_1 Close_time -> 44758.292 | D4: =IF(ISBLANK(Locale Control_1),"",Locale Control_1) -> NANAIMO | E4: =IF(ISBLANK(Control_1 Establishment_2),"",Control_1 Establishment_2) -> Canco | F4: =IF(ISBLANK('Control Entry'!J15),"",'Control Entry'!J15) | H4: | | M4: =IF(ISBLANK(brevet),"",brevet&" km Randonnée") -> 600 km Randonnée
B5: =Control_1 Open_time -> 44758.25 | C5: =Control_1 Close_time -> 44758.292 | E5: =IF(ISBLANK(Control_1 Establishment_3),"",Control_1 Establishment_3) -> 1050 Terminal Ave N | F5: =IF(ISBLANK('Control Entry'!K15),"",'Control Entry'!K15) | H5: | | N5: Brevet No. | P5: =IF(ISBLANK(Brevet_Number),"",Brevet_Number) -> 5161 | R5: =IF(ISBLANK('Control Entry'!$B10),"",'Control Entry'!$B10) -> 44758
B6: =Control_2 Open_time -> 44758.312 | C6: =Control_2 Close_time -> 44758.397 | E6: =IF(ISBLANK(Control_2 Establishment_1),"",Control_2 Establishment_1) -> INFORMATION | F6: =IF(ISBLANK('Control Entry'!I16),"",'Control Entry'!I16) -> End of parking lot info sign to left of trail | H6: | | L6: =IF(ISBLANK(Brevet_Description),"",Brevet_Description) -> Hats Off East Coaster
A7: =IF(ISBLANK(Distance Control_2),"",Control_2 Distance) -> 50.7 | B7: =Control_2 Open_time -> 44758.312 | C7: =Control_2 Close_time -> 44758.397 | D7: =IF(ISBLANK(Locale Control_2),"",Locale Control_2) -> ERRINGTON | E7: =IF(ISBLANK(Control_2 Establishment_2),"",Control_2 Establishment_2) -> Englishman River Falls Provincial Park | F7: =IF(ISBLANK('Control Entry'!J16),"",'Control Entry'!J16) -> Is there a map of the campgound? | H7: |
B8: =Control_2 Open_time -> 44758.312 | C8: =Control_2 Close_time -> 44758.397 | E8: =IF(ISBLANK(Control_2 Establishment_3),"",Control_2 Establishment_3) -> 2245 Errington Rd | F8: =IF(ISBLANK('Control Entry'!K16),"",'Control Entry'!K16) | H8: | | J8: Name | S8: Member #
B9: =Control_3 Open_time -> 44758.419 | C9: =Control_3 Close_time -> 44758.633 | E9: =IF(ISBLANK(Control_3 Establishment_1),"",Control_3 Establishment_1) -> INFORMATION | F9: =IF(ISBLANK('Control Entry'!I17),"",'Control Entry'!I17) -> Main sign, bottom notice | H9: | | J9: Address | L9: (only add if change needed to database)
A10: =IF(ISBLANK(Distance Control_3),"",Control_3 Distance) -> 138.1 | B10: =Control_3 Open_time -> 44758.419 | C10: =Control_3 Close_time -> 44758.633 | D10: =IF(ISBLANK(Locale Control_3),"",Locale Control_3) -> CUMBERLAND | E10: =IF(ISBLANK(Control_3 Establishment_2),"",Control_3 Establishment_2) -> Cumberland Lake Park Gate | F10: =IF(ISBLANK('Control Entry'!J17),"",'Control Entry'!J17) -> CLWS is the park _______ ? | H10: |
B11: =Control_3 Open_time -> 44758.419 | C11: =Control_3 Close_time -> 44758.633 | E11: =IF(ISBLANK(Control_3 Establishment_3),"",Control_3 Establishment_3) -> 1100 Comox Lake Rd | F11: =IF(ISBLANK('Control Entry'!K17),"",'Control Entry'!K17) | H11: | | J11: City | P11: Province/State
B12: =Control_4 Open_time -> 44758.5 | C12: =Control_4 Close_time -> 44758.816 | E12: =IF(ISBLANK(Control_4 Establishment_1),"",Control_4 Establishment_1) -> BUSINESS | F12: =IF(ISBLANK('Control Entry'!I18),"",'Control Entry'!I18) | H12: | | J12: Country | P12: Postal Code
A13: =IF(ISBLANK(Distance Control_4),"",Control_4 Distance) -> 203.7 | B13: =Control_4 Open_time -> 44758.5 | C13: =Control_4 Close_time -> 44758.816 | D13: =IF(ISBLANK(Locale Control_4),"",Locale Control_4) -> CAMPBELL RIVER | E13: =IF(ISBLANK(Control_4 Establishment_2),"",Control_4 Establishment_2) -> Duncan Bay General Store | F13: =IF(ISBLANK('Control Entry'!J18),"",'Control Entry'!J18) | H13: | | J13: Telephone | P13: email
B14: =Control_4 Open_time -> 44758.5 | C14: =Control_4 Close_time -> 44758.816 | E14: =IF(ISBLANK(Control_4 Establishment_3),"",Control_4 Establishment_3) -> 3930 N. Island Hwy | F14: =IF(ISBLANK('Control Entry'!K18),"",'Control Entry'!K18) | H14: |
B15: =Control_5 Open_time -> 44758.571 | C15: =Control_5 Close_time -> 44758.967 | E15: =IF(ISBLANK(Control_5 Establishment_1),"",Control_5 Establishment_1) -> BUSINESS | F15: =IF(ISBLANK('Control Entry'!I19),"",'Control Entry'!I19) | H15: | | L15: Ride Day Emergency Contact
A16: =IF(ISBLANK(Distance Control_5),"",Control_5 Distance) -> 258.2 | B16: =Control_5 Open_time -> 44758.571 | C16: =Control_5 Close_time -> 44758.967 | D16: =IF(ISBLANK(Locale Control_5),"",Locale Control_5) -> COURTENAY | E16: =IF(ISBLANK(Control_5 Establishment_2),"",Control_5 Establishment_2) -> Chevron | F16: =IF(ISBLANK('Control Entry'!J19),"",'Control Entry'!J19) | H16: |
B17: =Control_5 Open_time -> 44758.571 | C17: =Control_5 Close_time -> 44758.967 | E17: =IF(ISBLANK(Control_5 Establishment_3),"",Control_5 Establishment_3) -> 600 Ryan Rd | F17: =IF(ISBLANK('Control Entry'!K19),"",'Control Entry'!K19) | H17: |
B18: =Control_6 Open_time -> 44758.713 | C18: =Control_6 Close_time -> 44759.271 | E18: =IF(ISBLANK(Control_6 Establishment_1),"",Control_6 Establishment_1) -> BUSINESS | F18: =IF(ISBLANK('Control Entry'!I20),"",'Control Entry'!I20) -> Or self sign | H18: |
A19: =IF(ISBLANK(Distance Control_6),"",Control_6 Distance) -> 367.6 | B19: =Control_6 Open_time -> 44758.713 | C19: =Control_6 Close_time -> 44759.271 | D19: =IF(ISBLANK(Locale Control_6),"",Locale Control_6) -> NANAIMO | E19: =IF(ISBLANK(Control_6 Establishment_2),"",Control_6 Establishment_2) -> Bluebird Motel | F19: =IF(ISBLANK('Control Entry'!J20),"",'Control Entry'!J20) | H19: |
B20: =Control_6 Open_time -> 44758.713 | C20: =Control_6 Close_time -> 44759.271 | E20: =IF(ISBLANK(Control_6 Establishment_3),"",Control_6 Establishment_3) -> 995 Terminal Ave N | F20: =IF(ISBLANK('Control Entry'!K20),"",'Control Entry'!K20) | H20: | | J20: Start Date | L20: =IF(ISBLANK('Control Entry'!B12),"",'Control Entry'!B12) -> 44758 | P20: Start time | S20: =IF(ISBLANK('Control Entry'!B13),"",'Control Entry'!B13) -> 0.25
B21: =Control_7 Open_time | C21: =Control_7 Close_time | E21: =IF(ISBLANK(Control_7 Establishment_1),"",Control_7 Establishment_1) | F21: =IF(ISBLANK('Control Entry'!I21),"",'Control Entry'!I21) | H21: |
A22: =IF(ISBLANK(Distance Control_7),"",Control_7 Distance) | B22: =Control_7 Open_time | C22: =Control_7 Close_time | D22: =IF(ISBLANK(Locale Control_7),"",Locale Control_7) | E22: =IF(ISBLANK(Control_7 Establishment_2),"",Control_7 Establishment_2) | F22: =IF(ISBLANK('Control Entry'!J21),"",'Control Entry'!J21) | H22: | | J22: Finish Date | P22: Finish time
B23: =Control_7 Open_time | C23: =Control_7 Close_time | E23: =IF(ISBLANK(Control_7 Establishment_3),"",Control_7 Establishment_3) | F23: =IF(ISBLANK('Control Entry'!K21),"",'Control Entry'!K21) | H23: |
B24: =Control_8 Open_time | C24: =Control_8 Close_time | E24: =IF(ISBLANK(Control_8 Establishment_1),"",Control_8 Establishment_1) | F24: =IF(ISBLANK('Control Entry'!I22),"",'Control Entry'!I22) | H24: | | P24: Elapsed time
A25: =IF(ISBLANK(Distance Control_8),"",Control_8 Distance) | B25: =Control_8 Open_time | C25: =Control_8 Close_time | D25: =IF(ISBLANK(Locale Control_8),"",Locale Control_8) | E25: =IF(ISBLANK(Control_8 Establishment_2),"",Control_8 Establishment_2) | F25: =IF(ISBLANK('Control Entry'!J22),"",'Control Entry'!J22) | H25: | | J25: Rider's signature at completion
B26: =Control_8 Open_time | C26: =Control_8 Close_time | E26: =IF(ISBLANK(Control_8 Establishment_3),"",Control_8 Establishment_3) | F26: =IF(ISBLANK('Control Entry'!K22),"",'Control Entry'!K22) | H26: |
B27: =Control_9 Open_time | C27: =Control_9 Close_time | E27: =IF(ISBLANK(Control_9 Establishment_1),"",Control_9 Establishment_1) | F27: =IF(ISBLANK('Control Entry'!I23),"",'Control Entry'!I23) | H27: | | K27: Bicycle Type Circle one | M27: -------> | N27: Single | P27: Tandem | R27: Fixed | S27: Recumbent | U27: Velomobile
A28: =IF(ISBLANK(Distance Control_9),"",Control_9 Distance) | B28: =Control_9 Open_time | C28: =Control_9 Close_time | D28: =IF(ISBLANK(Locale Control_9),"",Locale Control_9) | E28: =IF(ISBLANK(Control_9 Establishment_2),"",Control_9 Establishment_2) | F28: =IF(ISBLANK('Control Entry'!J23),"",'Control Entry'!J23) | H28: |
B29: =Control_9 Open_time | C29: =Control_9 Close_time | E29: =IF(ISBLANK(Control_9 Establishment_3),"",Control_9 Establishment_3) | F29: =IF(ISBLANK('Control Entry'!K23),"",'Control Entry'!K23) | H29: | | M29: Randonneur Committee Authorization
B30: =Control_10 Open_time | C30: =Control_10 Close_time | E30: =IF(ISBLANK(Control_10 Establishment_1),"",Control_10 Establishment_1) | F30: =IF(ISBLANK('Control Entry'!I24),"",'Control Entry'!I24) | H30: |
A31: =IF(ISBLANK(Distance Control_10),"",Control_10 Distance) | B31: =Control_10 Open_time | C31: =Control_10 Close_time | D31: =IF(ISBLANK(Locale Control_10),"",Locale Control_10) | E31: =IF(ISBLANK(Control_10 Establishment_2),"",Control_10 Establishment_2) | F31: =IF(ISBLANK('Control Entry'!J24),"",'Control Entry'!J24) | H31: |
B32: =Control_10 Open_time | C32: =Control_10 Close_time | E32: =IF(ISBLANK(Control_10 Establishment_3),"",Control_10 Establishment_3) | F32: =IF(ISBLANK('Control Entry'!K24),"",'Control Entry'!K24) | H32: | | M32: Template Revised: | Q32: ='Control Entry'!B3 -> 44700
A33: Report results or abandonment through registration email link | M33: Card Revised: | Q33: ='Control Entry'!B4 -> 44745

Sheet Control Card #2
A1: At each control, please have signed or answer question and note time of day | H1: |
A2: DIST (km) | B2: Open | C2: Close | D2: Locale | E2: Establishment | F2: Signature/Answer | G2: Time of Passage | H2: | | K2: Founding member of LES RANDONNEURS MONDIAUX (1983)
B3: ='Control Entry'!N28 -> 44758.747 | C3: ='Control Entry'!O28 -> 44759.342 | E3: =IF(ISBLANK('Control Entry'!F28),"",'Control Entry'!F28) -> INFORMATION | F3: =IF(ISBLANK('Control Entry'!I28),"",'Control Entry'!I28) -> Structure behind info sign | H3: | | O3: Control Card | S3: =IF('Control Entry'!D28=0,"","#2") -> #2
A4: =IF(ISBLANK('Control Entry'!D28),"",'Control Entry'!D28) -> 392.9 | B4: ='Control Entry'!N28 -> 44758.747 | C4: ='Control Entry'!O28 -> 44759.342 | D4: =IF(ISBLANK('Control Entry'!E28),"",'Control Entry'!E28) -> YELLOW POINT | E4: =IF(ISBLANK('Control Entry'!G28),"",'Control Entry'!G28) -> Yellow Point Park | F4: =IF(ISBLANK('Control Entry'!J28),"",'Control Entry'!J28) -> How many toilets? | H4: | | M4: =IF(ISBLANK(brevet),"",brevet&" km Randonnée") -> 600 km Randonnée
B5: ='Control Entry'!N28 -> 44758.747 | C5: ='Control Entry'!O28 -> 44759.342 | E5: =IF(ISBLANK('Control Entry'!H28),"",'Control Entry'!H28) -> 4151 Yellow Pt Rd | F5: =IF(ISBLANK('Control Entry'!K28),"",'Control Entry'!K28) | H5: | | N5: Brevet No. | P5: =IF(ISBLANK(Brevet_Number),"",Brevet_Number) -> 5161 | R5: =IF(ISBLANK('Control Entry'!$B10),"",'Control Entry'!$B10) -> 44758
B6: ='Control Entry'!N29 -> 44758.817 | C6: ='Control Entry'!O29 -> 44759.483 | E6: =IF(ISBLANK('Control Entry'!F29),"",'Control Entry'!F29) -> INFORMATION | F6: =IF(ISBLANK('Control Entry'!I29),"",'Control Entry'!I29) -> Info sign to right of gate up stairs | H6: | | L6: =IF(ISBLANK(Brevet_Description),"",Brevet_Description) -> Hats Off East Coaster
A7: =IF(ISBLANK('Control Entry'!D29),"",'Control Entry'!D29) -> 443.9 | B7: ='Control Entry'!N29 -> 44758.817 | C7: ='Control Entry'!O29 -> 44759.483 | D7: =IF(ISBLANK('Control Entry'!E29),"",'Control Entry'!E29) -> SAHTLAM | E7: =IF(ISBLANK('Control Entry'!G29),"",'Control Entry'!G29) -> Wake Lake Nature Reserve | F7: =IF(ISBLANK('Control Entry'!J29),"",'Control Entry'!J29) -> __________Toads of Wake Lake? | H7: |
B8: ='Control Entry'!N29 -> 44758.817 | C8: ='Control Entry'!O29 -> 44759.483 | E8: =IF(ISBLANK('Control Entry'!H29),"",'Control Entry'!H29) -> 4465 Barnjum Rd | F8: =IF(ISBLANK('Control Entry'!K29),"",'Control Entry'!K29) | H8: | | J8: Name | S8: Member #
B9: ='Control Entry'!N30 -> 44758.842 | C9: ='Control Entry'!O30 -> 44759.533 | E9: =IF(ISBLANK('Control Entry'!F30),"",'Control Entry'!F30) -> INFORMATION | F9: =IF(ISBLANK('Control Entry'!I30),"",'Control Entry'!I30) -> Below info signs on outside wall of washrooms | H9: | | J9: Address | L9: (only add if change needed to database)
A10: =IF(ISBLANK('Control Entry'!D30),"",'Control Entry'!D30) -> 462 | B10: ='Control Entry'!N30 -> 44758.842 | C10: ='Control Entry'!O30 -> 44759.533 | D10: =IF(ISBLANK('Control Entry'!E30),"",'Control Entry'!E30) -> GLENORA | E10: =IF(ISBLANK('Control Entry'!G30),"",'Control Entry'!G30) -> Trails Head Park | F10: =IF(ISBLANK('Control Entry'!J30),"",'Control Entry'!J30) -> Is the water potable? | H10: |
B11: ='Control Entry'!N30 -> 44758.842 | C11: ='Control Entry'!O30 -> 44759.533 | E11: =IF(ISBLANK('Control Entry'!H30),"",'Control Entry'!H30) -> 4289 Robertson Rd | F11: =IF(ISBLANK('Control Entry'!K30),"",'Control Entry'!K30) | H11: | | J11: City | P11: Province/State
B12: ='Control Entry'!N31 -> 44758.881 | C12: ='Control Entry'!O31 -> 44759.611 | E12: =IF(ISBLANK('Control Entry'!F31),"",'Control Entry'!F31) -> BUSINESS | F12: =IF(ISBLANK('Control Entry'!I31),"",'Control Entry'!I31) | H12: | | J12: Country | P12: Postal Code
A13: =IF(ISBLANK('Control Entry'!D31),"",'Control Entry'!D31) -> 489.9 | B13: ='Control Entry'!N31 -> 44758.881 | C13: ='Control Entry'!O31 -> 44759.611 | D13: =IF(ISBLANK('Control Entry'!E31),"",'Control Entry'!E31) -> MILL BAY | E13: =IF(ISBLANK('Control Entry'!G31),"",'Control Entry'!G31) -> Your choice | F13: =IF(ISBLANK('Control Entry'!J31),"",'Control Entry'!J31) | H13: | | J13: Telephone | P13: email
B14: ='Control Entry'!N31 -> 44758.881 | C14: ='Control Entry'!O31 -> 44759.611 | E14: =IF(ISBLANK('Control Entry'!H31),"",'Control Entry'!H31) -> 825 Deloume Rd | F14: =IF(ISBLANK('Control Entry'!K31),"",'Control Entry'!K31) | H14: |
B15: ='Control Entry'!N32 -> 44758.908 | C15: ='Control Entry'!O32 -> 44759.667 | E15: =IF(ISBLANK('Control Entry'!F32),"",'Control Entry'!F32) -> INFORMATION | F15: =IF(ISBLANK('Control Entry'!I32),"",'Control Entry'!I32) -> One Way sign near gate | H15: | | L15: Ride Day Emergency Contact
A16: =IF(ISBLANK('Control Entry'!D32),"",'Control Entry'!D32) -> 510 | B16: ='Control Entry'!N32 -> 44758.908 | C16: ='Control Entry'!O32 -> 44759.667 | D16: =IF(ISBLANK('Control Entry'!E32),"",'Control Entry'!E32) -> SHAWNIGAN LAKE | E16: =IF(ISBLANK('Control Entry'!G32),"",'Control Entry'!G32) -> West Shawnigan Provincial Park | F16: =IF(ISBLANK('Control Entry'!J32),"",'Control Entry'!J32) -> First word under arrow? | H16: |
B17: ='Control Entry'!N32 -> 44758.908 | C17: ='Control Entry'!O32 -> 44759.667 | E17: =IF(ISBLANK('Control Entry'!H32),"",'Control Entry'!H32) -> W. Shawnigan Lake Rd | F17: =IF(ISBLANK('Control Entry'!K32),"",'Control Entry'!K32) | H17: |
B18: ='Control Entry'!N33 -> 44759.035 | C18: ='Control Entry'!O33 -> 44759.917 | E18: =IF(ISBLANK('Control Entry'!F33),"",'Control Entry'!F33) -> BUSINESS | F18: =IF(ISBLANK('Control Entry'!I33),"",'Control Entry'!I33) | H18: |
A19: =IF(ISBLANK('Control Entry'!D33),"",'Control Entry'!D33) -> 601.2 | B19: ='Control Entry'!N33 -> 44759.035 | C19: ='Control Entry'!O33 -> 44759.917 | D19: =IF(ISBLANK('Control Entry'!E33),"",'Control Entry'!E33) -> NANAIMO | E19: =IF(ISBLANK('Control Entry'!G33),"",'Control Entry'!G33) -> Canco | F19: =IF(ISBLANK('Control Entry'!J33),"",'Control Entry'!J33) | H19: |
B20: ='Control Entry'!N33 -> 44759.035 | C20: ='Control Entry'!O33 -> 44759.917 | E20: =IF(ISBLANK('Control Entry'!H33),"",'Control Entry'!H33) -> 1050 Terminal Ave N | F20: =IF(ISBLANK('Control Entry'!K33),"",'Control Entry'!K33) | H20: | | J20: Start Date | L20: =IF(ISBLANK('Control Entry'!B12),"",'Control Entry'!B12) -> 44758 | P20: Start time | S20: =IF(ISBLANK('Control Entry'!B13),"",'Control Entry'!B13) -> 0.25
B21: ='Control Entry'!N34 | C21: ='Control Entry'!O34 | E21: =IF(ISBLANK('Control Entry'!F34),"",'Control Entry'!F34) | F21: =IF(ISBLANK('Control Entry'!I34),"",'Control Entry'!I34) | H21: | | J21: SIGN HERE AND RECORD RESULTS ON CARD #1
A22: =IF(ISBLANK('Control Entry'!D34),"",'Control Entry'!D34) | B22: ='Control Entry'!N34 | C22: ='Control Entry'!O34 | D22: =IF(ISBLANK('Control Entry'!E34),"",'Control Entry'!E34) | E22: =IF(ISBLANK('Control Entry'!G34),"",'Control Entry'!G34) | F22: =IF(ISBLANK('Control Entry'!J34),"",'Control Entry'!J34) | H22: | | J22: Finish Date | P22: Finish time
B23: ='Control Entry'!N34 | C23: ='Control Entry'!O34 | E23: =IF(ISBLANK('Control Entry'!H34),"",'Control Entry'!H34) | F23: =IF(ISBLANK('Control Entry'!K34),"",'Control Entry'!K34) | H23: |
B24: ='Control Entry'!N35 | C24: ='Control Entry'!O35 | E24: =IF(ISBLANK('Control Entry'!F35),"",'Control Entry'!F35) | F24: =IF(ISBLANK('Control Entry'!I35),"",'Control Entry'!I35) | H24: | | P24: Elapsed time
A25: =IF(ISBLANK('Control Entry'!D35),"",'Control Entry'!D35) | B25: ='Control Entry'!N35 | C25: ='Control Entry'!O35 | D25: =IF(ISBLANK('Control Entry'!E35),"",'Control Entry'!E35) | E25: =IF(ISBLANK('Control Entry'!G35),"",'Control Entry'!G35) | F25: =IF(ISBLANK('Control Entry'!J35),"",'Control Entry'!J35) | H25: | | J25: Rider's signature at completion
B26: ='Control Entry'!N35 | C26: ='Control Entry'!O35 | E26: =IF(ISBLANK('Control Entry'!H35),"",'Control Entry'!H35) | F26: =IF(ISBLANK('Control Entry'!K35),"",'Control Entry'!K35) | H26: |
B27: ='Control Entry'!N36 | C27: ='Control Entry'!O36 | E27: =IF(ISBLANK('Control Entry'!F36),"",'Control Entry'!F36) | F27: =IF(ISBLANK('Control Entry'!I36),"",'Control Entry'!I36) | H27: | | K27: Bicycle Type Circle one | M27: -------> | N27: Single | P27: Tandem | R27: Fixed | S27: Recumbent | U27: Velomobile
A28: =IF(ISBLANK('Control Entry'!D36),"",'Control Entry'!D36) | B28: ='Control Entry'!N36 | C28: ='Control Entry'!O36 | D28: =IF(ISBLANK('Control Entry'!E36),"",'Control Entry'!E36) | E28: =IF(ISBLANK('Control Entry'!G36),"",'Control Entry'!G36) | F28: =IF(ISBLANK('Control Entry'!J36),"",'Control Entry'!J36) | H28: |
B29: ='Control Entry'!N36 | C29: ='Control Entry'!O36 | E29: =IF(ISBLANK('Control Entry'!H36),"",'Control Entry'!H36) | F29: =IF(ISBLANK('Control Entry'!K36),"",'Control Entry'!K36) | H29: | | M29: Randonneur Committee Authorization
B30: ='Control Entry'!N37 | C30: ='Control Entry'!O37 | E30: =IF(ISBLANK('Control Entry'!F37),"",'Control Entry'!F37) | F30: =IF(ISBLANK('Control Entry'!I37),"",'Control Entry'!I37) | H30: |
A31: =IF(ISBLANK('Control Entry'!D37),"",'Control Entry'!D37) | B31: ='Control Entry'!N37 | C31: ='Control Entry'!O37 | D31: =IF(ISBLANK('Control Entry'!E37),"",'Control Entry'!E37) | E31: =IF(ISBLANK('Control Entry'!G37),"",'Control Entry'!G37) | F31: =IF(ISBLANK('Control Entry'!J37),"",'Control Entry'!J37) | H31: |
B32: ='Control Entry'!N37 | C32: ='Control Entry'!O37 | E32: =IF(ISBLANK('Control Entry'!H37),"",'Control Entry'!H37) | F32: =IF(ISBLANK('Control Entry'!K37),"",'Control Entry'!K37) | H32: | | M32: Template Revised: | Q32: ='Control Entry'!B3 -> 44700
A33: Report results or abandonment through registration email link | M33: Card Revised: | Q33: ='Control Entry'!B4 -> 44745

Sheet Control Card #3
A1: At each control, please have signed or answer question and note time of day | H1: |
A2: DIST (km) | B2: Open | C2: Close | D2: Locale | E2: Establishment | F2: Signature/Answer | G2: Time of Passage | H2: | | K2: Founding member of LES RANDONNEURS MONDIAUX (1983)
B3: ='Control Entry'!N41 | C3: ='Control Entry'!O41 | E3: =IF(ISBLANK('Control Entry'!F41),"",'Control Entry'!F41) | F3: =IF(ISBLANK('Control Entry'!I41),"",'Control Entry'!I41) | H3: | | O3: Control Card | S3: =IF('Control Entry'!D41<>0,"#3",IF(AND('Control Entry'!D41=0,'Control Entry'!D54<>0),"#1",""))
A4: =IF(ISBLANK('Control Entry'!D41),"",'Control Entry'!D41) | B4: ='Control Entry'!N41 | C4: ='Control Entry'!O41 | D4: =IF(ISBLANK('Control Entry'!E41),"",'Control Entry'!E41) | E4: =IF(ISBLANK('Control Entry'!G41),"",'Control Entry'!G41) | F4: =IF(ISBLANK('Control Entry'!J41),"",'Control Entry'!J41) | H4: | | M4: =IF(ISBLANK(brevet),"",brevet&" km Randonnée") -> 600 km Randonnée
B5: ='Control Entry'!N41 | C5: ='Control Entry'!O41 | E5: =IF(ISBLANK('Control Entry'!H41),"",'Control Entry'!H41) | F5: =IF(ISBLANK('Control Entry'!K41),"",'Control Entry'!K41) | H5: | | N5: Brevet No. | P5: =IF(ISBLANK(Brevet_Number),"",Brevet_Number) -> 5161 | R5: =IF(ISBLANK('Control Entry'!$B10),"",'Control Entry'!$B10) -> 44758
B6: ='Control Entry'!N42 | C6: ='Control Entry'!O42 | E6: =IF(ISBLANK('Control Entry'!F42),"",'Control Entry'!F42) | F6: =IF(ISBLANK('Control Entry'!I42),"",'Control Entry'!I42) | H6: | | L6: =IF(ISBLANK(Brevet_Description),"",Brevet_Description) -> Hats Off East Coaster
A7: =IF(ISBLANK('Control Entry'!D42),"",'Control Entry'!D42) | B7: ='Control Entry'!N42 | C7: ='Control Entry'!O42 | D7: =IF(ISBLANK('Control Entry'!E42),"",'Control Entry'!E42) | E7: =IF(ISBLANK('Control Entry'!G42),"",'Control Entry'!G42) | F7: =IF(ISBLANK('Control Entry'!J42),"",'Control Entry'!J42) | H7: |
B8: ='Control Entry'!N42 | C8: ='Control Entry'!O42 | E8: =IF(ISBLANK('Control Entry'!H42),"",'Control Entry'!H42) | F8: =IF(ISBLANK('Control Entry'!K42),"",'Control Entry'!K42) | H8: | | J8: Name | S8: Member #
B9: ='Control Entry'!N43 | C9: ='Control Entry'!O43 | E9: =IF(ISBLANK('Control Entry'!F43),"",'Control Entry'!F43) | F9: =IF(ISBLANK('Control Entry'!I43),"",'Control Entry'!I43) | H9: | | J9: Address | L9: (only add if change needed to database)
A10: =IF(ISBLANK('Control Entry'!D43),"",'Control Entry'!D43) | B10: ='Control Entry'!N43 | C10: ='Control Entry'!O43 | D10: =IF(ISBLANK('Control Entry'!E43),"",'Control Entry'!E43) | E10: =IF(ISBLANK('Control Entry'!G43),"",'Control Entry'!G43) | F10: =IF(ISBLANK('Control Entry'!J43),"",'Control Entry'!J43) | H10: |
B11: ='Control Entry'!N43 | C11: ='Control Entry'!O43 | E11: =IF(ISBLANK('Control Entry'!H43),"",'Control Entry'!H43) | F11: =IF(ISBLANK('Control Entry'!K43),"",'Control Entry'!K43) | H11: | | J11: City | P11: Province/State
B12: ='Control Entry'!N44 | C12: ='Control Entry'!O44 | E12: =IF(ISBLANK('Control Entry'!F44),"",'Control Entry'!F44) | F12: =IF(ISBLANK('Control Entry'!I44),"",'Control Entry'!I44) | H12: | | J12: Country | P12: Postal Code
A13: =IF(ISBLANK('Control Entry'!D44),"",'Control Entry'!D44) | B13: ='Control Entry'!N44 | C13: ='Control Entry'!O44 | D13: =IF(ISBLANK('Control Entry'!E44),"",'Control Entry'!E44) | E13: =IF(ISBLANK('Control Entry'!G44),"",'Control Entry'!G44) | F13: =IF(ISBLANK('Control Entry'!J44),"",'Control Entry'!J44) | H13: | | J13: Telephone | P13: email
B14: ='Control Entry'!N44 | C14: ='Control Entry'!O44 | E14: =IF(ISBLANK('Control Entry'!H44),"",'Control Entry'!H44) | F14: =IF(ISBLANK('Control Entry'!K44),"",'Control Entry'!K44) | H14: |
B15: ='Control Entry'!N45 | C15: ='Control Entry'!O45 | E15: =IF(ISBLANK('Control Entry'!F45),"",'Control Entry'!F45) | F15: =IF(ISBLANK('Control Entry'!I45),"",'Control Entry'!I45) | H15: | | L15: Ride Day Emergency Contact
A16: =IF(ISBLANK('Control Entry'!D45),"",'Control Entry'!D45) | B16: ='Control Entry'!N45 | C16: ='Control Entry'!O45 | D16: =IF(ISBLANK('Control Entry'!E45),"",'Control Entry'!E45) | E16: =IF(ISBLANK('Control Entry'!G45),"",'Control Entry'!G45) | F16: =IF(ISBLANK('Control Entry'!J45),"",'Control Entry'!J45) | H16: |
B17: ='Control Entry'!N45 | C17: ='Control Entry'!O45 | E17: =IF(ISBLANK('Control Entry'!H45),"",'Control Entry'!H45) | F17: =IF(ISBLANK('Control Entry'!K45),"",'Control Entry'!K45) | H17: |
B18: ='Control Entry'!N46 | C18: ='Control Entry'!O46 | E18: =IF(ISBLANK('Control Entry'!F46),"",'Control Entry'!F46) | F18: =IF(ISBLANK('Control Entry'!I46),"",'Control Entry'!I46) | H18: |
A19: =IF(ISBLANK('Control Entry'!D46),"",'Control Entry'!D46) | B19: ='Control Entry'!N46 | C19: ='Control Entry'!O46 | D19: =IF(ISBLANK('Control Entry'!E46),"",'Control Entry'!E46) | E19: =IF(ISBLANK('Control Entry'!G46),"",'Control Entry'!G46) | F19: =IF(ISBLANK('Control Entry'!J46),"",'Control Entry'!J46) | H19: |
B20: ='Control Entry'!N46 | C20: ='Control Entry'!O46 | E20: =IF(ISBLANK('Control Entry'!H46),"",'Control Entry'!H46) | F20: =IF(ISBLANK('Control Entry'!K46),"",'Control Entry'!K46) | H20: | | J20: Start Date | L20: =IF(ISBLANK('Control Entry'!B12),"",'Control Entry'!B12) -> 44758 | P20: Start time | S20: =IF(ISBLANK('Control Entry'!B13),"",'Control Entry'!B13) -> 0.25
B21: ='Control Entry'!N47 | C21: ='Control Entry'!O47 | E21: =IF(ISBLANK('Control Entry'!F47),"",'Control Entry'!F47) | F21: =IF(ISBLANK('Control Entry'!I47),"",'Control Entry'!I47) | H21: | | J21: SIGN HERE AND RECORD RESULTS ON CARD #1
A22: =IF(ISBLANK('Control Entry'!D47),"",'Control Entry'!D47) | B22: ='Control Entry'!N47 | C22: ='Control Entry'!O47 | D22: =IF(ISBLANK('Control Entry'!E47),"",'Control Entry'!E47) | E22: =IF(ISBLANK('Control Entry'!G47),"",'Control Entry'!G47) | F22: =IF(ISBLANK('Control Entry'!J47),"",'Control Entry'!J47) | H22: | | J22: Finish Date | P22: Finish time
B23: ='Control Entry'!N47 | C23: ='Control Entry'!O47 | E23: =IF(ISBLANK('Control Entry'!H47),"",'Control Entry'!H47) | F23: =IF(ISBLANK('Control Entry'!K47),"",'Control Entry'!K47) | H23: |
B24: ='Control Entry'!N48 | C24: ='Control Entry'!O48 | E24: =IF(ISBLANK('Control Entry'!F48),"",'Control Entry'!F48) | F24: =IF(ISBLANK('Control Entry'!I48),"",'Control Entry'!I48) | H24: | | P24: Elapsed time
A25: =IF(ISBLANK('Control Entry'!D48),"",'Control Entry'!D48) | B25: ='Control Entry'!N48 | C25: ='Control Entry'!O48 | D25: =IF(ISBLANK('Control Entry'!E48),"",'Control Entry'!E48) | E25: =IF(ISBLANK('Control Entry'!G48),"",'Control Entry'!G48) | F25: =IF(ISBLANK('Control Entry'!J48),"",'Control Entry'!J48) | H25: | | J25: Rider's signature at completion
B26: ='Control Entry'!N48 | C26: ='Control Entry'!O48 | E26: =IF(ISBLANK('Control Entry'!H48),"",'Control Entry'!H48) | F26: =IF(ISBLANK('Control Entry'!K48),"",'Control Entry'!K48) | H26: |
B27: ='Control Entry'!N49 | C27: ='Control Entry'!O49 | E27: =IF(ISBLANK('Control Entry'!F49),"",'Control Entry'!F49) | F27: =IF(ISBLANK('Control Entry'!I49),"",'Control Entry'!I49) | H27: | | K27: Bicycle Type Circle one | M27: -------> | N27: Single | P27: Tandem | R27: Fixed | S27: Recumbent | U27: Velomobile
A28: =IF(ISBLANK('Control Entry'!D49),"",'Control Entry'!D49) | B28: ='Control Entry'!N49 | C28: ='Control Entry'!O49 | D28: =IF(ISBLANK('Control Entry'!E49),"",'Control Entry'!E49) | E28: =IF(ISBLANK('Control Entry'!G49),"",'Control Entry'!G49) | F28: =IF(ISBLANK('Control Entry'!J49),"",'Control Entry'!J49) | H28: |
B29: ='Control Entry'!N49 | C29: ='Control Entry'!O49 | E29: =IF(ISBLANK('Control Entry'!H49),"",'Control Entry'!H49) | F29: =IF(ISBLANK('Control Entry'!K49),"",'Control Entry'!K49) | H29: | | M29: Randonneur Committee Authorization
B30: ='Control Entry'!N50 | C30: ='Control Entry'!O50 | E30: =IF(ISBLANK('Control Entry'!F50),"",'Control Entry'!F50) | F30: =IF(ISBLANK('Control Entry'!I50),"",'Control Entry'!I50) | H30: |
A31: =IF(ISBLANK('Control Entry'!D50),"",'Control Entry'!D50) | B31: ='Control Entry'!N50 | C31: ='Control Entry'!O50 | D31: =IF(ISBLANK('Control Entry'!E50),"",'Control Entry'!E50) | E31: =IF(ISBLANK('Control Entry'!G50),"",'Control Entry'!G50) | F31: =IF(ISBLANK('Control Entry'!J50),"",'Control Entry'!J50) | H31: |
B32: ='Control Entry'!N50 | C32: ='Control Entry'!O50 | E32: =IF(ISBLANK('Control Entry'!H50),"",'Control Entry'!H50) | F32: =IF(ISBLANK('Control Entry'!K50),"",'Control Entry'!K50) | H32: | | M32: Template Revised: | Q32: ='Control Entry'!B3 -> 44700
A33: Report results or abandonment through registration email link | M33: Card Revised: | Q33: ='Control Entry'!B4 -> 44745

Sheet Control Card #4
A1: At each control, please have signed or answer question and note time of day | H1: |
A2: DIST (km) | B2: Open | C2: Close | D2: Locale | E2: Establishment | F2: Signature/Answer | G2: Time of Passage | H2: | | K2: Founding member of LES RANDONNEURS MONDIAUX (1983)
B3: ='Control Entry'!N54 | C3: ='Control Entry'!O54 | E3: =IF(ISBLANK('Control Entry'!F54),"",'Control Entry'!F54) | F3: =IF(ISBLANK('Control Entry'!I54),"",'Control Entry'!I54) | H3: | | O3: Control Card | S3: =IF(AND('Control Entry'!D41=0,'Control Entry'!D54<>0),"#2",IF('Control Entry'!D54=0,"","#4"))
A4: =IF(ISBLANK('Control Entry'!D54),"",'Control Entry'!D54) | B4: ='Control Entry'!N54 | C4: ='Control Entry'!O54 | D4: =IF(ISBLANK('Control Entry'!E54),"",'Control Entry'!E54) | E4: =IF(ISBLANK('Control Entry'!G54),"",'Control Entry'!G54) | F4: =IF(ISBLANK('Control Entry'!J54),"",'Control Entry'!J54) | H4: | | M4: =IF(ISBLANK(brevet),"",brevet&" km Randonnée") -> 600 km Randonnée
B5: ='Control Entry'!N54 | C5: ='Control Entry'!O54 | E5: =IF(ISBLANK('Control Entry'!H54),"",'Control Entry'!H54) | F5: =IF(ISBLANK('Control Entry'!K54),"",'Control Entry'!K54) | H5: | | N5: Brevet No. | P5: =IF(ISBLANK(Brevet_Number),"",Brevet_Number) -> 5161 | R5: =IF(ISBLANK('Control Entry'!$B10),"",'Control Entry'!$B10) -> 44758
B6: ='Control Entry'!N55 | C6: ='Control Entry'!O55 | E6: =IF(ISBLANK('Control Entry'!F55),"",'Control Entry'!F55) | F6: =IF(ISBLANK('Control Entry'!I55),"",'Control Entry'!I55) | H6: | | L6: =IF(ISBLANK(Brevet_Description),"",Brevet_Description) -> Hats Off East Coaster
A7: =IF(ISBLANK('Control Entry'!D55),"",'Control Entry'!D55) | B7: ='Control Entry'!N55 | C7: ='Control Entry'!O55 | D7: =IF(ISBLANK('Control Entry'!E55),"",'Control Entry'!E55) | E7: =IF(ISBLANK('Control Entry'!G55),"",'Control Entry'!G55) | F7: =IF(ISBLANK('Control Entry'!J55),"",'Control Entry'!J55) | H7: |
B8: ='Control Entry'!N55 | C8: ='Control Entry'!O55 | E8: =IF(ISBLANK('Control Entry'!H55),"",'Control Entry'!H55) | F8: =IF(ISBLANK('Control Entry'!K55),"",'Control Entry'!K55) | H8: | | J8: Name | S8: Member #
B9: ='Control Entry'!N56 | C9: ='Control Entry'!O56 | E9: =IF(ISBLANK('Control Entry'!F56),"",'Control Entry'!F56) | F9: =IF(ISBLANK('Control Entry'!I56),"",'Control Entry'!I56) | H9: | | J9: Address | L9: (only add if change needed to database)
A10: =IF(ISBLANK('Control Entry'!D56),"",'Control Entry'!D56) | B10: ='Control Entry'!N56 | C10: ='Control Entry'!O56 | D10: =IF(ISBLANK('Control Entry'!E56),"",'Control Entry'!E56) | E10: =IF(ISBLANK('Control Entry'!G56),"",'Control Entry'!G56) | F10: =IF(ISBLANK('Control Entry'!J56),"",'Control Entry'!J56) | H10: |
B11: ='Control Entry'!N56 | C11: ='Control Entry'!O56 | E11: =IF(ISBLANK('Control Entry'!H56),"",'Control Entry'!H56) | F11: =IF(ISBLANK('Control Entry'!K56),"",'Control Entry'!K56) | H11: | | J11: City | P11: Province/State
B12: ='Control Entry'!N57 | C12: ='Control Entry'!O57 | E12: =IF(ISBLANK('Control Entry'!F57),"",'Control Entry'!F57) | F12: =IF(ISBLANK('Control Entry'!I57),"",'Control Entry'!I57) | H12: | | J12: Country | P12: Postal Code
A13: =IF(ISBLANK('Control Entry'!D57),"",'Control Entry'!D57) | B13: ='Control Entry'!N57 | C13: ='Control Entry'!O57 | D13: =IF(ISBLANK('Control Entry'!E57),"",'Control Entry'!E57) | E13: =IF(ISBLANK('Control Entry'!G57),"",'Control Entry'!G57) | F13: =IF(ISBLANK('Control Entry'!J57),"",'Control Entry'!J57) | H13: | | J13: Telephone | P13: email
B14: ='Control Entry'!N57 | C14: ='Control Entry'!O57 | E14: =IF(ISBLANK('Control Entry'!H57),"",'Control Entry'!H57) | F14: =IF(ISBLANK('Control Entry'!K57),"",'Control Entry'!K57) | H14: |
B15: ='Control Entry'!N58 | C15: ='Control Entry'!O58 | E15: =IF(ISBLANK('Control Entry'!F58),"",'Control Entry'!F58) | F15: =IF(ISBLANK('Control Entry'!I58),"",'Control Entry'!I58) | H15: | | L15: Ride Day Emergency Contact
A16: =IF(ISBLANK('Control Entry'!D58),"",'Control Entry'!D58) | B16: ='Control Entry'!N58 | C16: ='Control Entry'!O58 | D16: =IF(ISBLANK('Control Entry'!E58),"",'Control Entry'!E58) | E16: =IF(ISBLANK('Control Entry'!G58),"",'Control Entry'!G58) | F16: =IF(ISBLANK('Control Entry'!J58),"",'Control Entry'!J58) | H16: |
B17: ='Control Entry'!N58 | C17: ='Control Entry'!O58 | E17: =IF(ISBLANK('Control Entry'!H58),"",'Control Entry'!H58) | F17: =IF(ISBLANK('Control Entry'!K58),"",'Control Entry'!K58) | H17: |
B18: ='Control Entry'!N59 | C18: ='Control Entry'!O59 | E18: =IF(ISBLANK('Control Entry'!F59),"",'Control Entry'!F59) | F18: =IF(ISBLANK('Control Entry'!I59),"",'Control Entry'!I59) | H18: |
A19: =IF(ISBLANK('Control Entry'!D59),"",'Control Entry'!D59) | B19: ='Control Entry'!N59 | C19: ='Control Entry'!O59 | D19: =IF(ISBLANK('Control Entry'!E59),"",'Control Entry'!E59) | E19: =IF(ISBLANK('Control Entry'!G59),"",'Control Entry'!G59) | F19: =IF(ISBLANK('Control Entry'!J59),"",'Control Entry'!J59) | H19: |
B20: ='Control Entry'!N59 | C20: ='Control Entry'!O59 | E20: =IF(ISBLANK('Control Entry'!H59),"",'Control Entry'!H59) | F20: =IF(ISBLANK('Control Entry'!K59),"",'Control Entry'!K59) | H20: | | J20: Start Date | L20: =IF(ISBLANK('Control Entry'!B12),"",'Control Entry'!B12) -> 44758 | P20: Start time | S20: =IF(ISBLANK('Control Entry'!B13),"",'Control Entry'!B13) -> 0.25
B21: ='Control Entry'!N60 | C21: ='Control Entry'!O60 | E21: =IF(ISBLANK('Control Entry'!F60),"",'Control Entry'!F60) | F21: =IF(ISBLANK('Control Entry'!I60),"",'Control Entry'!I60) | H21: | | J21: SIGN HERE AND RECORD RESULTS ON CARD #1
A22: =IF(ISBLANK('Control Entry'!D60),"",'Control Entry'!D60) | B22: ='Control Entry'!N60 | C22: ='Control Entry'!O60 | D22: =IF(ISBLANK('Control Entry'!E60),"",'Control Entry'!E60) | E22: =IF(ISBLANK('Control Entry'!G60),"",'Control Entry'!G60) | F22: =IF(ISBLANK('Control Entry'!J60),"",'Control Entry'!J60) | H22: | | J22: Finish Date | P22: Finish time
B23: ='Control Entry'!N60 | C23: ='Control Entry'!O60 | E23: =IF(ISBLANK('Control Entry'!H60),"",'Control Entry'!H60) | F23: =IF(ISBLANK('Control Entry'!K60),"",'Control Entry'!K60) | H23: |
