Workbook
Name HTML_1: 'Cue sheet exported from RwGPS'!$A$5:$D$246
Name HTML_all: 'Cue sheet exported from RwGPS'!$A$1:$D$247
Name HTML_tables: 'Cue sheet exported from RwGPS'!#REF!

Sheet BCR Cue Sheet
A1: LM Spring 600 - Hope and Desperation
A2: Date: Saturday 2025-05-24 06:00
A3: Organizer: Dara Poon
A4: Start: McDonald's, Lougheed Hwy & Boundary Rd, Vancouver
A5: Finish: McDonald's, Lougheed Hwy & Boundary Rd, Vancouver
A6: Dist. (cum.) | B6: Turn | C6: Direction | D6: Route Description | E6: Dist.(int.)
A7: =IF(ISNUMBER('Cue sheet exported from RwGPS'!D3), 'Cue sheet exported from RwGPS'!D3, "") | D7: Start
A8: =IF(ISNUMBER('Cue sheet exported from RwGPS'!E4), 'Cue sheet exported from RwGPS'!E4, "") -> 0 | B8: =_xlfn.SWITCH('Cue sheet exported from RwGPS'!C4, "Left", "L", "Sharp Left", "L", "Slight Left", "L", "Right", "R", "Sharp Right", "R", "Slight Right", "R", "Straight", "S", "U turn", "U", "Control", IF('Cue sheet exported from RwGPS'!E5='Cue sheet exported from RwGPS'!E4, "", "S"), "") -> L | C8: W | D8: =IF(ISBLANK('Cue sheet exported from RwGPS'!D4), "Finish control", 'Cue sheet exported from RwGPS'!D4) -> Turn left onto East 4th Avenue | E8: =IF(ISBLANK('Cue sheet exported from RwGPS'!E5), "", 'Cue sheet exported from RwGPS'!E5-'Cue sheet exported from RwGPS'!E4) -> 0.1
A9: =IF(ISNUMBER('Cue sheet exported from RwGPS'!E5), 'Cue sheet exported from RwGPS'!E5, "") -> 0.1 | B9: =_xlfn.SWITCH('Cue sheet exported from RwGPS'!C5, "Left", "L", "Sharp Left", "L", "Slight Left", "L", "Right", "R", "Sharp Right", "R", "Slight Right", "R", "Straight", "S", "U turn", "U", "Control", IF('Cue sheet exported from RwGPS'!E6='Cue sheet exported from RwGPS'!E5, "", "S"), "") -> R | C9: N | D9: =IF(ISBLANK('Cue sheet exported from RwGPS'!D5), "Finish control", 'Cue sheet exported from RwGPS'!D5) -> Continue onto Kootenay Street | E9: =IF(ISBLANK('Cue sheet exported from RwGPS'!E6), "", 'Cue sheet exported from RwGPS'!E6-'Cue sheet exported from RwGPS'!E5) -> 0.2
A10: =IF(ISNUMBER('Cue sheet exported from RwGPS'!E6), 'Cue sheet exported from RwGPS'!E6, "") -> 0.3 | B10: =_xlfn.SWITCH('Cue sheet exported from RwGPS'!C6, "Left", "L", "Sharp Left", "L", "Slight Left", "L", "Right", "R", "Sharp Right", "R", "Slight Right", "R", "Straight", "S", "U turn", "U", "Control", IF('Cue sheet exported from RwGPS'!E7='Cue sheet exported from RwGPS'!E6, "", "S"), "") -> R | C10: E | D10: =IF(ISBLANK('Cue sheet exported from RwGPS'!D6), "Finish control", 'Cue sheet exported from RwGPS'!D6) -> Continue onto East 2nd Avenue | E10: =IF(ISBLANK('Cue sheet exported from RwGPS'!E7), "", 'Cue sheet exported from RwGPS'!E7-'Cue sheet exported from RwGPS'!E6) -> 0.2
A11: =IF(ISNUMBER('Cue sheet exported from RwGPS'!E7), 'Cue sheet exported from RwGPS'!E7, "") -> 0.5 | B11: =_xlfn.SWITCH('Cue sheet exported from RwGPS'!C7, "Left", "L", "Sharp Left", "L", "Slight Left", "L", "Right", "R", "Sharp Right", "R", "Slight Right", "R", "Straight", "S", "U turn", "U", "Control", IF('Cue sheet exported from RwGPS'!E8='Cue sheet exported from RwGPS'!E7, "", "S"), "") -> L | C11: N | D11: =IF(ISBLANK('Cue sheet exported from RwGPS'!D7), "Finish control", 'Cue sheet exported from RwGPS'!D7) -> Turn left onto Boundary Road | E11: =IF(ISBLANK('Cue sheet exported from RwGPS'!E8), "", 'Cue sheet exported from RwGPS'!E8-'Cue sheet exported from RwGPS'!E7) -> 1.1
A12: =IF(ISNUMBER('Cue sheet exported from RwGPS'!E8), 'Cue sheet exported from RwGPS'!E8, "") -> 1.6 | B12: =_xlfn.SWITCH('Cue sheet exported from RwGPS'!C8, "Left", "L", "Sharp Left", "L", "Slight Left", "L", "Right", "R", "Sharp Right", "R", "Slight Right", "R", "Straight", "S", "U turn", "U", "Control", IF('Cue sheet exported from RwGPS'!E9='Cue sheet exported from RwGPS'!E8, "", "S"), "") -> L | C12: W | D12: =IF(ISBLANK('Cue sheet exported from RwGPS'!D8), "Finish control", 'Cue sheet exported from RwGPS'!D8) -> Turn left onto Adanac St/​Adanac Bikeway | E12: =IF(ISBLANK('Cue sheet exported from RwGPS'!E9), "", 'Cue sheet exported from RwGPS'!E9-'Cue sheet exported from RwGPS'!E8) -> 4
A13: =IF(ISNUMBER('Cue sheet exported from RwGPS'!E9), 'Cue sheet exported from RwGPS'!E9, "") -> 5.6 | B13: =_xlfn.SWITCH('Cue sheet exported from RwGPS'!C9, "Left", "L", "Sharp Left", "L", "Slight Left", "L", "Right", "R", "Sharp Right", "R", "Slight Right", "R", "Straight", "S", "U turn", "U", "Control", IF('Cue sheet exported from RwGPS'!E10='Cue sheet exported from RwGPS'!E9, "", "S"), "") -> L | C13: S | D13: =IF(ISBLANK('Cue sheet exported from RwGPS'!D9), "Finish control", 'Cue sheet exported from RwGPS'!D9) -> Turn left onto Vernon Drive | E13: =IF(ISBLANK('Cue sheet exported from RwGPS'!E10), "", 'Cue sheet exported from RwGPS'!E10-'Cue sheet exported from RwGPS'!E9) -> 0.1
A14: =IF(ISNUMBER('Cue sheet exported from RwGPS'!E10), 'Cue sheet exported from RwGPS'!E10, "") -> 5.7 | B14: =_xlfn.SWITCH('Cue sheet exported from RwGPS'!C10, "Left", "L", "Sharp Left", "L", "Slight Left", "L", "Right", "R", "Sharp Right", "R", "Slight Right", "R", "Straight", "S", "U turn", "U", "Control", IF('Cue sheet exported from RwGPS'!E11='Cue sheet exported from RwGPS'!E10, "", "S"), "") -> R | C14: W | D14: =IF(ISBLANK('Cue sheet exported from RwGPS'!D10), "Finish control", 'Cue sheet exported from RwGPS'!D10) -> Turn right onto Union Street | E14: =IF(ISBLANK('Cue sheet exported from RwGPS'!E11), "", 'Cue sheet exported from RwGPS'!E11-'Cue sheet exported from RwGPS'!E10) -> 0.6
A15: =IF(ISNUMBER('Cue sheet exported from RwGPS'!E11), 'Cue sheet exported from RwGPS'!E11, "") -> 6.3 | B15: =_xlfn.SWITCH('Cue sheet exported from RwGPS'!C11, "Left", "L", "Sharp Left", "L", "Slight Left", "L", "Right", "R", "Sharp Right", "R", "Slight Right", "R", "Straight", "S", "U turn", "U", "Control", IF('Cue sheet exported from RwGPS'!E12='Cue sheet exported from RwGPS'!E11, "", "S"), "") -> S | C15: W | D15: =IF(ISBLANK('Cue sheet exported from RwGPS'!D11), "Finish control", 'Cue sheet exported from RwGPS'!D11) -> Go straight through park path | E15: =IF(ISBLANK('Cue sheet exported from RwGPS'!E12), "", 'Cue sheet exported from RwGPS'!E12-'Cue sheet exported from RwGPS'!E11) -> 0.9
A16: =IF(ISNUMBER('Cue sheet exported from RwGPS'!E12), 'Cue sheet exported from RwGPS'!E12, "") -> 7.2 | B16: =_xlfn.SWITCH('Cue sheet exported from RwGPS'!C12, "Left", "L", "Sharp Left", "L", "Slight Left", "L", "Right", "R", "Sharp Right", "R", "Slight Right", "R", "Straight", "S", "U turn", "U", "Control", IF('Cue sheet exported from RwGPS'!E13='Cue sheet exported from RwGPS'!E12, "", "S"), "") -> L | C16: W | D16: =IF(ISBLANK('Cue sheet exported from RwGPS'!D12), "Finish control", 'Cue sheet exported from RwGPS'!D12) -> Keep left onto Dunsmuir Viaduct | E16: =IF(ISBLANK('Cue sheet exported from RwGPS'!E13), "", 'Cue sheet exported from RwGPS'!E13-'Cue sheet exported from RwGPS'!E12) -> 1.7
A17: =IF(ISNUMBER('Cue sheet exported from RwGPS'!E13), 'Cue sheet exported from RwGPS'!E13, "") -> 8.9 | B17: =_xlfn.SWITCH('Cue sheet exported from RwGPS'!C13, "Left", "L", "Sharp Left", "L", "Slight Left", "L", "Right", "R", "Sharp Right", "R", "Slight Right", "R", "Straight", "S", "U turn", "U", "Control", IF('Cue sheet exported from RwGPS'!E14='Cue sheet exported from RwGPS'!E13, "", "S"), "") -> S | C17: NW | D17: =IF(ISBLANK('Cue sheet exported from RwGPS'!D13), "Finish control", 'Cue sheet exported from RwGPS'!D13) -> Continue onto Melville Street | E17: =IF(ISBLANK('Cue sheet exported from RwGPS'!E14), "", 'Cue sheet exported from RwGPS'!E14-'Cue sheet exported from RwGPS'!E13) -> 0.7
A18: =IF(ISNUMBER('Cue sheet exported from RwGPS'!E14), 'Cue sheet exported from RwGPS'!E14, "") -> 9.6 | B18: =_xlfn.SWITCH('Cue sheet exported from RwGPS'!C14, "Left", "L", "Sharp Left", "L", "Slight Left", "L", "Right", "R", "Sharp Right", "R", "Slight Right", "R", "Straight", "S", "U turn", "U", "Control", IF('Cue sheet exported from RwGPS'!E15='Cue sheet exported from RwGPS'!E14, "", "S"), "") -> L | C18: NW | D18: =IF(ISBLANK('Cue sheet exported from RwGPS'!D14), "Finish control", 'Cue sheet exported from RwGPS'!D14) -> Turn sharp left onto West Pender Street | E18: =IF(ISBLANK('Cue sheet exported from RwGPS'!E15), "", 'Cue sheet exported from RwGPS'!E15-'Cue sheet exported from RwGPS'!E14) -> 0.3
A19: =IF(ISNUMBER('Cue sheet exported from RwGPS'!E15), 'Cue sheet exported from RwGPS'!E15, "") -> 9.9 | B19: =_xlfn.SWITCH('Cue sheet exported from RwGPS'!C15, "Left", "L", "Sharp Left", "L", "Slight Left", "L", "Right", "R", "Sharp Right", "R", "Slight Right", "R", "Straight", "S", "U turn", "U", "Control", IF('Cue sheet exported from RwGPS'!E16='Cue sheet exported from RwGPS'!E15, "", "S"), "") -> R | C19: NW | D19: =IF(ISBLANK('Cue sheet exported from RwGPS'!D15), "Finish control", 'Cue sheet exported from RwGPS'!D15) -> Turn slight right onto West Georgia Street | E19: =IF(ISBLANK('Cue sheet exported from RwGPS'!E16), "", 'Cue sheet exported from RwGPS'!E16-'Cue sheet exported from RwGPS'!E15) -> 0.6
... A32: =IF(ISNUMBER('Cue sheet exported from RwGPS'!E28), 'Cue sheet exported from RwGPS'!E28, "") -> 66 | B32: =_xlfn.SWITCH('Cue sheet exported from RwGPS'!C28, "Left", "L", "Sharp Left", "L", "Slight Left", "L", "Right", "R", "Sharp Right", "R", "Slight Right", "R", "Straight", "S", "U turn", "U", "Control", IF('Cue sheet exported from RwGPS'!E29='Cue sheet exported from RwGPS'!E28, "", "S"), "") -> R | C32: N | D32: =IF(ISBLANK('Cue sheet exported from RwGPS'!D28), "Finish control", 'Cue sheet exported from RwGPS'!D28) -> Exit to Outbound Station cafe and control point | E32: =IF(ISBLANK('Cue sheet exported from RwGPS'!E29), "", 'Cue sheet exported from RwGPS'!E29-'Cue sheet exported from RwGPS'!E28) -> 0.1
A33: =IF(ISNUMBER('Cue sheet exported from RwGPS'!E29), 'Cue sheet exported from RwGPS'!E29, "") -> 66.1 | B33: =_xlfn.SWITCH('Cue sheet exported from RwGPS'!C29, "Left", "L", "Sharp Left", "L", "Slight Left", "L", "Right", "R", "Sharp Right", "R", "Slight Right", "R", "Straight", "S", "U turn", "U", "Control", IF('Cue sheet exported from RwGPS'!E30='Cue sheet exported from RwGPS'!E29, "", "S"), "") -> S | D33: =IF(ISBLANK('Cue sheet exported from RwGPS'!D29), "Finish control", 'Cue sheet exported from RwGPS'!D29) -> Control 1: Outbound Station - Staffed | E33: =IF(ISBLANK('Cue sheet exported from RwGPS'!E30), "", 'Cue sheet exported from RwGPS'!E30-'Cue sheet exported from RwGPS'!E29) -> 0.4
A34: =IF(ISNUMBER('Cue sheet exported from RwGPS'!E30), 'Cue sheet exported from RwGPS'!E30, "") -> 66.5 | B34: =_xlfn.SWITCH('Cue sheet exported from RwGPS'!C30, "Left", "L", "Sharp Left", "L", "Slight Left", "L", "Right", "R", "Sharp Right", "R", "Slight Right", "R", "Straight", "S", "U turn", "U", "Control", IF('Cue sheet exported from RwGPS'!E31='Cue sheet exported from RwGPS'!E30, "", "S"), "") -> R | C34: E | D34: =IF(ISBLANK('Cue sheet exported from RwGPS'!D30), "Finish control", 'Cue sheet exported from RwGPS'!D30) -> Turn right onto Copper Drive | E34: =IF(ISBLANK('Cue sheet exported from RwGPS'!E31), "", 'Cue sheet exported from RwGPS'!E31-'Cue sheet exported from RwGPS'!E30) -> 0.1
A35: =IF(ISNUMBER('Cue sheet exported from RwGPS'!E31), 'Cue sheet exported from RwGPS'!E31, "") -> 66.6 | B35: =_xlfn.SWITCH('Cue sheet exported from RwGPS'!C31, "Left", "L", "Sharp Left", "L", "Slight Left", "L", "Right", "R", "Sharp Right", "R", "Slight Right", "R", "Straight", "S", "U turn", "U", "Control", IF('Cue sheet exported from RwGPS'!E32='Cue sheet exported from RwGPS'!E31, "", "S"), "") -> U | C35: W | D35: =IF(ISBLANK('Cue sheet exported from RwGPS'!D31), "Finish control", 'Cue sheet exported from RwGPS'!D31) -> Make a U-turn | E35: =IF(ISBLANK('Cue sheet exported from RwGPS'!E32), "", 'Cue sheet exported from RwGPS'!E32-'Cue sheet exported from RwGPS'!E31) -> 0.2
A36: =IF(ISNUMBER('Cue sheet exported from RwGPS'!E32), 'Cue sheet exported from RwGPS'!E32, "") -> 66.8 | B36: =_xlfn.SWITCH('Cue sheet exported from RwGPS'!C32, "Left", "L", "Sharp Left", "L", "Slight Left", "L", "Right", "R", "Sharp Right", "R", "Slight Right", "R", "Straight", "S", "U turn", "U", "Control", IF('Cue sheet exported from RwGPS'!E33='Cue sheet exported from RwGPS'!E32, "", "S"), "") -> L | C36: S | D36: =IF(ISBLANK('Cue sheet exported from RwGPS'!D32), "Finish control", 'Cue sheet exported from RwGPS'!D32) -> Turn left onto Sea-to-Sky Highway southbound | E36: =IF(ISBLANK('Cue sheet exported from RwGPS'!E33), "", 'Cue sheet exported from RwGPS'!E33-'Cue sheet exported from RwGPS'!E32) -> 29.4
A37: =IF(ISNUMBER('Cue sheet exported from RwGPS'!E33), 'Cue sheet exported from RwGPS'!E33, "") -> 96.2 | B37: =_xlfn.SWITCH('Cue sheet exported from RwGPS'!C33, "Left", "L", "Sharp Left", "L", "Slight Left", "L", "Right", "R", "Sharp Right", "R", "Slight Right", "R", "Straight", "S", "U turn", "U", "Control", IF('Cue sheet exported from RwGPS'!E34='Cue sheet exported from RwGPS'!E33, "", "S"), "") -> R | C37: SW | D37: =IF(ISBLANK('Cue sheet exported from RwGPS'!D33), "Finish control", 'Cue sheet exported from RwGPS'!D33) -> Take the Horseshoe Bay Dr exit | E37: =IF(ISBLANK('Cue sheet exported from RwGPS'!E34), "", 'Cue sheet exported from RwGPS'!E34-'Cue sheet exported from RwGPS'!E33) -> 2.6
A38: =IF(ISNUMBER('Cue sheet exported from RwGPS'!E34), 'Cue sheet exported from RwGPS'!E34, "") -> 98.8 | B38: =_xlfn.SWITCH('Cue sheet exported from RwGPS'!C34, "Left", "L", "Sharp Left", "L", "Slight Left", "L", "Right", "R", "Sharp Right", "R", "Slight Right", "R", "Straight", "S", "U turn", "U", "Control", IF('Cue sheet exported from RwGPS'!E35='Cue sheet exported from RwGPS'!E34, "", "S"), "") -> R | C38: W | D38: =IF(ISBLANK('Cue sheet exported from RwGPS'!D34), "Finish control", 'Cue sheet exported from RwGPS'!D34) -> Turn right onto Marine Dr | E38: =IF(ISBLANK('Cue sheet exported from RwGPS'!E35), "", 'Cue sheet exported from RwGPS'!E35-'Cue sheet exported from RwGPS'!E34) -> 0.1
A39: =IF(ISNUMBER('Cue sheet exported from RwGPS'!E35), 'Cue sheet exported from RwGPS'!E35, "") -> 98.9 | B39: =_xlfn.SWITCH('Cue sheet exported from RwGPS'!C35, "Left", "L", "Sharp Left", "L", "Slight Left", "L", "Right", "R", "Sharp Right", "R", "Slight Right", "R", "Straight", "S", "U turn", "U", "Control", IF('Cue sheet exported from RwGPS'!E36='Cue sheet exported from RwGPS'!E35, "", "S"), "") -> S | C39: S | D39: =IF(ISBLANK('Cue sheet exported from RwGPS'!D35), "Finish control", 'Cue sheet exported from RwGPS'!D35) -> At the roundabout, take the 3rd exit and stay on Marine Dr | E39: =IF(ISBLANK('Cue sheet exported from RwGPS'!E36), "", 'Cue sheet exported from RwGPS'!E36-'Cue sheet exported from RwGPS'!E35) -> 11.9
A40: =IF(ISNUMBER('Cue sheet exported from RwGPS'!E36), 'Cue sheet exported from RwGPS'!E36, "") -> 110.8 | B40: =_xlfn.SWITCH('Cue sheet exported from RwGPS'!C36, "Left", "L", "Sharp Left", "L", "Slight Left", "L", "Right", "R", "Sharp Right", "R", "Slight Right", "R", "Straight", "S", "U turn", "U", "Control", IF('Cue sheet exported from RwGPS'!E37='Cue sheet exported from RwGPS'!E36, "", "S"), "") -> R | C40: S | D40: =IF(ISBLANK('Cue sheet exported from RwGPS'!D36), "Finish control", 'Cue sheet exported from RwGPS'!D36) -> Turn right onto 25th Street | E40: =IF(ISBLANK('Cue sheet exported from RwGPS'!E37), "", 'Cue sheet exported from RwGPS'!E37-'Cue sheet exported from RwGPS'!E36) -> 0.1
A41: =IF(ISNUMBER('Cue sheet exported from RwGPS'!E37), 'Cue sheet exported from RwGPS'!E37, "") -> 110.9 | B41: =_xlfn.SWITCH('Cue sheet exported from RwGPS'!C37, "Left", "L", "Sharp Left", "L", "Slight Left", "L", "Right", "R", "Sharp Right", "R", "Slight Right", "R", "Straight", "S", "U turn", "U", "Control", IF('Cue sheet exported from RwGPS'!E38='Cue sheet exported from RwGPS'!E37, "", "S"), "") -> L | C41: E | D41: =IF(ISBLANK('Cue sheet exported from RwGPS'!D37), "Finish control", 'Cue sheet exported from RwGPS'!D37) -> Turn left onto Bellevue Avenue Lower | E41: =IF(ISBLANK('Cue sheet exported from RwGPS'!E38), "", 'Cue sheet exported from RwGPS'!E38-'Cue sheet exported from RwGPS'!E37) -> 0.3
A42: =IF(ISNUMBER('Cue sheet exported from RwGPS'!E38), 'Cue sheet exported from RwGPS'!E38, "") -> 111.2 | B42: =_xlfn.SWITCH('Cue sheet exported from RwGPS'!C38, "Left", "L", "Sharp Left", "L", "Slight Left", "L", "Right", "R", "Sharp Right", "R", "Slight Right", "R", "Straight", "S", "U turn", "U", "Control", IF('Cue sheet exported from RwGPS'!E39='Cue sheet exported from RwGPS'!E38, "", "S"), "") -> L | C42: N | D42: =IF(ISBLANK('Cue sheet exported from RwGPS'!D38), "Finish control", 'Cue sheet exported from RwGPS'!D38) -> Turn sharp left onto 24th Street | E42: =IF(ISBLANK('Cue sheet exported from RwGPS'!E39), "", 'Cue sheet exported from RwGPS'!E39-'Cue sheet exported from RwGPS'!E38) -> 0
A43: =IF(ISNUMBER('Cue sheet exported from RwGPS'!E39), 'Cue sheet exported from RwGPS'!E39, "") -> 111.2 | B43: =_xlfn.SWITCH('Cue sheet exported from RwGPS'!C39, "Left", "L", "Sharp Left", "L", "Slight Left", "L", "Right", "R", "Sharp Right", "R", "Slight Right", "R", "Straight", "S", "U turn", "U", "Control", IF('Cue sheet exported from RwGPS'!E40='Cue sheet exported from RwGPS'!E39, "", "S"), "") -> R | C43: E | D43: =IF(ISBLANK('Cue sheet exported from RwGPS'!D39), "Finish control", 'Cue sheet exported from RwGPS'!D39) -> Turn sharp right onto Bellevue Avenue | E43: =IF(ISBLANK('Cue sheet exported from RwGPS'!E40), "", 'Cue sheet exported from RwGPS'!E40-'Cue sheet exported from RwGPS'!E39) -> 2.1
A44: =IF(ISNUMBER('Cue sheet exported from RwGPS'!E40), 'Cue sheet exported from RwGPS'!E40, "") -> 113.3 | B44: =_xlfn.SWITCH('Cue sheet exported from RwGPS'!C40, "Left", "L", "Sharp Left", "L", "Slight Left", "L", "Right", "R", "Sharp Right", "R", "Slight Right", "R", "Straight", "S", "U turn", "U", "Control", IF('Cue sheet exported from RwGPS'!E41='Cue sheet exported from RwGPS'!E40, "", "S"), "") -> R | C44: S | D44: =IF(ISBLANK('Cue sheet exported from RwGPS'!D40), "Finish control", 'Cue sheet exported from RwGPS'!D40) -> Turn sharp right onto 13th Street | E44: =IF(ISBLANK('Cue sheet exported from RwGPS'!E41), "", 'Cue sheet exported from RwGPS'!E41-'Cue sheet exported from RwGPS'!E40) -> 0.1
A45: =IF(ISNUMBER('Cue sheet exported from RwGPS'!E41), 'Cue sheet exported from RwGPS'!E41, "") -> 113.4 | B45: =_xlfn.SWITCH('Cue sheet exported from RwGPS'!C41, "Left", "L", "Sharp Left", "L", "Slight Left", "L", "Right", "R", "Sharp Right", "R", "Slight Right", "R", "Straight", "S", "U turn", "U", "Control", IF('Cue sheet exported from RwGPS'!E42='Cue sheet exported from RwGPS'!E41, "", "S"), "") -> L | C45: SE | D45: =IF(ISBLANK('Cue sheet exported from RwGPS'!D41), "Finish control", 'Cue sheet exported from RwGPS'!D41) -> Turn slight left onto Argyle Avenue | E45: =IF(ISBLANK('Cue sheet exported from RwGPS'!E42), "", 'Cue sheet exported from RwGPS'!E42-'Cue sheet exported from RwGPS'!E41) -> 0
... A103: =IF(ISNUMBER('Cue sheet exported from RwGPS'!E99), 'Cue sheet exported from RwGPS'!E99, "") -> 188.2 | B103: =_xlfn.SWITCH('Cue sheet exported from RwGPS'!C99, "Left", "L", "Sharp Left", "L", "Slight Left", "L", "Right", "R", "Sharp Right", "R", "Slight Right", "R", "Straight", "S", "U turn", "U", "Control", IF('Cue sheet exported from RwGPS'!E100='Cue sheet exported from RwGPS'!E99, "", "S"), "") -> R | C103: S | D103: =IF(ISBLANK('Cue sheet exported from RwGPS'!D99), "Finish control", 'Cue sheet exported from RwGPS'!D99) -> Turn sharp right onto Power Station Access Road | E103: =IF(ISBLANK('Cue sheet exported from RwGPS'!E100), "", 'Cue sheet exported from RwGPS'!E100-'Cue sheet exported from RwGPS'!E99) -> 0.8
A104: =IF(ISNUMBER('Cue sheet exported from RwGPS'!E100), 'Cue sheet exported from RwGPS'!E100, "") -> 189 | B104: =_xlfn.SWITCH('Cue sheet exported from RwGPS'!C100, "Left", "L", "Sharp Left", "L", "Slight Left", "L", "Right", "R", "Sharp Right", "R", "Slight Right", "R", "Straight", "S", "U turn", "U", "Control", IF('Cue sheet exported from RwGPS'!E101='Cue sheet exported from RwGPS'!E100, "", "S"), "") -> S | D104: =IF(ISBLANK('Cue sheet exported from RwGPS'!D100), "Finish control", 'Cue sheet exported from RwGPS'!D100) -> Control 2: Stave Falls - Info | E104: =IF(ISBLANK('Cue sheet exported from RwGPS'!E101), "", 'Cue sheet exported from RwGPS'!E101-'Cue sheet exported from RwGPS'!E100) -> 0.2
A105: =IF(ISNUMBER('Cue sheet exported from RwGPS'!E101), 'Cue sheet exported from RwGPS'!E101, "") -> 189.2 | B105: =_xlfn.SWITCH('Cue sheet exported from RwGPS'!C101, "Left", "L", "Sharp Left", "L", "Slight Left", "L", "Right", "R", "Sharp Right", "R", "Slight Right", "R", "Straight", "S", "U turn", "U", "Control", IF('Cue sheet exported from RwGPS'!E102='Cue sheet exported from RwGPS'!E101, "", "S"), "") -> L | C105: N | D105: =IF(ISBLANK('Cue sheet exported from RwGPS'!D101), "Finish control", 'Cue sheet exported from RwGPS'!D101) -> Turn sharp left onto Railway Trail | E105: =IF(ISBLANK('Cue sheet exported from RwGPS'!E102), "", 'Cue sheet exported from RwGPS'!E102-'Cue sheet exported from RwGPS'!E101) -> 0.3
A106: =IF(ISNUMBER('Cue sheet exported from RwGPS'!E102), 'Cue sheet exported from RwGPS'!E102, "") -> 189.5 | B106: =_xlfn.SWITCH('Cue sheet exported from RwGPS'!C102, "Left", "L", "Sharp Left", "L", "Slight Left", "L", "Right", "R", "Sharp Right", "R", "Slight Right", "R", "Straight", "S", "U turn", "U", "Control", IF('Cue sheet exported from RwGPS'!E103='Cue sheet exported from RwGPS'!E102, "", "S"), "") -> R | C106: N | D106: =IF(ISBLANK('Cue sheet exported from RwGPS'!D102), "Finish control", 'Cue sheet exported from RwGPS'!D102) -> Keep right towards parking lot | E106: =IF(ISBLANK('Cue sheet exported from RwGPS'!E103), "", 'Cue sheet exported from RwGPS'!E103-'Cue sheet exported from RwGPS'!E102) -> 0.7
A107: =IF(ISNUMBER('Cue sheet exported from RwGPS'!E103), 'Cue sheet exported from RwGPS'!E103, "") -> 190.2 | B107: =_xlfn.SWITCH('Cue sheet exported from RwGPS'!C103, "Left", "L", "Sharp Left", "L", "Slight Left", "L", "Right", "R", "Sharp Right", "R", "Slight Right", "R", "Straight", "S", "U turn", "U", "Control", IF('Cue sheet exported from RwGPS'!E104='Cue sheet exported from RwGPS'!E103, "", "S"), "") -> R | C107: NE | D107: =IF(ISBLANK('Cue sheet exported from RwGPS'!D103), "Finish control", 'Cue sheet exported from RwGPS'!D103) -> Turn right onto Dewdney Trunk Road | E107: =IF(ISBLANK('Cue sheet exported from RwGPS'!E104), "", 'Cue sheet exported from RwGPS'!E104-'Cue sheet exported from RwGPS'!E103) -> 10.1
A108: =IF(ISNUMBER('Cue sheet exported from RwGPS'!E104), 'Cue sheet exported from RwGPS'!E104, "") -> 200.3 | B108: =_xlfn.SWITCH('Cue sheet exported from RwGPS'!C104, "Left", "L", "Sharp Left", "L", "Slight Left", "L", "Right", "R", "Sharp Right", "R", "Slight Right", "R", "Straight", "S", "U turn", "U", "Control", IF('Cue sheet exported from RwGPS'!E105='Cue sheet exported from RwGPS'!E104, "", "S"), "") -> L | C108: E | D108: =IF(ISBLANK('Cue sheet exported from RwGPS'!D104), "Finish control", 'Cue sheet exported from RwGPS'!D104) -> Turn left onto Dewdney Trunk Road | E108: =IF(ISBLANK('Cue sheet exported from RwGPS'!E105), "", 'Cue sheet exported from RwGPS'!E105-'Cue sheet exported from RwGPS'!E104) -> 1.5
A109: =IF(ISNUMBER('Cue sheet exported from RwGPS'!E105), 'Cue sheet exported from RwGPS'!E105, "") -> 201.8 | B109: =_xlfn.SWITCH('Cue sheet exported from RwGPS'!C105, "Left", "L", "Sharp Left", "L", "Slight Left", "L", "Right", "R", "Sharp Right", "R", "Slight Right", "R", "Straight", "S", "U turn", "U", "Control", IF('Cue sheet exported from RwGPS'!E106='Cue sheet exported from RwGPS'!E105, "", "S"), "") -> L | C109: E | D109: =IF(ISBLANK('Cue sheet exported from RwGPS'!D105), "Finish control", 'Cue sheet exported from RwGPS'!D105) -> Turn slight left onto Dewdney Trunk Road | E109: =IF(ISBLANK('Cue sheet exported from RwGPS'!E106), "", 'Cue sheet exported from RwGPS'!E106-'Cue sheet exported from RwGPS'!E105) -> 1
A110: =IF(ISNUMBER('Cue sheet exported from RwGPS'!E106), 'Cue sheet exported from RwGPS'!E106, "") -> 202.8 | B110: =_xlfn.SWITCH('Cue sheet exported from RwGPS'!C106, "Left", "L", "Sharp Left", "L", "Slight Left", "L", "Right", "R", "Sharp Right", "R", "Slight Right", "R", "Straight", "S", "U turn", "U", "Control", IF('Cue sheet exported from RwGPS'!E107='Cue sheet exported from RwGPS'!E106, "", "S"), "") -> S | C110: E | D110: =IF(ISBLANK('Cue sheet exported from RwGPS'!D106), "Finish control", 'Cue sheet exported from RwGPS'!D106) -> Continue onto Ferndale Avenue | E110: =IF(ISBLANK('Cue sheet exported from RwGPS'!E107), "", 'Cue sheet exported from RwGPS'!E107-'Cue sheet exported from RwGPS'!E106) -> 2.6
A111: =IF(ISNUMBER('Cue sheet exported from RwGPS'!E107), 'Cue sheet exported from RwGPS'!E107, "") -> 205.4 | B111: =_xlfn.SWITCH('Cue sheet exported from RwGPS'!C107, "Left", "L", "Sharp Left", "L", "Slight Left", "L", "Right", "R", "Sharp Right", "R", "Slight Right", "R", "Straight", "S", "U turn", "U", "Control", IF('Cue sheet exported from RwGPS'!E108='Cue sheet exported from RwGPS'!E107, "", "S"), "") -> R | C111: S | D111: =IF(ISBLANK('Cue sheet exported from RwGPS'!D107), "Finish control", 'Cue sheet exported from RwGPS'!D107) -> Turn right onto Draper Street | E111: =IF(ISBLANK('Cue sheet exported from RwGPS'!E108), "", 'Cue sheet exported from RwGPS'!E108-'Cue sheet exported from RwGPS'!E107) -> 1.5
A112: =IF(ISNUMBER('Cue sheet exported from RwGPS'!E108), 'Cue sheet exported from RwGPS'!E108, "") -> 206.9 | B112: =_xlfn.SWITCH('Cue sheet exported from RwGPS'!C108, "Left", "L", "Sharp Left", "L", "Slight Left", "L", "Right", "R", "Sharp Right", "R", "Slight Right", "R", "Straight", "S", "U turn", "U", "Control", IF('Cue sheet exported from RwGPS'!E109='Cue sheet exported from RwGPS'!E108, "", "S"), "") -> L | C112: E | D112: =IF(ISBLANK('Cue sheet exported from RwGPS'!D108), "Finish control", 'Cue sheet exported from RwGPS'!D108) -> Turn left onto Cemetery Avenue | E112: =IF(ISBLANK('Cue sheet exported from RwGPS'!E109), "", 'Cue sheet exported from RwGPS'!E109-'Cue sheet exported from RwGPS'!E108) -> 1.4
A113: =IF(ISNUMBER('Cue sheet exported from RwGPS'!E109), 'Cue sheet exported from RwGPS'!E109, "") -> 208.3 | B113: =_xlfn.SWITCH('Cue sheet exported from RwGPS'!C109, "Left", "L", "Sharp Left", "L", "Slight Left", "L", "Right", "R", "Sharp Right", "R", "Slight Right", "R", "Straight", "S", "U turn", "U", "Control", IF('Cue sheet exported from RwGPS'!E110='Cue sheet exported from RwGPS'!E109, "", "S"), "") -> L | C113: E | D113: =IF(ISBLANK('Cue sheet exported from RwGPS'!D109), "Finish control", 'Cue sheet exported from RwGPS'!D109) -> Turn left onto Lougheed Highway | E113: =IF(ISBLANK('Cue sheet exported from RwGPS'!E110), "", 'Cue sheet exported from RwGPS'!E110-'Cue sheet exported from RwGPS'!E109) -> 15.7
A114: =IF(ISNUMBER('Cue sheet exported from RwGPS'!E110), 'Cue sheet exported from RwGPS'!E110, "") -> 224 | B114: =_xlfn.SWITCH('Cue sheet exported from RwGPS'!C110, "Left", "L", "Sharp Left", "L", "Slight Left", "L", "Right", "R", "Sharp Right", "R", "Slight Right", "R", "Straight", "S", "U turn", "U", "Control", IF('Cue sheet exported from RwGPS'!E111='Cue sheet exported from RwGPS'!E110, "", "S"), "") -> R | C114: E | D114: =IF(ISBLANK('Cue sheet exported from RwGPS'!D110), "Finish control", 'Cue sheet exported from RwGPS'!D110) -> Turn right onto Lougheed Highway | E114: =IF(ISBLANK('Cue sheet exported from RwGPS'!E111), "", 'Cue sheet exported from RwGPS'!E111-'Cue sheet exported from RwGPS'!E110) -> 27.3
A115: =IF(ISNUMBER('Cue sheet exported from RwGPS'!E111), 'Cue sheet exported from RwGPS'!E111, "") -> 251.3 | B115: =_xlfn.SWITCH('Cue sheet exported from RwGPS'!C111, "Left", "L", "Sharp Left", "L", "Slight Left", "L", "Right", "R", "Sharp Right", "R", "Slight Right", "R", "Straight", "S", "U turn", "U", "Control", IF('Cue sheet exported from RwGPS'!E112='Cue sheet exported from RwGPS'!E111, "", "S"), "") -> R | C115: E | D115: =IF(ISBLANK('Cue sheet exported from RwGPS'!D111), "Finish control", 'Cue sheet exported from RwGPS'!D111) -> Keep right onto Lougheed Highway | E115: =IF(ISBLANK('Cue sheet exported from RwGPS'!E112), "", 'Cue sheet exported from RwGPS'!E112-'Cue sheet exported from RwGPS'!E111) -> 31.6
A116: =IF(ISNUMBER('Cue sheet exported from RwGPS'!E112), 'Cue sheet exported from RwGPS'!E112, "") -> 282.9 | B116: =_xlfn.SWITCH('Cue sheet exported from RwGPS'!C112, "Left", "L", "Sharp Left", "L", "Slight Left", "L", "Right", "R", "Sharp Right", "R", "Slight Right", "R", "Straight", "S", "U turn", "U", "Control", IF('Cue sheet exported from RwGPS'!E113='Cue sheet exported from RwGPS'!E112, "", "S"), "") -> L | C116: N | D116: =IF(ISBLANK('Cue sheet exported from RwGPS'!D112), "Finish control", 'Cue sheet exported from RwGPS'!D112) -> Exit left and take 1 toward Hope | E116: =IF(ISBLANK('Cue sheet exported from RwGPS'!E113), "", 'Cue sheet exported from RwGPS'!E113-'Cue sheet exported from RwGPS'!E112) -> 2.9
... A119: =IF(ISNUMBER('Cue sheet exported from RwGPS'!E115), 'Cue sheet exported from RwGPS'!E115, "") -> 285.9 | B119: =_xlfn.SWITCH('Cue sheet exported from RwGPS'!C115, "Left", "L", "Sharp Left", "L", "Slight Left", "L", "Right", "R", "Sharp Right", "R", "Slight Right", "R", "Straight", "S", "U turn", "U", "Control", IF('Cue sheet exported from RwGPS'!E116='Cue sheet exported from RwGPS'!E115, "", "S"), "") -> U | C119: NW | D119: =IF(ISBLANK('Cue sheet exported from RwGPS'!D115), "Finish control", 'Cue sheet exported from RwGPS'!D115) -> Make a U-turn | E119: =IF(ISBLANK('Cue sheet exported from RwGPS'!E116), "", 'Cue sheet exported from RwGPS'!E116-'Cue sheet exported from RwGPS'!E115) -> 0
A120: =IF(ISNUMBER('Cue sheet exported from RwGPS'!E116), 'Cue sheet exported from RwGPS'!E116, "") -> 285.9 | B120: =_xlfn.SWITCH('Cue sheet exported from RwGPS'!C116, "Left", "L", "Sharp Left", "L", "Slight Left", "L", "Right", "R", "Sharp Right", "R", "Slight Right", "R", "Straight", "S", "U turn", "U", "Control", IF('Cue sheet exported from RwGPS'!E117='Cue sheet exported from RwGPS'!E116, "", "S"), "") | D120: =IF(ISBLANK('Cue sheet exported from RwGPS'!D116), "Finish control", 'Cue sheet exported from RwGPS'!D116) -> Control 3: Hope Visitor Centre - Info | E120: =IF(ISBLANK('Cue sheet exported from RwGPS'!E117), "", 'Cue sheet exported from RwGPS'!E117-'Cue sheet exported from RwGPS'!E116) -> 0
A121: =IF(ISNUMBER('Cue sheet exported from RwGPS'!E117), 'Cue sheet exported from RwGPS'!E117, "") -> 285.9 | B121: =_xlfn.SWITCH('Cue sheet exported from RwGPS'!C117, "Left", "L", "Sharp Left", "L", "Slight Left", "L", "Right", "R", "Sharp Right", "R", "Slight Right", "R", "Straight", "S", "U turn", "U", "Control", IF('Cue sheet exported from RwGPS'!E118='Cue sheet exported from RwGPS'!E117, "", "S"), "") -> R | C121: NE | D121: =IF(ISBLANK('Cue sheet exported from RwGPS'!D117), "Finish control", 'Cue sheet exported from RwGPS'!D117) -> Turn right onto Hudson Bay Street | E121: =IF(ISBLANK('Cue sheet exported from RwGPS'!E118), "", 'Cue sheet exported from RwGPS'!E118-'Cue sheet exported from RwGPS'!E117) -> 0.2
A122: =IF(ISNUMBER('Cue sheet exported from RwGPS'!E118), 'Cue sheet exported from RwGPS'!E118, "") -> 286.1 | B122: =_xlfn.SWITCH('Cue sheet exported from RwGPS'!C118, "Left", "L", "Sharp Left", "L", "Slight Left", "L", "Right", "R", "Sharp Right", "R", "Slight Right", "R", "Straight", "S", "U turn", "U", "Control", IF('Cue sheet exported from RwGPS'!E119='Cue sheet exported from RwGPS'!E118, "", "S"), "") -> R | C122: SE | D122: =IF(ISBLANK('Cue sheet exported from RwGPS'!D118), "Finish control", 'Cue sheet exported from RwGPS'!D118) -> Turn right onto 3rd Avenue | E122: =IF(ISBLANK('Cue sheet exported from RwGPS'!E119), "", 'Cue sheet exported from RwGPS'!E119-'Cue sheet exported from RwGPS'!E118) -> 0.4
A123: =IF(ISNUMBER('Cue sheet exported from RwGPS'!E119), 'Cue sheet exported from RwGPS'!E119, "") -> 286.5 | B123: =_xlfn.SWITCH('Cue sheet exported from RwGPS'!C119, "Left", "L", "Sharp Left", "L", "Slight Left", "L", "Right", "R", "Sharp Right", "R", "Slight Right", "R", "Straight", "S", "U turn", "U", "Control", IF('Cue sheet exported from RwGPS'!E120='Cue sheet exported from RwGPS'!E119, "", "S"), "") -> R | C123: SW | D123: =IF(ISBLANK('Cue sheet exported from RwGPS'!D119), "Finish control", 'Cue sheet exported from RwGPS'!D119) -> Turn right onto Old Hope-Princeton Way | E123: =IF(ISBLANK('Cue sheet exported from RwGPS'!E120), "", 'Cue sheet exported from RwGPS'!E120-'Cue sheet exported from RwGPS'!E119) -> 0.8
A124: =IF(ISNUMBER('Cue sheet exported from RwGPS'!E120), 'Cue sheet exported from RwGPS'!E120, "") -> 287.3 | B124: =_xlfn.SWITCH('Cue sheet exported from RwGPS'!C120, "Left", "L", "Sharp Left", "L", "Slight Left", "L", "Right", "R", "Sharp Right", "R", "Slight Right", "R", "Straight", "S", "U turn", "U", "Control", IF('Cue sheet exported from RwGPS'!E121='Cue sheet exported from RwGPS'!E120, "", "S"), "") -> S | C124: SW | D124: =IF(ISBLANK('Cue sheet exported from RwGPS'!D120), "Finish control", 'Cue sheet exported from RwGPS'!D120) -> Merge onto Trans-Canada Hwy/​BC-1 W | E124: =IF(ISBLANK('Cue sheet exported from RwGPS'!E121), "", 'Cue sheet exported from RwGPS'!E121-'Cue sheet exported from RwGPS'!E120) -> 31.7
A125: =IF(ISNUMBER('Cue sheet exported from RwGPS'!E121), 'Cue sheet exported from RwGPS'!E121, "") -> 319 | B125: =_xlfn.SWITCH('Cue sheet exported from RwGPS'!C121, "Left", "L", "Sharp Left", "L", "Slight Left", "L", "Right", "R", "Sharp Right", "R", "Slight Right", "R", "Straight", "S", "U turn", "U", "Control", IF('Cue sheet exported from RwGPS'!E122='Cue sheet exported from RwGPS'!E121, "", "S"), "") -> R | C125: SW | D125: =IF(ISBLANK('Cue sheet exported from RwGPS'!D121), "Finish control", 'Cue sheet exported from RwGPS'!D121) -> Exit onto Popkum Road | E125: =IF(ISBLANK('Cue sheet exported from RwGPS'!E122), "", 'Cue sheet exported from RwGPS'!E122-'Cue sheet exported from RwGPS'!E121) -> 0.4
A126: =IF(ISNUMBER('Cue sheet exported from RwGPS'!E122), 'Cue sheet exported from RwGPS'!E122, "") -> 319.4 | B126: =_xlfn.SWITCH('Cue sheet exported from RwGPS'!C122, "Left", "L", "Sharp Left", "L", "Slight Left", "L", "Right", "R", "Sharp Right", "R", "Slight Right", "R", "Straight", "S", "U turn", "U", "Control", IF('Cue sheet exported from RwGPS'!E123='Cue sheet exported from RwGPS'!E122, "", "S"), "") -> R | C126: NW | D126: =IF(ISBLANK('Cue sheet exported from RwGPS'!D122), "Finish control", 'Cue sheet exported from RwGPS'!D122) -> Turn right onto Yale Road East | E126: =IF(ISBLANK('Cue sheet exported from RwGPS'!E123), "", 'Cue sheet exported from RwGPS'!E123-'Cue sheet exported from RwGPS'!E122) -> 0.9
A127: =IF(ISNUMBER('Cue sheet exported from RwGPS'!E123), 'Cue sheet exported from RwGPS'!E123, "") -> 320.3 | B127: =_xlfn.SWITCH('Cue sheet exported from RwGPS'!C123, "Left", "L", "Sharp Left", "L", "Slight Left", "L", "Right", "R", "Sharp Right", "R", "Slight Right", "R", "Straight", "S", "U turn", "U", "Control", IF('Cue sheet exported from RwGPS'!E124='Cue sheet exported from RwGPS'!E123, "", "S"), "") -> L | C127: S | D127: =IF(ISBLANK('Cue sheet exported from RwGPS'!D123), "Finish control", 'Cue sheet exported from RwGPS'!D123) -> Turn left onto Yale Rd | E127: =IF(ISBLANK('Cue sheet exported from RwGPS'!E124), "", 'Cue sheet exported from RwGPS'!E124-'Cue sheet exported from RwGPS'!E123) -> 5.3
A128: =IF(ISNUMBER('Cue sheet exported from RwGPS'!E124), 'Cue sheet exported from RwGPS'!E124, "") -> 325.6 | B128: =_xlfn.SWITCH('Cue sheet exported from RwGPS'!C124, "Left", "L", "Sharp Left", "L", "Slight Left", "L", "Right", "R", "Sharp Right", "R", "Slight Right", "R", "Straight", "S", "U turn", "U", "Control", IF('Cue sheet exported from RwGPS'!E125='Cue sheet exported from RwGPS'!E124, "", "S"), "") -> R | C128: N | D128: =IF(ISBLANK('Cue sheet exported from RwGPS'!D124), "Finish control", 'Cue sheet exported from RwGPS'!D124) -> Turn right onto McGrath Rd | E128: =IF(ISBLANK('Cue sheet exported from RwGPS'!E125), "", 'Cue sheet exported from RwGPS'!E125-'Cue sheet exported from RwGPS'!E124) -> 0.8
A129: =IF(ISNUMBER('Cue sheet exported from RwGPS'!E125), 'Cue sheet exported from RwGPS'!E125, "") -> 326.4 | B129: =_xlfn.SWITCH('Cue sheet exported from RwGPS'!C125, "Left", "L", "Sharp Left", "L", "Slight Left", "L", "Right", "R", "Sharp Right", "R", "Slight Right", "R", "Straight", "S", "U turn", "U", "Control", IF('Cue sheet exported from RwGPS'!E126='Cue sheet exported from RwGPS'!E125, "", "S"), "") -> L | C129: W | D129: =IF(ISBLANK('Cue sheet exported from RwGPS'!D125), "Finish control", 'Cue sheet exported from RwGPS'!D125) -> Turn left onto Castleman Rd | E129: =IF(ISBLANK('Cue sheet exported from RwGPS'!E126), "", 'Cue sheet exported from RwGPS'!E126-'Cue sheet exported from RwGPS'!E125) -> 3.8
A130: =IF(ISNUMBER('Cue sheet exported from RwGPS'!E126), 'Cue sheet exported from RwGPS'!E126, "") -> 330.2 | B130: =_xlfn.SWITCH('Cue sheet exported from RwGPS'!C126, "Left", "L", "Sharp Left", "L", "Slight Left", "L", "Right", "R", "Sharp Right", "R", "Slight Right", "R", "Straight", "S", "U turn", "U", "Control", IF('Cue sheet exported from RwGPS'!E127='Cue sheet exported from RwGPS'!E126, "", "S"), "") -> S | C130: N | D130: =IF(ISBLANK('Cue sheet exported from RwGPS'!D126), "Finish control", 'Cue sheet exported from RwGPS'!D126) -> Continue straight onto Standeven Rd | E130: =IF(ISBLANK('Cue sheet exported from RwGPS'!E127), "", 'Cue sheet exported from RwGPS'!E127-'Cue sheet exported from RwGPS'!E126) -> 0.7
A131: =IF(ISNUMBER('Cue sheet exported from RwGPS'!E127), 'Cue sheet exported from RwGPS'!E127, "") -> 330.9 | B131: =_xlfn.SWITCH('Cue sheet exported from RwGPS'!C127, "Left", "L", "Sharp Left", "L", "Slight Left", "L", "Right", "R", "Sharp Right", "R", "Slight Right", "R", "Straight", "S", "U turn", "U", "Control", IF('Cue sheet exported from RwGPS'!E128='Cue sheet exported from RwGPS'!E127, "", "S"), "") -> L | C131: NW | D131: =IF(ISBLANK('Cue sheet exported from RwGPS'!D127), "Finish control", 'Cue sheet exported from RwGPS'!D127) -> Slight left onto Camp River Road | E131: =IF(ISBLANK('Cue sheet exported from RwGPS'!E128), "", 'Cue sheet exported from RwGPS'!E128-'Cue sheet exported from RwGPS'!E127) -> 2.7
A132: =IF(ISNUMBER('Cue sheet exported from RwGPS'!E128), 'Cue sheet exported from RwGPS'!E128, "") -> 333.6 | B132: =_xlfn.SWITCH('Cue sheet exported from RwGPS'!C128, "Left", "L", "Sharp Left", "L", "Slight Left", "L", "Right", "R", "Sharp Right", "R", "Slight Right", "R", "Straight", "S", "U turn", "U", "Control", IF('Cue sheet exported from RwGPS'!E129='Cue sheet exported from RwGPS'!E128, "", "S"), "") -> S | D132: =IF(ISBLANK('Cue sheet exported from RwGPS'!D128), "Finish control", 'Cue sheet exported from RwGPS'!D128) -> Control 4: Camp River Rd @ Reeves Rd - Info | E132: =IF(ISBLANK('Cue sheet exported from RwGPS'!E129), "", 'Cue sheet exported from RwGPS'!E129-'Cue sheet exported from RwGPS'!E128) -> 1.4
A133: =IF(ISNUMBER('Cue sheet exported from RwGPS'!E129), 'Cue sheet exported from RwGPS'!E129, "") -> 335 | B133: =_xlfn.SWITCH('Cue sheet exported from RwGPS'!C129, "Left", "L", "Sharp Left", "L", "Slight Left", "L", "Right", "R", "Sharp Right", "R", "Slight Right", "R", "Straight", "S", "U turn", "U", "Control", IF('Cue sheet exported from RwGPS'!E130='Cue sheet exported from RwGPS'!E129, "", "S"), "") -> L | C133: S | D133: =IF(ISBLANK('Cue sheet exported from RwGPS'!D129), "Finish control", 'Cue sheet exported from RwGPS'!D129) -> Turn left onto Hope River Road | E133: =IF(ISBLANK('Cue sheet exported from RwGPS'!E130), "", 'Cue sheet exported from RwGPS'!E130-'Cue sheet exported from RwGPS'!E129) -> 1.6
A134: =IF(ISNUMBER('Cue sheet exported from RwGPS'!E130), 'Cue sheet exported from RwGPS'!E130, "") -> 336.6 | B134: =_xlfn.SWITCH('Cue sheet exported from RwGPS'!C130, "Left", "L", "Sharp Left", "L", "Slight Left", "L", "Right", "R", "Sharp Right", "R", "Slight Right", "R", "Straight", "S", "U turn", "U", "Control", IF('Cue sheet exported from RwGPS'!E131='Cue sheet exported from RwGPS'!E130, "", "S"), "") -> L | C134: S | D134: =IF(ISBLANK('Cue sheet exported from RwGPS'!D130), "Finish control", 'Cue sheet exported from RwGPS'!D130) -> Turn left onto trail and go straight onto bridge | E134: =IF(ISBLANK('Cue sheet exported from RwGPS'!E131), "", 'Cue sheet exported from RwGPS'!E131-'Cue sheet exported from RwGPS'!E130) -> 0.2
A135: =IF(ISNUMBER('Cue sheet exported from RwGPS'!E131), 'Cue sheet exported from RwGPS'!E131, "") -> 336.8 | B135: =_xlfn.SWITCH('Cue sheet exported from RwGPS'!C131, "Left", "L", "Sharp Left", "L", "Slight Left", "L", "Right", "R", "Sharp Right", "R", "Slight Right", "R", "Straight", "S", "U turn", "U", "Control", IF('Cue sheet exported from RwGPS'!E132='Cue sheet exported from RwGPS'!E131, "", "S"), "") -> S | C135: SW | D135: =IF(ISBLANK('Cue sheet exported from RwGPS'!D131), "Finish control", 'Cue sheet exported from RwGPS'!D131) -> Continue onto Quarry Road | E135: =IF(ISBLANK('Cue sheet exported from RwGPS'!E132), "", 'Cue sheet exported from RwGPS'!E132-'Cue sheet exported from RwGPS'!E131) -> 0.9
A136: =IF(ISNUMBER('Cue sheet exported from RwGPS'!E132), 'Cue sheet exported from RwGPS'!E132, "") -> 337.7 | B136: =_xlfn.SWITCH('Cue sheet exported from RwGPS'!C132, "Left", "L", "Sharp Left", "L", "Slight Left", "L", "Right", "R", "Sharp Right", "R", "Slight Right", "R", "Straight", "S", "U turn", "U", "Control", IF('Cue sheet exported from RwGPS'!E133='Cue sheet exported from RwGPS'!E132, "", "S"), "") -> R | C136: W | D136: =IF(ISBLANK('Cue sheet exported from RwGPS'!D132), "Finish control", 'Cue sheet exported from RwGPS'!D132) -> Turn right onto Yale Rd | E136: =IF(ISBLANK('Cue sheet exported from RwGPS'!E133), "", 'Cue sheet exported from RwGPS'!E133-'Cue sheet exported from RwGPS'!E132) -> 0.1
A137: =IF(ISNUMBER('Cue sheet exported from RwGPS'!E133), 'Cue sheet exported from RwGPS'!E133, "") -> 337.8 | B137: =_xlfn.SWITCH('Cue sheet exported from RwGPS'!C133, "Left", "L", "Sharp Left", "L", "Slight Left", "L", "Right", "R", "Sharp Right", "R", "Slight Right", "R", "Straight", "S", "U turn", "U", "Control", IF('Cue sheet exported from RwGPS'!E134='Cue sheet exported from RwGPS'!E133, "", "S"), "") -> L | C137: S | D137: =IF(ISBLANK('Cue sheet exported from RwGPS'!D133), "Finish control", 'Cue sheet exported from RwGPS'!D133) -> Turn left onto McNaught Rd | E137: =IF(ISBLANK('Cue sheet exported from RwGPS'!E134), "", 'Cue sheet exported from RwGPS'!E134-'Cue sheet exported from RwGPS'!E133) -> 1.2
A138: =IF(ISNUMBER('Cue sheet exported from RwGPS'!E134), 'Cue sheet exported from RwGPS'!E134, "") -> 339 | B138: =_xlfn.SWITCH('Cue sheet exported from RwGPS'!C134, "Left", "L", "Sharp Left", "L", "Slight Left", "L", "Right", "R", "Sharp Right", "R", "Slight Right", "R", "Straight", "S", "U turn", "U", "Control", IF('Cue sheet exported from RwGPS'!E135='Cue sheet exported from RwGPS'!E134, "", "S"), "") -> R | C138: W | D138: =IF(ISBLANK('Cue sheet exported from RwGPS'!D134), "Finish control", 'Cue sheet exported from RwGPS'!D134) -> Turn right onto First Ave | E138: =IF(ISBLANK('Cue sheet exported from RwGPS'!E135), "", 'Cue sheet exported from RwGPS'!E135-'Cue sheet exported from RwGPS'!E134) -> 0.6
A139: =IF(ISNUMBER('Cue sheet exported from RwGPS'!E135), 'Cue sheet exported from RwGPS'!E135, "") -> 339.6 | B139: =_xlfn.SWITCH('Cue sheet exported from RwGPS'!C135, "Left", "L", "Sharp Left", "L", "Slight Left", "L", "Right", "R", "Sharp Right", "R", "Slight Right", "R", "Straight", "S", "U turn", "U", "Control", IF('Cue sheet exported from RwGPS'!E136='Cue sheet exported from RwGPS'!E135, "", "S"), "") -> L | C139: S | D139: =IF(ISBLANK('Cue sheet exported from RwGPS'!D135), "Finish control", 'Cue sheet exported from RwGPS'!D135) -> Turn left onto Broadway | E139: =IF(ISBLANK('Cue sheet exported from RwGPS'!E136), "", 'Cue sheet exported from RwGPS'!E136-'Cue sheet exported from RwGPS'!E135) -> 1.4
A140: =IF(ISNUMBER('Cue sheet exported from RwGPS'!E136), 'Cue sheet exported from RwGPS'!E136, "") -> 341 | B140: =_xlfn.SWITCH('Cue sheet exported from RwGPS'!C136, "Left", "L", "Sharp Left", "L", "Slight Left", "L", "Right", "R", "Sharp Right", "R", "Slight Right", "R", "Straight", "S", "U turn", "U", "Control", IF('Cue sheet exported from RwGPS'!E137='Cue sheet exported from RwGPS'!E136, "", "S"), "") -> R | C140: W | D140: =IF(ISBLANK('Cue sheet exported from RwGPS'!D136), "Finish control", 'Cue sheet exported from RwGPS'!D136) -> Slight right onto Airport Rd | E140: =IF(ISBLANK('Cue sheet exported from RwGPS'!E137), "", 'Cue sheet exported from RwGPS'!E137-'Cue sheet exported from RwGPS'!E136) -> 1.2
A141: =IF(ISNUMBER('Cue sheet exported from RwGPS'!E137), 'Cue sheet exported from RwGPS'!E137, "") -> 342.2 | B141: =_xlfn.SWITCH('Cue sheet exported from RwGPS'!C137, "Left", "L", "Sharp Left", "L", "Slight Left", "L", "Right", "R", "Sharp Right", "R", "Slight Right", "R", "Straight", "S", "U turn", "U", "Control", IF('Cue sheet exported from RwGPS'!E138='Cue sheet exported from RwGPS'!E137, "", "S"), "") -> L | C141: S | D141: =IF(ISBLANK('Cue sheet exported from RwGPS'!D137), "Finish control", 'Cue sheet exported from RwGPS'!D137) -> Turn left onto Young Rd | E141: =IF(ISBLANK('Cue sheet exported from RwGPS'!E138), "", 'Cue sheet exported from RwGPS'!E138-'Cue sheet exported from RwGPS'!E137) -> 0.8
A142: =IF(ISNUMBER('Cue sheet exported from RwGPS'!E138), 'Cue sheet exported from RwGPS'!E138, "") -> 343 | B142: =_xlfn.SWITCH('Cue sheet exported from RwGPS'!C138, "Left", "L", "Sharp Left", "L", "Slight Left", "L", "Right", "R", "Sharp Right", "R", "Slight Right", "R", "Straight", "S", "U turn", "U", "Control", IF('Cue sheet exported from RwGPS'!E139='Cue sheet exported from RwGPS'!E138, "", "S"), "") -> S | C142: S | D142: =IF(ISBLANK('Cue sheet exported from RwGPS'!D138), "Finish control", 'Cue sheet exported from RwGPS'!D138) -> Continue onto Chilliwack River Rd | E142: =IF(ISBLANK('Cue sheet exported from RwGPS'!E139), "", 'Cue sheet exported from RwGPS'!E139-'Cue sheet exported from RwGPS'!E138) -> 5.8
A143: =IF(ISNUMBER('Cue sheet exported from RwGPS'!E139), 'Cue sheet exported from RwGPS'!E139, "") -> 348.8 | B143: =_xlfn.SWITCH('Cue sheet exported from RwGPS'!C139, "Left", "L", "Sharp Left", "L", "Slight Left", "L", "Right", "R", "Sharp Right", "R", "Slight Right", "R", "Straight", "S", "U turn", "U", "Control", IF('Cue sheet exported from RwGPS'!E140='Cue sheet exported from RwGPS'!E139, "", "S"), "") -> R | C143: W | D143: =IF(ISBLANK('Cue sheet exported from RwGPS'!D139), "Finish control", 'Cue sheet exported from RwGPS'!D139) -> Turn right onto Promontory Rd | E143: =IF(ISBLANK('Cue sheet exported from RwGPS'!E140), "", 'Cue sheet exported from RwGPS'!E140-'Cue sheet exported from RwGPS'!E139) -> 0.6
A144: =IF(ISNUMBER('Cue sheet exported from RwGPS'!E140), 'Cue sheet exported from RwGPS'!E140, "") -> 349.4 | B144: =_xlfn.SWITCH('Cue sheet exported from RwGPS'!C140, "Left", "L", "Sharp Left", "L", "Slight Left", "L", "Right", "R", "Sharp Right", "R", "Slight Right", "R", "Straight", "S", "U turn", "U", "Control", IF('Cue sheet exported from RwGPS'!E141='Cue sheet exported from RwGPS'!E140, "", "S"), "") -> L | C144: S | D144: =IF(ISBLANK('Cue sheet exported from RwGPS'!D140), "Finish control", 'Cue sheet exported from RwGPS'!D140) -> Turn left onto Thomas Rd | E144: =IF(ISBLANK('Cue sheet exported from RwGPS'!E141), "", 'Cue sheet exported from RwGPS'!E141-'Cue sheet exported from RwGPS'!E140) -> 1.1
... A149: =IF(ISNUMBER('Cue sheet exported from RwGPS'!E145), 'Cue sheet exported from RwGPS'!E145, "") -> 366.6 | B149: =_xlfn.SWITCH('Cue sheet exported from RwGPS'!C145, "Left", "L", "Sharp Left", "L", "Slight Left", "L", "Right", "R", "Sharp Right", "R", "Slight Right", "R", "Straight", "S", "U turn", "U", "Control", IF('Cue sheet exported from RwGPS'!E146='Cue sheet exported from RwGPS'!E145, "", "S"), "") -> R | C149: W | D149: =IF(ISBLANK('Cue sheet exported from RwGPS'!D145), "Finish control", 'Cue sheet exported from RwGPS'!D145) -> Turn right onto Iverson Road | E149: =IF(ISBLANK('Cue sheet exported from RwGPS'!E146), "", 'Cue sheet exported from RwGPS'!E146-'Cue sheet exported from RwGPS'!E145) -> 4.9
A150: =IF(ISNUMBER('Cue sheet exported from RwGPS'!E146), 'Cue sheet exported from RwGPS'!E146, "") -> 371.5 | B150: =_xlfn.SWITCH('Cue sheet exported from RwGPS'!C146, "Left", "L", "Sharp Left", "L", "Slight Left", "L", "Right", "R", "Sharp Right", "R", "Slight Right", "R", "Straight", "S", "U turn", "U", "Control", IF('Cue sheet exported from RwGPS'!E147='Cue sheet exported from RwGPS'!E146, "", "S"), "") | D150: =IF(ISBLANK('Cue sheet exported from RwGPS'!D146), "Finish control", 'Cue sheet exported from RwGPS'!D146) -> Control 5: Iverson Rd @ Henderson Rd - Info | E150: =IF(ISBLANK('Cue sheet exported from RwGPS'!E147), "", 'Cue sheet exported from RwGPS'!E147-'Cue sheet exported from RwGPS'!E146) -> 0
A151: =IF(ISNUMBER('Cue sheet exported from RwGPS'!E147), 'Cue sheet exported from RwGPS'!E147, "") -> 371.5 | B151: =_xlfn.SWITCH('Cue sheet exported from RwGPS'!C147, "Left", "L", "Sharp Left", "L", "Slight Left", "L", "Right", "R", "Sharp Right", "R", "Slight Right", "R", "Straight", "S", "U turn", "U", "Control", IF('Cue sheet exported from RwGPS'!E148='Cue sheet exported from RwGPS'!E147, "", "S"), "") -> L | C151: E | D151: =IF(ISBLANK('Cue sheet exported from RwGPS'!D147), "Finish control", 'Cue sheet exported from RwGPS'!D147) -> Continue onto Henderson Road | E151: =IF(ISBLANK('Cue sheet exported from RwGPS'!E148), "", 'Cue sheet exported from RwGPS'!E148-'Cue sheet exported from RwGPS'!E147) -> 2.7
A152: =IF(ISNUMBER('Cue sheet exported from RwGPS'!E148), 'Cue sheet exported from RwGPS'!E148, "") -> 374.2 | B152: =_xlfn.SWITCH('Cue sheet exported from RwGPS'!C148, "Left", "L", "Sharp Left", "L", "Slight Left", "L", "Right", "R", "Sharp Right", "R", "Slight Right", "R", "Straight", "S", "U turn", "U", "Control", IF('Cue sheet exported from RwGPS'!E149='Cue sheet exported from RwGPS'!E148, "", "S"), "") -> S | C152: NE | D152: =IF(ISBLANK('Cue sheet exported from RwGPS'!D148), "Finish control", 'Cue sheet exported from RwGPS'!D148) -> Continue onto Maple Falls Road | E152: =IF(ISBLANK('Cue sheet exported from RwGPS'!E149), "", 'Cue sheet exported from RwGPS'!E149-'Cue sheet exported from RwGPS'!E148) -> 2
A153: =IF(ISNUMBER('Cue sheet exported from RwGPS'!E149), 'Cue sheet exported from RwGPS'!E149, "") -> 376.2 | B153: =_xlfn.SWITCH('Cue sheet exported from RwGPS'!C149, "Left", "L", "Sharp Left", "L", "Slight Left", "L", "Right", "R", "Sharp Right", "R", "Slight Right", "R", "Straight", "S", "U turn", "U", "Control", IF('Cue sheet exported from RwGPS'!E150='Cue sheet exported from RwGPS'!E149, "", "S"), "") -> L | C153: N | D153: =IF(ISBLANK('Cue sheet exported from RwGPS'!D149), "Finish control", 'Cue sheet exported from RwGPS'!D149) -> Turn slight left onto Koksikar Road | E153: =IF(ISBLANK('Cue sheet exported from RwGPS'!E150), "", 'Cue sheet exported from RwGPS'!E150-'Cue sheet exported from RwGPS'!E149) -> 1.2
A154: =IF(ISNUMBER('Cue sheet exported from RwGPS'!E150), 'Cue sheet exported from RwGPS'!E150, "") -> 377.4 | B154: =_xlfn.SWITCH('Cue sheet exported from RwGPS'!C150, "Left", "L", "Sharp Left", "L", "Slight Left", "L", "Right", "R", "Sharp Right", "R", "Slight Right", "R", "Straight", "S", "U turn", "U", "Control", IF('Cue sheet exported from RwGPS'!E151='Cue sheet exported from RwGPS'!E150, "", "S"), "") -> R | C154: NE | D154: =IF(ISBLANK('Cue sheet exported from RwGPS'!D150), "Finish control", 'Cue sheet exported from RwGPS'!D150) -> Turn right onto Columbia Valley Road | E154: =IF(ISBLANK('Cue sheet exported from RwGPS'!E151), "", 'Cue sheet exported from RwGPS'!E151-'Cue sheet exported from RwGPS'!E150) -> 14
A155: =IF(ISNUMBER('Cue sheet exported from RwGPS'!E151), 'Cue sheet exported from RwGPS'!E151, "") -> 391.4 | B155: =_xlfn.SWITCH('Cue sheet exported from RwGPS'!C151, "Left", "L", "Sharp Left", "L", "Slight Left", "L", "Right", "R", "Sharp Right", "R", "Slight Right", "R", "Straight", "S", "U turn", "U", "Control", IF('Cue sheet exported from RwGPS'!E152='Cue sheet exported from RwGPS'!E151, "", "S"), "") -> L | C155: W | D155: =IF(ISBLANK('Cue sheet exported from RwGPS'!D151), "Finish control", 'Cue sheet exported from RwGPS'!D151) -> At roundabout, take exit 2 onto Vedder Mountain Road | E155: =IF(ISBLANK('Cue sheet exported from RwGPS'!E152), "", 'Cue sheet exported from RwGPS'!E152-'Cue sheet exported from RwGPS'!E151) -> 4.4
A156: =IF(ISNUMBER('Cue sheet exported from RwGPS'!E152), 'Cue sheet exported from RwGPS'!E152, "") -> 395.8 | B156: =_xlfn.SWITCH('Cue sheet exported from RwGPS'!C152, "Left", "L", "Sharp Left", "L", "Slight Left", "L", "Right", "R", "Sharp Right", "R", "Slight Right", "R", "Straight", "S", "U turn", "U", "Control", IF('Cue sheet exported from RwGPS'!E153='Cue sheet exported from RwGPS'!E152, "", "S"), "") -> S | C156: SW | D156: =IF(ISBLANK('Cue sheet exported from RwGPS'!D152), "Finish control", 'Cue sheet exported from RwGPS'!D152) -> Continue onto Yarrow Central Rd | E156: =IF(ISBLANK('Cue sheet exported from RwGPS'!E153), "", 'Cue sheet exported from RwGPS'!E153-'Cue sheet exported from RwGPS'!E152) -> 0.9
A157: =IF(ISNUMBER('Cue sheet exported from RwGPS'!E153), 'Cue sheet exported from RwGPS'!E153, "") -> 396.7 | B157: =_xlfn.SWITCH('Cue sheet exported from RwGPS'!C153, "Left", "L", "Sharp Left", "L", "Slight Left", "L", "Right", "R", "Sharp Right", "R", "Slight Right", "R", "Straight", "S", "U turn", "U", "Control", IF('Cue sheet exported from RwGPS'!E154='Cue sheet exported from RwGPS'!E153, "", "S"), "") -> L | C157: S | D157: =IF(ISBLANK('Cue sheet exported from RwGPS'!D153), "Finish control", 'Cue sheet exported from RwGPS'!D153) -> Turn left onto Old Yale Wagon Trail | E157: =IF(ISBLANK('Cue sheet exported from RwGPS'!E154), "", 'Cue sheet exported from RwGPS'!E154-'Cue sheet exported from RwGPS'!E153) -> 0.1
A158: =IF(ISNUMBER('Cue sheet exported from RwGPS'!E154), 'Cue sheet exported from RwGPS'!E154, "") -> 396.8 | B158: =_xlfn.SWITCH('Cue sheet exported from RwGPS'!C154, "Left", "L", "Sharp Left", "L", "Slight Left", "L", "Right", "R", "Sharp Right", "R", "Slight Right", "R", "Straight", "S", "U turn", "U", "Control", IF('Cue sheet exported from RwGPS'!E155='Cue sheet exported from RwGPS'!E154, "", "S"), "") -> R | C158: SW | D158: =IF(ISBLANK('Cue sheet exported from RwGPS'!D154), "Finish control", 'Cue sheet exported from RwGPS'!D154) -> Keep right onto Old Yale Wagon Trail | E158: =IF(ISBLANK('Cue sheet exported from RwGPS'!E155), "", 'Cue sheet exported from RwGPS'!E155-'Cue sheet exported from RwGPS'!E154) -> 0.7
A159: =IF(ISNUMBER('Cue sheet exported from RwGPS'!E155), 'Cue sheet exported from RwGPS'!E155, "") -> 397.5 | B159: =_xlfn.SWITCH('Cue sheet exported from RwGPS'!C155, "Left", "L", "Sharp Left", "L", "Slight Left", "L", "Right", "R", "Sharp Right", "R", "Slight Right", "R", "Straight", "S", "U turn", "U", "Control", IF('Cue sheet exported from RwGPS'!E156='Cue sheet exported from RwGPS'!E155, "", "S"), "") -> S | C159: SW | D159: =IF(ISBLANK('Cue sheet exported from RwGPS'!D155), "Finish control", 'Cue sheet exported from RwGPS'!D155) -> Continue onto Majuba Hill Road | E159: =IF(ISBLANK('Cue sheet exported from RwGPS'!E156), "", 'Cue sheet exported from RwGPS'!E156-'Cue sheet exported from RwGPS'!E155) -> 4.7
A160: =IF(ISNUMBER('Cue sheet exported from RwGPS'!E156), 'Cue sheet exported from RwGPS'!E156, "") -> 402.2 | B160: =_xlfn.SWITCH('Cue sheet exported from RwGPS'!C156, "Left", "L", "Sharp Left", "L", "Slight Left", "L", "Right", "R", "Sharp Right", "R", "Slight Right", "R", "Straight", "S", "U turn", "U", "Control", IF('Cue sheet exported from RwGPS'!E157='Cue sheet exported from RwGPS'!E156, "", "S"), "") -> L | C160: SW | D160: =IF(ISBLANK('Cue sheet exported from RwGPS'!D156), "Finish control", 'Cue sheet exported from RwGPS'!D156) -> Turn slight left onto Towne Road | E160: =IF(ISBLANK('Cue sheet exported from RwGPS'!E157), "", 'Cue sheet exported from RwGPS'!E157-'Cue sheet exported from RwGPS'!E156) -> 1.6
A161: =IF(ISNUMBER('Cue sheet exported from RwGPS'!E157), 'Cue sheet exported from RwGPS'!E157, "") -> 403.8 | B161: =_xlfn.SWITCH('Cue sheet exported from RwGPS'!C157, "Left", "L", "Sharp Left", "L", "Slight Left", "L", "Right", "R", "Sharp Right", "R", "Slight Right", "R", "Straight", "S", "U turn", "U", "Control", IF('Cue sheet exported from RwGPS'!E158='Cue sheet exported from RwGPS'!E157, "", "S"), "") -> L | C161: S | D161: =IF(ISBLANK('Cue sheet exported from RwGPS'!D157), "Finish control", 'Cue sheet exported from RwGPS'!D157) -> Turn left onto Interprovincial Highway | E161: =IF(ISBLANK('Cue sheet exported from RwGPS'!E158), "", 'Cue sheet exported from RwGPS'!E158-'Cue sheet exported from RwGPS'!E157) -> 1.8
A162: =IF(ISNUMBER('Cue sheet exported from RwGPS'!E158), 'Cue sheet exported from RwGPS'!E158, "") -> 405.6 | B162: =_xlfn.SWITCH('Cue sheet exported from RwGPS'!C158, "Left", "L", "Sharp Left", "L", "Slight Left", "L", "Right", "R", "Sharp Right", "R", "Slight Right", "R", "Straight", "S", "U turn", "U", "Control", IF('Cue sheet exported from RwGPS'!E159='Cue sheet exported from RwGPS'!E158, "", "S"), "") -> R | C162: W | D162: =IF(ISBLANK('Cue sheet exported from RwGPS'!D158), "Finish control", 'Cue sheet exported from RwGPS'!D158) -> Slight right onto Wells Line Road | E162: =IF(ISBLANK('Cue sheet exported from RwGPS'!E159), "", 'Cue sheet exported from RwGPS'!E159-'Cue sheet exported from RwGPS'!E158) -> 6.6
... A166: =IF(ISNUMBER('Cue sheet exported from RwGPS'!E162), 'Cue sheet exported from RwGPS'!E162, "") -> 415.9 | B166: =_xlfn.SWITCH('Cue sheet exported from RwGPS'!C162, "Left", "L", "Sharp Left", "L", "Slight Left", "L", "Right", "R", "Sharp Right", "R", "Slight Right", "R", "Straight", "S", "U turn", "U", "Control", IF('Cue sheet exported from RwGPS'!E163='Cue sheet exported from RwGPS'!E162, "", "S"), "") -> L | C166: SW | D166: =IF(ISBLANK('Cue sheet exported from RwGPS'!D162), "Finish control", 'Cue sheet exported from RwGPS'!D162) -> Turn left onto N Parallel Rd | E166: =IF(ISBLANK('Cue sheet exported from RwGPS'!E163), "", 'Cue sheet exported from RwGPS'!E163-'Cue sheet exported from RwGPS'!E162) -> 0.5
A167: =IF(ISNUMBER('Cue sheet exported from RwGPS'!E163), 'Cue sheet exported from RwGPS'!E163, "") -> 416.4 | B167: =_xlfn.SWITCH('Cue sheet exported from RwGPS'!C163, "Left", "L", "Sharp Left", "L", "Slight Left", "L", "Right", "R", "Sharp Right", "R", "Slight Right", "R", "Straight", "S", "U turn", "U", "Control", IF('Cue sheet exported from RwGPS'!E164='Cue sheet exported from RwGPS'!E163, "", "S"), "") -> S | D167: =IF(ISBLANK('Cue sheet exported from RwGPS'!D163), "Finish control", 'Cue sheet exported from RwGPS'!D163) -> Control 6: Clarion Hotel - Info | E167: =IF(ISBLANK('Cue sheet exported from RwGPS'!E164), "", 'Cue sheet exported from RwGPS'!E164-'Cue sheet exported from RwGPS'!E163) -> 0.8
A168: =IF(ISNUMBER('Cue sheet exported from RwGPS'!E164), 'Cue sheet exported from RwGPS'!E164, "") -> 417.2 | B168: =_xlfn.SWITCH('Cue sheet exported from RwGPS'!C164, "Left", "L", "Sharp Left", "L", "Slight Left", "L", "Right", "R", "Sharp Right", "R", "Slight Right", "R", "Straight", "S", "U turn", "U", "Control", IF('Cue sheet exported from RwGPS'!E165='Cue sheet exported from RwGPS'!E164, "", "S"), "") -> L | C168: W | D168: =IF(ISBLANK('Cue sheet exported from RwGPS'!D164), "Finish control", 'Cue sheet exported from RwGPS'!D164) -> Turn left onto Old Yale Rd | E168: =IF(ISBLANK('Cue sheet exported from RwGPS'!E165), "", 'Cue sheet exported from RwGPS'!E165-'Cue sheet exported from RwGPS'!E164) -> 0.6
A169: =IF(ISNUMBER('Cue sheet exported from RwGPS'!E165), 'Cue sheet exported from RwGPS'!E165, "") -> 417.8 | B169: =_xlfn.SWITCH('Cue sheet exported from RwGPS'!C165, "Left", "L", "Sharp Left", "L", "Slight Left", "L", "Right", "R", "Sharp Right", "R", "Slight Right", "R", "Straight", "S", "U turn", "U", "Control", IF('Cue sheet exported from RwGPS'!E166='Cue sheet exported from RwGPS'!E165, "", "S"), "") -> L | C169: SW | D169: =IF(ISBLANK('Cue sheet exported from RwGPS'!D165), "Finish control", 'Cue sheet exported from RwGPS'!D165) -> Turn left onto Delair Rd | E169: =IF(ISBLANK('Cue sheet exported from RwGPS'!E166), "", 'Cue sheet exported from RwGPS'!E166-'Cue sheet exported from RwGPS'!E165) -> 2.2
A170: =IF(ISNUMBER('Cue sheet exported from RwGPS'!E166), 'Cue sheet exported from RwGPS'!E166, "") -> 420 | B170: =_xlfn.SWITCH('Cue sheet exported from RwGPS'!C166, "Left", "L", "Sharp Left", "L", "Slight Left", "L", "Right", "R", "Sharp Right", "R", "Slight Right", "R", "Straight", "S", "U turn", "U", "Control", IF('Cue sheet exported from RwGPS'!E167='Cue sheet exported from RwGPS'!E166, "", "S"), "") -> R | C170: N | D170: =IF(ISBLANK('Cue sheet exported from RwGPS'!D166), "Finish control", 'Cue sheet exported from RwGPS'!D166) -> Turn right onto BC-11 N | E170: =IF(ISBLANK('Cue sheet exported from RwGPS'!E167), "", 'Cue sheet exported from RwGPS'!E167-'Cue sheet exported from RwGPS'!E166) -> 0.3
A171: =IF(ISNUMBER('Cue sheet exported from RwGPS'!E167), 'Cue sheet exported from RwGPS'!E167, "") -> 420.3 | B171: =_xlfn.SWITCH('Cue sheet exported from RwGPS'!C167, "Left", "L", "Sharp Left", "L", "Slight Left", "L", "Right", "R", "Sharp Right", "R", "Slight Right", "R", "Straight", "S", "U turn", "U", "Control", IF('Cue sheet exported from RwGPS'!E168='Cue sheet exported from RwGPS'!E167, "", "S"), "") -> L | C171: W | D171: =IF(ISBLANK('Cue sheet exported from RwGPS'!D167), "Finish control", 'Cue sheet exported from RwGPS'!D167) -> Turn left onto Marshall Rd | E171: =IF(ISBLANK('Cue sheet exported from RwGPS'!E168), "", 'Cue sheet exported from RwGPS'!E168-'Cue sheet exported from RwGPS'!E167) -> 0.3
A172: =IF(ISNUMBER('Cue sheet exported from RwGPS'!E168), 'Cue sheet exported from RwGPS'!E168, "") -> 420.6 | B172: =_xlfn.SWITCH('Cue sheet exported from RwGPS'!C168, "Left", "L", "Sharp Left", "L", "Slight Left", "L", "Right", "R", "Sharp Right", "R", "Slight Right", "R", "Straight", "S", "U turn", "U", "Control", IF('Cue sheet exported from RwGPS'!E169='Cue sheet exported from RwGPS'!E168, "", "S"), "") -> L | C172: S | D172: =IF(ISBLANK('Cue sheet exported from RwGPS'!D168), "Finish control", 'Cue sheet exported from RwGPS'!D168) -> Turn left onto Riverside Rd | E172: =IF(ISBLANK('Cue sheet exported from RwGPS'!E169), "", 'Cue sheet exported from RwGPS'!E169-'Cue sheet exported from RwGPS'!E168) -> 0.6
A173: =IF(ISNUMBER('Cue sheet exported from RwGPS'!E169), 'Cue sheet exported from RwGPS'!E169, "") -> 421.2 | B173: =_xlfn.SWITCH('Cue sheet exported from RwGPS'!C169, "Left", "L", "Sharp Left", "L", "Slight Left", "L", "Right", "R", "Sharp Right", "R", "Slight Right", "R", "Straight", "S", "U turn", "U", "Control", IF('Cue sheet exported from RwGPS'!E170='Cue sheet exported from RwGPS'!E169, "", "S"), "") -> R | C173: W | D173: =IF(ISBLANK('Cue sheet exported from RwGPS'!D169), "Finish control", 'Cue sheet exported from RwGPS'!D169) -> Turn right onto King Rd | E173: =IF(ISBLANK('Cue sheet exported from RwGPS'!E170), "", 'Cue sheet exported from RwGPS'!E170-'Cue sheet exported from RwGPS'!E169) -> 3.3
A174: =IF(ISNUMBER('Cue sheet exported from RwGPS'!E170), 'Cue sheet exported from RwGPS'!E170, "") -> 424.5 | B174: =_xlfn.SWITCH('Cue sheet exported from RwGPS'!C170, "Left", "L", "Sharp Left", "L", "Slight Left", "L", "Right", "R", "Sharp Right", "R", "Slight Right", "R", "Straight", "S", "U turn", "U", "Control", IF('Cue sheet exported from RwGPS'!E171='Cue sheet exported from RwGPS'!E170, "", "S"), "") -> L | C174: S | D174: =IF(ISBLANK('Cue sheet exported from RwGPS'!D170), "Finish control", 'Cue sheet exported from RwGPS'!D170) -> Turn left onto Gladwin Rd | E174: =IF(ISBLANK('Cue sheet exported from RwGPS'!E171), "", 'Cue sheet exported from RwGPS'!E171-'Cue sheet exported from RwGPS'!E170) -> 1.5
A175: =IF(ISNUMBER('Cue sheet exported from RwGPS'!E171), 'Cue sheet exported from RwGPS'!E171, "") -> 426 | B175: =_xlfn.SWITCH('Cue sheet exported from RwGPS'!C171, "Left", "L", "Sharp Left", "L", "Slight Left", "L", "Right", "R", "Sharp Right", "R", "Slight Right", "R", "Straight", "S", "U turn", "U", "Control", IF('Cue sheet exported from RwGPS'!E172='Cue sheet exported from RwGPS'!E171, "", "S"), "") -> R | C175: W | D175: =IF(ISBLANK('Cue sheet exported from RwGPS'!D171), "Finish control", 'Cue sheet exported from RwGPS'!D171) -> Turn right onto Huntingdon Rd | E175: =IF(ISBLANK('Cue sheet exported from RwGPS'!E172), "", 'Cue sheet exported from RwGPS'!E172-'Cue sheet exported from RwGPS'!E171) -> 3.3
A176: =IF(ISNUMBER('Cue sheet exported from RwGPS'!E172), 'Cue sheet exported from RwGPS'!E172, "") -> 429.3 | B176: =_xlfn.SWITCH('Cue sheet exported from RwGPS'!C172, "Left", "L", "Sharp Left", "L", "Slight Left", "L", "Right", "R", "Sharp Right", "R", "Slight Right", "R", "Straight", "S", "U turn", "U", "Control", IF('Cue sheet exported from RwGPS'!E173='Cue sheet exported from RwGPS'!E172, "", "S"), "") -> L | C176: S | D176: =IF(ISBLANK('Cue sheet exported from RwGPS'!D172), "Finish control", 'Cue sheet exported from RwGPS'!D172) -> Turn left onto Townline Road | E176: =IF(ISBLANK('Cue sheet exported from RwGPS'!E173), "", 'Cue sheet exported from RwGPS'!E173-'Cue sheet exported from RwGPS'!E172) -> 1.6
A177: =IF(ISNUMBER('Cue sheet exported from RwGPS'!E173), 'Cue sheet exported from RwGPS'!E173, "") -> 430.9 | B177: =_xlfn.SWITCH('Cue sheet exported from RwGPS'!C173, "Left", "L", "Sharp Left", "L", "Slight Left", "L", "Right", "R", "Sharp Right", "R", "Slight Right", "R", "Straight", "S", "U turn", "U", "Control", IF('Cue sheet exported from RwGPS'!E174='Cue sheet exported from RwGPS'!E173, "", "S"), "") -> R | C177: W | D177: =IF(ISBLANK('Cue sheet exported from RwGPS'!D173), "Finish control", 'Cue sheet exported from RwGPS'!D173) -> Slight right onto 0 Avenue | E177: =IF(ISBLANK('Cue sheet exported from RwGPS'!E174), "", 'Cue sheet exported from RwGPS'!E174-'Cue sheet exported from RwGPS'!E173) -> 9.2
A178: =IF(ISNUMBER('Cue sheet exported from RwGPS'!E174), 'Cue sheet exported from RwGPS'!E174, "") -> 440.1 | B178: =_xlfn.SWITCH('Cue sheet exported from RwGPS'!C174, "Left", "L", "Sharp Left", "L", "Slight Left", "L", "Right", "R", "Sharp Right", "R", "Slight Right", "R", "Straight", "S", "U turn", "U", "Control", IF('Cue sheet exported from RwGPS'!E175='Cue sheet exported from RwGPS'!E174, "", "S"), "") -> R | C178: NW | D178: =IF(ISBLANK('Cue sheet exported from RwGPS'!D174), "Finish control", 'Cue sheet exported from RwGPS'!D174) -> Turn slight right onto 264 Diversion | E178: =IF(ISBLANK('Cue sheet exported from RwGPS'!E175), "", 'Cue sheet exported from RwGPS'!E175-'Cue sheet exported from RwGPS'!E174) -> 0.6
...

Sheet Cue sheet exported from RwGPS
A1: 600.2 kilometers
A2: LM Hope and Desperation 600 (2025)
A3: Leg | B3: Dir | C3: Type | D3: Notes | E3: Total
B4: ← | C4: Left | D4: Turn left onto East 4th Avenue | E4: 0
A5: 0.1 | B5: → | C5: Slight Right | D5: Continue onto Kootenay Street | E5: 0.1
A6: 0.2 | B6: → | C6: Slight Right | D6: Continue onto East 2nd Avenue | E6: 0.3
A7: 0.2 | B7: ← | C7: Left | D7: Turn left onto Boundary Road | E7: 0.5
A8: 1 | B8: ← | C8: Left | D8: Turn left onto Adanac St/​Adanac Bikeway | E8: 1.6
A9: 4.1 | B9: ← | C9: Left | D9: Turn left onto Vernon Drive | E9: 5.6
A10: 0 | B10: → | C10: Right | D10: Turn right onto Union Street | E10: 5.7
A11: 0.6 | B11: ↑ | C11: Straight | D11: Go straight through park path | E11: 6.3
A12: 0.9 | B12: ← | C12: Slight Left | D12: Keep left onto Dunsmuir Viaduct | E12: 7.2
A13: 1.8 | B13: ↑ | C13: Straight | D13: Continue onto Melville Street | E13: 8.9
A14: 0.6 | B14: ← | C14: Sharp Left | D14: Turn sharp left onto West Pender Street | E14: 9.6
A15: 0.4 | B15: → | C15: Slight Right | D15: Turn slight right onto West Georgia Street | E15: 9.9
A16: 0.5 | B16: → | C16: Slight Right | D16: Take the Stanley Park exit | E16: 10.5
... A274: 0.1 | B274: → | C274: Right | D274: Turn right | E274: 600.1
