Workbook
Name HTML_1: 'Cue sheet exported from RwGPS'!$A$5:$D$246
Name HTML_all: 'Cue sheet exported from RwGPS'!$A$1:$D$247
Name HTML_tables: 'Cue sheet exported from RwGPS'!#REF!

Sheet BCR Cue Sheet
A1: LM Spring 600 - Hope and Desperation
A2: Date: Saturday 2025-05-24 06:00
A3: Organizer: Dara Poon
A4: Start: McDonald's, Lougheed Hwy & Boundary Rd, Vancouver
A5: Finish: McDonald's, Lougheed Hwy & Boundary Rd, Vancouver
A6: Dist. (cum.) | B6: Turn | C6: Direction | D6: Route Description | E6: Dist.(int.)
A7: =IF(ISNUMBER('Cue sheet exported from RwGPS'!D3), 'Cue sheet exported from RwGPS'!D3, "") | D7: Start
A8: =IF(ISNUMBER('Cue sheet exported from RwGPS'!E4), 'Cue sheet exported from RwGPS'!E4, "") -> 0 | B8: =_xlfn.SWITCH('Cue sheet exported from RwGPS'!C4, "Left", "L", "Sharp Left", "L", "Slight Left", "L", "Right", "R", "Sharp Right", "R", "Slight Right", "R", "Straight", "S", "U turn", "U", "Control", IF('Cue sheet exported from RwGPS'!E5='Cue sheet exported from RwGPS'!E4, "", "S"), "") -> L | C8: W | D8: =IF(ISBLANK('Cue sheet exported from RwGPS'!D4), "Finish control", 'Cue sheet exported from RwGPS'!D4) -> Turn left onto East 4th Avenue | E8: =IF(ISBLANK('Cue sheet exported from RwGPS'!E5), "", 'Cue sheet exported from RwGPS'!E5-'Cue sheet exported from RwGPS'!E4) -> 0.1
A9: =IF(ISNUMBER('Cue sheet exported from RwGPS'!E5), 'Cue sheet exported from RwGPS'!E5, "") -> 0.1 | B9: =_xlfn.SWITCH('Cue sheet exported from RwGPS'!C5, "Left", "L", "Sharp Left", "L", "Slight Left", "L", "Right", "R", "Sharp Right", "R", "Slight Right", "R", "Straight", "S", "U turn", "U", "Control", IF('Cue sheet exported from RwGPS'!E6='Cue sheet exported from RwGPS'!E5, "", "S"), "") -> R | C9: N | D9: =IF(ISBLANK('Cue sheet exported from RwGPS'!D5), "Finish control", 'Cue sheet exported from RwGPS'!D5) -> Continue onto Kootenay Street | E9: =IF(ISBLANK('Cue sheet exported from RwGPS'!E6), "", 'Cue sheet exported from RwGPS'!E6-'Cue sheet exported from RwGPS'!E5) -> 0.2
A10: =IF(ISNUMBER('Cue sheet exported from RwGPS'!E6), 'Cue sheet exported from RwGPS'!E6, "") -> 0.3 | B10: =_xlfn.SWITCH('Cue sheet exported from RwGPS'!C6, "Left", "L", "Sharp Left", "L", "Slight Left", "L", "Right", "R", "Sharp Right", "R", "Slight Right", "R", "Straight", "S", "U turn", "U", "Control", IF('Cue sheet exported from RwGPS'!E7='Cue sheet exported from RwGPS'!E6, "", "S"), "") -> R | C10: E | D10: =IF(ISBLANK('Cue sheet exported from RwGPS'!D6), "Finish control", 'Cue sheet exported from RwGPS'!D6) -> Continue onto East 2nd Avenue | E10: =IF(ISBLANK('Cue sheet exported from RwGPS'!E7), "", 'Cue sheet exported from RwGPS'!E7-'Cue sheet exported from RwGPS'!E6) -> 0.2
A11: =IF(ISNUMBER('Cue sheet exported from RwGPS'!E7), 'Cue sheet exported from RwGPS'!E7, "") -> 0.5 | B11: =_xlfn.SWITCH('Cue sheet exported from RwGPS'!C7, "Left", "L", "Sharp Left", "L", "Slight Left", "L", "Right", "R", "Sharp Right", "R", "Slight Right", "R", "Straight", "S", "U turn", "U", "Control", IF('Cue sheet exported from RwGPS'!E8='Cue sheet exported from RwGPS'!E7, "", "S"), "") -> L | C11: N | D11: =IF(ISBLANK('Cue sheet exported from RwGPS'!D7), "Finish control", 'Cue sheet exported from RwGPS'!D7) -> Turn left onto Boundary Road | E11: =IF(ISBLANK('Cue sheet exported from RwGPS'!E8), "", 'Cue sheet exported from RwGPS'!E8-'Cue sheet exported from RwGPS'!E7) -> 1.1
A12: =IF(ISNUMBER('Cue sheet exported from RwGPS'!E8), 'Cue sheet exported from RwGPS'!E8, "") -> 1.6 | B12: =_xlfn.SWITCH('Cue sheet exported from RwGPS'!C8, "Left", "L", "Sharp Left", "L", "Slight Left", "L", "Right", "R", "Sharp Right", "R", "Slight Right", "R", "Straight", "S", "U turn", "U", "Control", IF('Cue sheet exported from RwGPS'!E9='Cue sheet exported from RwGPS'!E8, "", "S"), "") -> L | C12: W | D12: =IF(ISBLANK('Cue sheet exported from RwGPS'!D8), "Finish control", 'Cue sheet exported from RwGPS'!D8) -> Turn left onto Adanac St/​Adanac Bikeway | E12: =IF(ISBLANK('Cue sheet exported from RwGPS'!E9), "", 'Cue sheet exported from RwGPS'!E9-'Cue sheet exported from RwGPS'!E8) -> 4
A13: =IF(ISNUMBER('Cue sheet exported from RwGPS'!E9), 'Cue sheet exported from RwGPS'!E9, "") -> 5.6 | B13: =_xlfn.SWITCH('Cue sheet exported from RwGPS'!C9, "Left", "L", "Sharp Left", "L", "Slight Left", "L", "Right", "R", "Sharp Right", "R", "Slight Right", "R", "Straight", "S", "U turn", "U", "Control", IF('Cue sheet exported from RwGPS'!E10='Cue sheet exported from RwGPS'!E9, "", "S"), "") -> L | C13: S | D13: =IF(ISBLANK('Cue sheet exported from RwGPS'!D9), "Finish control", 'Cue sheet exported from RwGPS'!D9) -> Turn left onto Vernon Drive | E13: =IF(ISBLANK('Cue sheet exported from RwGPS'!E10), "", 'Cue sheet exported from RwGPS'!E10-'Cue sheet exported from RwGPS'!E9) -> 0.1
A14: =IF(ISNUMBER('Cue sheet exported from RwGPS'!E10), 'Cue sheet exported from RwGPS'!E10, "") -> 5.7 | B14: =_xlfn.SWITCH('Cue sheet exported from RwGPS'!C10, "Left", "L", "Sharp Left", "L", "Slight Left", "L", "Right", "R", "Sharp Right", "R", "Slight Right", "R", "Straight", "S", "U turn", "U", "Control", IF('Cue sheet exported from RwGPS'!E11='Cue sheet exported from RwGPS'!E10, "", "S"), "") -> R | C14: W | D14: =IF(ISBLANK('Cue sheet exported from RwGPS'!D10), "Finish control", 'Cue sheet exported from RwGPS'!D10) -> Turn right onto Union Street | E14: =IF(ISBLANK('Cue sheet exported from RwGPS'!E11), "", 'Cue sheet exported from RwGPS'!E11-'Cue sheet exported from RwGPS'!E10) -> 0.6
A15: =IF(ISNUMBER('Cue sheet exported from RwGPS'!E11), 'Cue sheet exported from RwGPS'!E11, "") -> 6.3 | B15: =_xlfn.SWITCH('Cue sheet exported from RwGPS'!C11, "Left", "L", "Sharp Left", "L", "Slight Left", "L", "Right", "R", "Sharp Right", "R", "Slight Right", "R", "Straight", "S", "U turn", "U", "Control", IF('Cue sheet exported from RwGPS'!E12='Cue sheet exported from RwGPS'!E11, "", "S"), "") -> S | C15: W | D15: =IF(ISBLANK('Cue sheet exported from RwGPS'!D11), "Finish control", 'Cue sheet exported from RwGPS'!D11) -> Go straight through park path | E15: =IF(ISBLANK('Cue sheet exported from RwGPS'!E12), "", 'Cue sheet exported from RwGPS'!E12-'Cue sheet exported from RwGPS'!E11) -> 0.9
A16: =IF(ISNUMBER('Cue sheet exported from RwGPS'!E12), 'Cue sheet exported from RwGPS'!E12, "") -> 7.2 | B16: =_xlfn.SWITCH('Cue sheet exported from RwGPS'!C12, "Left", "L", "Sharp Left", "L", "Slight Left", "L", "Right", "R", "Sharp Right", "R", "Slight Right", "R", "Straight", "S", "U turn", "U", "Control", IF('Cue sheet exported from RwGPS'!E13='Cue sheet exported from RwGPS'!E12, "", "S"), "") -> L | C16: W | D16: =IF(ISBLANK('Cue sheet exported from RwGPS'!D12), "Finish control", 'Cue sheet exported from RwGPS'!D12) -> Keep left onto Dunsmuir Viaduct | E16: =IF(ISBLANK('Cue sheet exported from RwGPS'!E13), "", 'Cue sheet exported from RwGPS'!E13-'Cue sheet exported from RwGPS'!E12) -> 1.7
A17: =IF(ISNUMBER('Cue sheet exported from RwGPS'!E13), 'Cue sheet exported from RwGPS'!E13, "") -> 8.9 | B17: =_xlfn.SWITCH('Cue sheet exported from RwGPS'!C13, "Left", "L", "Sharp Left", "L", "Slight Left", "L", "Right", "R", "Sharp Right", "R", "Slight Right", "R", "Straight", "S", "U turn", "U", "Control", IF('Cue sheet exported from RwGPS'!E14='Cue sheet exported from RwGPS'!E13, "", "S"), "") -> S | C17: NW | D17: =IF(ISBLANK('Cue sheet exported from RwGPS'!D13), "Finish control", 'Cue sheet exported from RwGPS'!D13) -> Continue onto Melville Street | E17: =IF(ISBLANK('Cue sheet exported from RwGPS'!E14), "", 'Cue sheet exported from RwGPS'!E14-'Cue sheet exported from RwGPS'!E13) -> 0.7
A18: =IF(ISNUMBER('Cue sheet exported from RwGPS'!E14), 'Cue sheet exported from RwGPS'!E14, "") -> 9.6 | B18: =_xlfn.SWITCH('Cue sheet exported from RwGPS'!C14, "Left", "L", "Sharp Left", "L", "Slight Left", "L", "Right", "R", "Sharp Right", "R", "Slight Right", "R", "Straight", "S", "U turn", "U", "Control", IF('Cue sheet exported from RwGPS'!E15='Cue sheet exported from RwGPS'!E14, "", "S"), "") -> L | C18: NW | D18: =IF(ISBLANK('Cue sheet exported from RwGPS'!D14), "Finish control", 'Cue sheet exported from RwGPS'!D14) -> Turn sharp left onto West Pender Street | E18: =IF(ISBLANK('Cue sheet exported from RwGPS'!E15), "", 'Cue sheet exported from RwGPS'!E15-'Cue sheet exported from RwGPS'!E14) -> 0.3
A19: =IF(ISNUMBER('Cue sheet exported from RwGPS'!E15), 'Cue sheet exported from RwGPS'!E15, "") -> 9.9 | B19: =_xlfn.SWITCH('Cue sheet exported from RwGPS'!C15, "Left", "L", "Sharp Left", "L", "Slight Left", "L", "Right", "R", "Sharp Right", "R", "Slight Right", "R", "Straight", "S", "U turn", "U", "Control", IF('Cue sheet exported from RwGPS'!E16='Cue sheet exported from RwGPS'!E15, "", "S"), "") -> R | C19: NW | D19: =IF(ISBLANK('Cue sheet exported from RwGPS'!D15), "Finish control", 'Cue sheet exported from RwGPS'!D15) -> Turn slight right onto West Georgia Street | E19: =IF(ISBLANK('Cue sheet exported from RwGPS'!E16), "", 'Cue sheet exported from RwGPS'!E16-'Cue sheet exported from RwGPS'!E15) -> 0.6
... A32: =IF(ISNUMBER('Cue sheet exported from RwGPS'!E28), 'Cue sheet exported from RwGPS'!E28, "") -> 66 | B32: =_xlfn.SWITCH('Cue sheet exported from RwGPS'!C28, "Left", "L", "Sharp Left", "L", "Slight Left", "L", "Right", "R", "Sharp Right", "R", "Slight Right", "R", "Straight", "S", "U turn", "U", "Control", IF('Cue sheet exported from RwGPS'!E29='Cue sheet exported from RwGPS'!E28, "", "S"), "") -> R | C32: N | D32: =IF(ISBLANK('Cue sheet exported from RwGPS'!D28), "Finish control", 'Cue sheet exported from RwGPS'!D28) -> Exit to Outbound Station cafe and control point | E32: =IF(ISBLANK('Cue sheet exported from RwGPS'!E29), "", 'Cue sheet exported from RwGPS'!E29-'Cue sheet exported from RwGPS'!E28) -> 0.1
A33: =IF(ISNUMBER('Cue sheet exported from RwGPS'!E29), 'Cue sheet exported from RwGPS'!E29, "") -> 66.1 | B33: =_xlfn.SWITCH('Cue sheet exported from RwGPS'!C29, "Left", "L", "Sharp Left", "L", "Slight Left", "L", "Right", "R", "Sharp Right", "R", "Slight Right", "R", "Straight", "S", "U turn", "U", "Control", IF('Cue sheet exported from RwGPS'!E30='Cue sheet exported from RwGPS'!E29, "", "S"), "") -> S | D33: =IF(ISBLANK('Cue sheet exported from RwGPS'!D29), "Finish control", 'Cue sheet exported from RwGPS'!D29) -> Control 1: Outbound Station - Staffed | E33: =IF(ISBLANK('Cue sheet exported from RwGPS'!E30), "", 'Cue sheet exported from RwGPS'!E30-'Cue sheet exported from RwGPS'!E29) -> 0.4
A34: =IF(ISNUMBER('Cue sheet exported from RwGPS'!E30), 'Cue sheet exported from RwGPS'!E30, "") -> 66.5 | B34: =_xlfn.SWITCH('Cue sheet exported from RwGPS'!C30, "Left", "L", "Sharp Left", "L", "Slight Left", "L", "Right", "R", "Sharp Right", "R", "Slight Right", "R", "Straight", "S", "U turn", "U", "Control", IF('Cue sheet exported from RwGPS'!E31='Cue sheet exported from RwGPS'!E30, "", "S"), "") -> R | C34: E | D34: =IF(ISBLANK('Cue sheet exported from RwGPS'!D30), "Finish control", 'Cue sheet exported from RwGPS'!D30) -> Turn right onto Copper Drive | E34: =IF(ISBLANK('Cue sheet exported from RwGPS'!E31), "", 'Cue sheet exported from RwGPS'!E31-'Cue sheet exported from RwGPS'!E30) -> 0.1
A35: =IF(ISNUMBER('Cue sheet exported from RwGPS'!E31), 'Cue sheet exported from RwGPS'!E31, "") -> 66.6 | B35: =_xlfn.SWITCH('Cue sheet exported from RwGPS'!C31, "Left", "L", "Sharp Left", "L", "Slight Left", "L", "Right", "R", "Sharp Right", "R", "Slight Right", "R", "Straight", "S", "U turn", "U", "Control", IF('Cue sheet exported from RwGPS'!E32='Cue sheet exported from RwGPS'!E31, "", "S"), "") -> U | C35: W | D35: =IF(ISBLANK('Cue sheet exported from RwGPS'!D31), "Finish control", 'Cue sheet exported from RwGPS'!D31) -> Make a U-turn | E35: =IF(ISBLANK('Cue sheet exported from RwGPS'!E32), "", 'Cue sheet exported from RwGPS'!E32-'Cue sheet exported from RwGPS'!E31) -> 0.2
A36: =IF(ISNUMBER('Cue sheet exported from RwGPS'!E32), 'Cue sheet exported from RwGPS'!E32, "") -> 66.8 | B36: =_xlfn.SWITCH('Cue sheet exported from RwGPS'!C32, "Left", "L", "Sharp Left", "L", "Slight Left", "L", "Right", "R", "Sharp Right", "R", "Slight Right", "R", "Straight", "S", "U turn", "U", "Control", IF('Cue sheet exported from RwGPS'!E33='Cue sheet exported from RwGPS'!E32, "", "S"), "") -> L | C36: S | D36: =IF(ISBLANK('Cue sheet exported from RwGPS'!D32), "Finish control", 'Cue sheet exported from RwGPS'!D32) -> Turn left onto Sea-to-Sky Highway southbound | E36: =IF(ISBLANK('Cue sheet exported from RwGPS'!E33), "", 'Cue sheet exported from RwGPS'!E33-'Cue sheet exported from RwGPS'!E32) -> 29.4
A37: =IF(ISNUMBER('Cue sheet exported from RwGPS'!E33), 'Cue sheet exported from RwGPS'!E33, "") -> 96.2 | B37: =_xlfn.SWITCH('Cue sheet exported from RwGPS'!C33, "Left", "L", "Sharp Left", "L", "Slight Left", "L", "Right", "R", "Sharp Right", "R", "Slight Right", "R", "Straight", "S", "U turn", "U", "Control", IF('Cue sheet exported from RwGPS'!E34='Cue sheet exported from RwGPS'!E33, "", "S"), "") -> R | C37: SW | D37: =IF(ISBLANK('Cue sheet exported from RwGPS'!D33), "Finish control", 'Cue sheet exported from RwGPS'!D33) -> Take the Horseshoe Bay Dr exit | E37: =IF(ISBLANK('Cue sheet exported from RwGPS'!E34), "", 'Cue sheet exported from RwGPS'!E34-'Cue sheet exported from RwGPS'!E33) -> 2.6
A38: =IF(ISNUMBER('Cue sheet exported from RwGPS'!E34), 'Cue sheet exported from RwGPS'!E34, "") -> 98.8 | B38: =_xlfn.SWITCH('Cue sheet exported from RwGPS'!C34, "Left", "L", "Sharp Left", "L", "Slight Left", "L", "Right", "R", "Sharp Right", "R", "Slight Right", "R", "Straight", "S", "U turn", "U", "Control", IF('Cue sheet exported from RwGPS'!E35='Cue sheet exported from RwGPS'!E34, "", "S"), "") -> R | C38: W | D38: =IF(ISBLANK('Cue sheet exported from RwGPS'!D34), "Finish control", 'Cue sheet exported from RwGPS'!D34) -> Turn right onto Marine Dr | E38: =IF(ISBLANK('Cue sheet exported from RwGPS'!E35), "", 'Cue sheet exported from RwGPS'!E35-'Cue sheet exported from RwGPS'!E34) -> 0.1
A39: =IF(ISNUMBER('Cue sheet exported from RwGPS'!E35), 'Cue sheet exported from RwGPS'!E35, "") -> 98.9 | B39: =_xlfn.SWITCH('Cue sheet exported from RwGPS'!C35, "Left", "L", "Sharp Left", "L", "Slight Left", "L", "Right", "R", "Sharp Right", "R", "Slight Right", "R", "Straight", "S", "U turn", "U", "Control", IF('Cue sheet exported from RwGPS'!E36='Cue sheet exported from RwGPS'!E35, "", "S"), "") -> S | C39: S | D39: =IF(ISBLANK('Cue sheet exported from RwGPS'!D35), "Finish control", 'Cue sheet exported from RwGPS'!D35) -> At the roundabout, take the 3rd exit and stay on Marine Dr | E39: =IF(ISBLANK('Cue sheet exported from RwGPS'!E36), "", 'Cue sheet exported from RwGPS'!E36-'Cue sheet exported from RwGPS'!E35) -> 11.9
A40: =IF(ISNUMBER('Cue sheet exported from RwGPS'!E36), 'Cue sheet exported from RwGPS'!E36, "") -> 110.8 | B40: =_xlfn.SWITCH('Cue sheet exported from RwGPS'!C36, "Left", "L", "Sharp Left", "L", "Slight Left", "L", "Right", "R", "Sharp Right", "R", "Slight Right", "R", "Straight", "S", "U turn", "U", "Control", IF('Cue sheet exported from RwGPS'!E37='Cue sheet exported from RwGPS'!E36, "", "S"), "") -> R | C40: S | D40: =IF(ISBLANK('Cue sheet exported from RwGPS'!D36), "Finish control", 'Cue sheet exported from RwGPS'!D36) -> Turn right onto 25th Street | E40: =IF(ISBLANK('Cue sheet exported from RwGPS'!E37), "", 'Cue sheet exported from RwGPS'!E37-'Cue sheet exported from RwGPS'!E36) -> 0.1
A41: =IF(ISNUMBER('Cue sheet exported from RwGPS'!E37), 'Cue sheet exported from RwGPS'!E37, "") -> 110.9 | B41: =_xlfn.SWITCH('Cue sheet exported from RwGPS'!C37, "Left", "L", "Sharp Left", "L", "Slight Left", "L", "Right", "R", "Sharp Right", "R", "Slight Right", "R", "Straight", "S", "U turn", "U", "Control", IF('Cue sheet exported from RwGPS'!E38='Cue sheet exported from RwGPS'!E37, "", "S"), "") -> L | C41: E | D41: =IF(ISBLANK('Cue sheet exported from RwGPS'!D37), "Finish control", 'Cue sheet exported from RwGPS'!D37) -> Turn left onto Bellevue Avenue Lower | E41: =IF(ISBLANK('Cue sheet exported from RwGPS'!E38), "", 'Cue sheet exported from RwGPS'!E38-'Cue sheet exported from RwGPS'!E37) -> 0.3
A42: =IF(ISNUMBER('Cue sheet exported from RwGPS'!E38), 'Cue sheet exported from RwGPS'!E38, "") -> 111.2 | B42: =_xlfn.SWITCH('Cue sheet exported from RwGPS'!C38, "Left", "L", "Sharp Left", "L", "Slight Left", "L", "Right", "R", "Sharp Right", "R", "Slight Right", "R", "Straight", "S", "U turn", "U", "Control", IF('Cue sheet exported from RwGPS'!E39='Cue sheet exported from RwGPS'!E38, "", "S"), "") -> L | C42: N | D42: =IF(ISBLANK('Cue sheet exported from RwGPS'!D38), "Finish control", 'Cue sheet exported from RwGPS'!D38) -> Turn sharp left onto 24th Street | E42: =IF(ISBLANK('Cue sheet exported from RwGPS'!E39), "", 'Cue sheet exported from RwGPS'!E39-'Cue sheet exported from RwGPS'!E38) -> 0
A43: =IF(ISNUMBER('Cue sheet exported from RwGPS'!E39), 'Cue sheet exported from RwGPS'!E39, "") -> 111.2 | B43: =_xlfn.SWITCH('Cue sheet exported from RwGPS'!C39, "Left", "L", "Sharp Left", "L", "Slight Left", "L", "Right", "R", "Sharp Right", "R", "Slight Right", "R", "Straight", "S", "U turn", "U", "Control", IF('Cue sheet exported from RwGPS'!E40='Cue sheet exported from RwGPS'!E39, "", "S"), "") -> R | C43: E | D43: =IF(ISBLANK('Cue sheet exported from RwGPS'!D39), "Finish control", 'Cue sheet exported from RwGPS'!D39) -> Turn sharp right onto Bellevue Avenue | E43: =IF(ISBLANK('Cue sheet exported from RwGPS'!E40), "", 'Cue sheet exported from RwGPS'!E40-'Cue sheet exported from RwGPS'!E39) -> 2.1
A44: =IF(ISNUMBER('Cue sheet exported from RwGPS'!E40), 'Cue sheet exported from RwGPS'!E40, "") -> 113.3 | B44: =_xlfn.SWITCH('Cue sheet exported from RwGPS'!C40, "Left", "L", "Sharp Left", "L", "Slight Left", "L", "Right", "R", "Sharp Right", "R", "Slight Right", "R", "Straight", "S", "U turn", "U", "Control", IF('Cue sheet exported from RwGPS'!E41='Cue sheet exported from RwGPS'!E40, "", "S"), "") -> R | C44: S | D44: =IF(ISBLANK('Cue sheet exported from RwGPS'!D40), "Finish control", 'Cue sheet exported from RwGPS'!D40) -> Turn sharp right onto 13th Street | E44: =IF(ISBLANK('Cue sheet exported from RwGPS'!E41), "", 'Cue sheet exported from RwGPS'!E41-'Cue sheet exported from RwGPS'!E40) -> 0.1
A45: =IF(ISNUMBER('Cue sheet exported from RwGPS'!E41), 'Cue sheet exported from RwGPS'!E41, "") -> 113.4 | B45: =_xlfn.SWITCH('Cue sheet exported from RwGPS'!C41, "Left", "L", "Sharp Left", "L", "Slight Left", "L", "Right", "R", "Sharp Right", "R", "Slight Right", "R", "Straight", "S", "U turn", "U", "Control", IF('Cue sheet exported from RwGPS'!E42='Cue sheet exported from RwGPS'!E41, "", "S"), "") -> L | C45: SE | D45: =IF(ISBLANK('Cue sheet exported from RwGPS'!D41), "Finish control", 'Cue sheet exported from RwGPS'!D41) -> Turn slight left onto Argyle Avenue | E45: =IF(ISBLANK('Cue sheet exported from RwGPS'!E42), "", 'Cue sheet exported from RwGPS'!E42-'Cue sheet exported from RwGPS'!E41) -> 0
... A103: =IF(ISNUMBER('Cue sheet exported from RwGPS'!E99), 'Cue sheet exported from RwGPS'!E99, "") -> 188.2 | B103: =_xlfn.SWITCH('Cue sheet exported from RwGPS'!C99, "Left", "L", "Sharp Left", "L", "Slight Left", "L", "Right", "R", "Sharp Right", "R", "Slight Right", "R", "Straight", "S", "U turn", "U", "Control", IF('Cue sheet exported from RwGPS'!E100='Cue sheet exported from RwGPS'!E99, "", "S"), "") -> R | C103: S | D103: =IF(ISBLANK('Cue sheet exported from RwGPS'!D99), "Finish control", 'Cue sheet exported from RwGPS'!D99) -> Turn sharp right onto Power Station Access Road | E103: =IF(ISBLANK('Cue sheet exported from RwGPS'!E100), "", 'Cue sheet exported from RwGPS'!E100-'Cue sheet exported from RwGPS'!E99) -> 0.8
A104: =IF(ISNUMBER('Cue sheet exported from RwGPS'!E100), 'Cue sheet exported from RwGPS'!E100, "") -> 189 | B104: =_xlfn.SWITCH('Cue sheet exported from RwGPS'!C100, "Left", "L", "Sharp Left", "L", "Slight Left", "L", "Right", "R", "Sharp Right", "R", "Slight Right", "R", "Straight", "S", "U turn", "U", "Control", IF('Cue sheet exported from RwGPS'!E101='Cue sheet exported from RwGPS'!E100, "", "S"), "") -> S | D104: =IF(ISBLANK('Cue sheet exported from RwGPS'!D100), "Finish control", 'Cue sheet exported from RwGPS'!D100) -> Control 2: Stave Falls - Info | E104: =IF(ISBLANK('Cue sheet exported from RwGPS'!E101), "", 'Cue sheet exported from RwGPS'!E101-'Cue sheet exported from RwGPS'!E100) -> 0.2
A105: =IF(ISNUMBER('Cue sheet exported from RwGPS'!E101), 'Cue sheet exported from RwGPS'!E101, "") -> 189.2 | B105: =_xlfn.SWITCH('Cue sheet exported from RwGPS'!C101, "Left", "L", "Sharp Left", "L", "Slight Left", "L", "Right", "R", "Sharp Right", "R", "Slight Right", "R", "Straight", "S", "U turn", "U", "Control", IF('Cue sheet exported from RwGPS'!E102='Cue sheet exported from RwGPS'!E101, "", "S"), "") -> L | C105: N | D105: =IF(ISBLANK('Cue sheet exported from RwGPS'!D101), "Finish control", 'Cue sheet exported from RwGPS'!D101) -> Turn sharp left onto Railway Trail | E105: =IF(ISBLANK('Cue sheet exported from RwGPS'!E102), "", 'Cue sheet exported from RwGPS'!E102-'Cue sheet exported from RwGPS'!E101) -> 0.3
A106: =IF(ISNUMBER('Cue sheet exported from RwGPS'!E102), 'Cue sheet exported from RwGPS'!E102, "") -> 189.5 | B106: =_xlfn.SWITCH('Cue sheet exported from RwGPS'!C102, "Left", "L", "Sharp Left", "L", "Slight Left", "L", "Right", "R", "Sharp Right", "R", "Slight Right", "R", "Straight", "S", "U turn", "U", "Control", IF('Cue sheet exported from RwGPS'!E103='Cue sheet exported from RwGPS'!E102, "", "S"), "") -> R | C106: N | D106: =IF(ISBLANK('Cue sheet exported from RwGPS'!D102), "Finish control", 'Cue sheet exported from RwGPS'!D102) -> Keep right towards parking lot | E106: =IF(ISBLANK('Cue sheet exported from RwGPS'!E103), "", 'Cue sheet exported from RwGPS'!E103-'Cue sheet exported from RwGPS'!E102) -> 0.7
A107: =IF(ISNUMBER('Cue sheet exported from RwGPS'!E103), 'Cue sheet exported from RwGPS'!E103, "") -> 190.2 | B107: =_xlfn.SWITCH('Cue sheet exported from RwGPS'!C103, "Left", "L", "Sharp Left", "L", "Slight Left", "L", "Right", "R", "Sharp Right", "R", "Slight Right", "R", "Straight", "S", "U turn", "U", "Control", IF('Cue sheet exported from RwGPS'!E104='Cue sheet exported from RwGPS'!E103, "", "S"), "") -> R | C107: NE | D107: =IF(ISBLANK('Cue sheet exported from RwGPS'!D103), "Finish control", 'Cue sheet exported from RwGPS'!D103) -> Turn right onto Dewdney Trunk Road | E107: =IF(ISBLANK('Cue sheet exported from RwGPS'!E104), "", 'Cue sheet exported from RwGPS'!E104-'Cue sheet exported from RwGPS'!E103) -> 10.1
A108: =IF(ISNUMBER('Cue sheet exported from RwGPS'!E104), 'Cue sheet exported from RwGPS'!E104, "") -> 200.3 | B108: =_xlfn.SWITCH('Cue sheet exported from RwGPS'!C104, "Left", "L", "Sharp Left", "L", "Slight Left", "L", "Right", "R", "Sharp Right", "R", "Slight Right", "R", "Straight", "S", "U turn", "U", "Control", IF('Cue sheet exported from RwGPS'!E105='Cue sheet exported from RwGPS'!E104, "", "S"), "") -> L | C108: E | D108: =IF(ISBLANK('Cue sheet exported from RwGPS'!D104), "Finish control", 'Cue sheet exported from RwGPS'!D104) -> Turn left onto Dewdney Trunk Road | E108: =IF(ISBLANK('Cue sheet exported from RwGPS'!E105), "", 'Cue sheet exported from RwGPS'!E105-'Cue sheet exported from RwGPS'!E104) -> 1.5
A109: =IF(ISNUMBER('Cue sheet exported from RwGPS'!E105), 'Cue sheet exported from RwGPS'!E105, "") -> 201.8 | B109: =_xlfn.SWITCH('Cue sheet exported from RwGPS'!C105, "Left", "L", "Sharp Left", "L", "Slight Left", "L", "Right", "R", "Sharp Right", "R", "Slight Right", "R", "Straight", "S", "U turn", "U", "Control", IF('Cue sheet exported from RwGPS'!E106='Cue sheet exported from RwGPS'!E105, "", "S"), "") -> L | C109: E | D109: =IF(ISBLANK('Cue sheet exported from RwGPS'!D105), "Finish control", 'Cue sheet exported from RwGPS'!D105) -> Turn slight left onto Dewdney Trunk Road | E109: =IF(ISBLANK('Cue sheet exported from RwGPS'!E106), "", 'Cue sheet exported from RwGPS'!E106-'Cue sheet exported from RwGPS'!E105) -> 1
...

Sheet Cue sheet exported from RwGPS
A1: 600.2 kilometers
A2: LM Hope and Desperation 600 (2025)
A3: Leg | B3: Dir | C3: Type | D3: Notes | E3: Total
B4: ← | C4: Left | D4: Turn left onto East 4th Avenue | E4: 0
A5: 0.1 | B5: → | C5: Slight Right | D5: Continue onto Kootenay Street | E5: 0.1
A6: 0.2 | B6: → | C6: Slight Right | D6: Continue onto East 2nd Avenue | E6: 0.3
A7: 0.2 | B7: ← | C7: Left | D7: Turn left onto Boundary Road | E7: 0.5
A8: 1 | B8: ← | C8: Left | D8: Turn left onto Adanac St/​Adanac Bikeway | E8: 1.6
A9: 4.1 | B9: ← | C9: Left | D9: Turn left onto Vernon Drive | E9: 5.6
A10: 0 | B10: → | C10: Right | D10: Turn right onto Union Street | E10: 5.7
A11: 0.6 | B11: ↑ | C11: Straight | D11: Go straight through park path | E11: 6.3
A12: 0.9 | B12: ← | C12: Slight Left | D12: Keep left onto Dunsmuir Viaduct | E12: 7.2
A13: 1.8 | B13: ↑ | C13: Straight | D13: Continue onto Melville Street | E13: 8.9
A14: 0.6 | B14: ← | C14: Sharp Left | D14: Turn sharp left onto West Pender Street | E14: 9.6
A15: 0.4 | B15: → | C15: Slight Right | D15: Turn slight right onto West Georgia Street | E15: 9.9
A16: 0.5 | B16: → | C16: Slight Right | D16: Take the Stanley Park exit | E16: 10.5
... A274: 0.1 | B274: → | C274: Right | D274: Turn right | E274: 600.1
