Workbook
Name Address_1: #REF!
Name Address_1: #REF!
Name Address_2: #REF!
Name Address_2: #REF!
Name brevet: 'Control Entry'!$C$6
Name Brevet_Description: 'Control Entry'!$B$8
Name Brevet_Length: 'Control Entry'!$B$6
Name Brevet_Number: 'Control Entry'!$B$9
Name City: #REF!
Name City: #REF!
Name Close: 'Control Entry'!$M$15:$M$24
Name Close_time: 'Control Entry'!$O$15:$O$24
Name Control_1: 'Control Entry'!$D$15:$O$15
Name Control_10: 'Control Entry'!$D$24:$O$24
Name Control_11: 'Control Entry'!#REF!
Name Control_11: 'Control Entry'!#REF!
Name Control_12: 'Control Entry'!#REF!
Name Control_12: 'Control Entry'!#REF!
Name Control_13: 'Control Entry'!#REF!
Name Control_13: 'Control Entry'!#REF!
Name Control_14: 'Control Entry'!#REF!
Name Control_14: 'Control Entry'!#REF!
Name Control_15: 'Control Entry'!#REF!
Name Control_15: 'Control Entry'!#REF!
Name Control_16: 'Control Entry'!#REF!
Name Control_16: 'Control Entry'!#REF!
Name Control_17: 'Control Entry'!#REF!
Name Control_17: 'Control Entry'!#REF!
Name Control_18: 'Control Entry'!#REF!
Name Control_18: 'Control Entry'!#REF!
Name Control_19: 'Control Entry'!#REF!
Name Control_19: 'Control Entry'!#REF!
Name Control_2: 'Control Entry'!$D$16:$O$16
Name Control_20: 'Control Entry'!#REF!
Name Control_20: 'Control Entry'!#REF!
Name Control_3: 'Control Entry'!$D$17:$O$17
Name Control_4: 'Control Entry'!$D$18:$O$18
Name Control_5: 'Control Entry'!$D$19:$O$19
Name Control_6: 'Control Entry'!$D$20:$O$20
Name Control_7: 'Control Entry'!$D$21:$O$21
Name Control_8: 'Control Entry'!$D$22:$O$22
Name Control_9: 'Control Entry'!$D$23:$O$23
Name Country: #REF!
Name Country: #REF!
Name Distance: 'Control Entry'!$D$15:$D$24
Name email: #REF!
Name email: #REF!
Name Establishment_1: 'Control Entry'!$F$15:$F$24
Name Establishment_2: 'Control Entry'!$G$15:$G$24
Name Establishment_3: 'Control Entry'!$H$15:$H$24
Name Fax: #REF!
Name Fax: #REF!
Name First_Name: #REF!
Name First_Name: #REF!
Name Home_telephone: #REF!
Name Home_telephone: #REF!
Name Initial: #REF!
Name Initial: #REF!
Name Locale: 'Control Entry'!$E$15:$E$24
Name Max_time: 'Control Entry'!$B$7

Sheet Control Entry
A1: DO NOT MOVE OR DELETE ROWS OR COLUMNS (delete contents of cells only) | H1: Scroll right to see further instructions | Q1: You can create 4 control cards (upto 40 controls) for one event, or 4 control cards (up to 10 controls) with different start loctions for a single event, or 2 sets of 2 control cards. Control Card #1 will only show '#1' if a distance, not zero, is entered into the first distance box for Control Card #2. Similarly for Control Card #3 and Control Card #4. If CC#3 starts at distance 0 and CC#4 has a distance greater than 0, then CC#3 will display as CC#1 and CC#4 will display as CC#2. This allows for 2 cards for start location 1 and two cards for start location 2.
A3: Template Revised: | B3: 45167
A4: Card Revised: | B4: 45845
A6: Brevet Length: | B6: 200 | C6: =IF(Brevet_Length>=1200,Brevet_Length,IF(Brevet_Length>=1000,1000,IF(Brevet_Length>=600,600,IF(Brevet_Length>=400,400,IF(Brevet_Length>=300,300,IF(Brevet_Length>=200,200,100)))))) -> 200 | J6: Instructions | Q6: Fill nominal brevet length. This is the ACP distance eg 200, 300, 1000
A7: Maximum Time: | B7: =IF(brevet=1200,90,IF(brevet=1000,75,IF(brevet=600,40,IF(brevet=400,27,IF(brevet=300,20,IF(brevet=200,13.5,IF(brevet<200,L7,0))))))) -> 13.5 | L7: =IF(Brevet_Length=150,10.5,IF(Brevet_Length=100,7,IF(Brevet_Length=50,3.5,IF(Brevet_Length=25, 2,0)))) -> 0 | Q7: Maximum allowable time automatically calculated
A8: Brevet Description: | B8: It's just around the corner | Q8: Enter the brevet name eg 'Remembrance Day Brevet'
A9: Brevet Number: | B9: 5489 | Q9: Enter the brevet number. This is the BCR database number, and can be found on the event page in the database
A10: Schedule date: | B10: 45850 | E10: Organizer phone # | F10: ‭(250) 213-3724‬ | Q10: Enter the schedule date. This is the official ACP listed date and can be found on the shcedule on the website
A12: Start Date: | B12: 45850 | Q12: Enter the start date. This will be the same as the schedule date, exceot for pre-rides or unless a ride window has been enabled.
A13: Start Time: | B13: 0.29166667 | D13: Control Card #1 | I13: Control Card #1 Information Control Question (optional) | Q13: Enter the start time. This will be the official ACP listed start time found on the event page, unless a ride window has been enabled.
D14: Distance | E14: Locale | F14: Establishment 1 | G14: Establishment 2 | H14: Establishment 3 | I14: Signature/Answer 1 | J14: Signature/Answer 2 | K14: Signature/Answer 3 | L14: Open | M14: Close | N14: Open time | O14: Close time | Q14: Organizer phone number is optional
C15: Control 1 | D15: 0 | E15: DUNCAN | F15: STAFFED | G15: Tim Hortons Berkey's Corner | H15: 3320 Cowichan Lake Rd | L15: =Start_date+Start_time -> 45850.292 | M15: =L15+"1:00" -> 45850.333 | N15: =IF(ISBLANK(Distance),"",Open Control_1) -> 45850.292 | O15: =IF(ISBLANK(Distance),"",Close Control_1) -> 45850.333 | Q15: Fill in the control distance. The opening and closing times will be automatically calculated based on the start time and the brevet distance. If you need more than 10 controls, or need an alternate start loction, use card #2, otherwise leave that section blank. (Similarly for cards #3 and #4.)
C16: Control 2 | D16: 39.3 | E16: GORDON BAY | F16: INFORMATION | G16: Gordon Bay Day Use area | H16: Sign at washoom | I16: Top listing on map legend? | K16: Toilets Parking Fishing | L16: =IF(ISBLANK(Distance),"",IF(Distance>1000,(Distance-1000)/26+33.0847,(IF(Distance>600,(Distance-600)/28+18.799,(IF(Distance>400,(Distance-400)/30+12.1324,(IF(Distance>200,(Distance-200)/32+5.8824,Distance/34)))))))) -> 1.1558824 | M16: =IF(ISBLANK(Distance),"",IF(Distance>=brevet,D16200IF(brevet>1200,(brevet-1200)*75/1000+90,Max_time),IF(Distance>1200,(Distance-1200)*75/1000+90,IF(Distance>1000,(Distance-1000)/(1000/75)+75,IF(Distance>600,(Distance-600)/(400/35)+40,IF(Distance<=60,(Distance/20+1),Distance/15)))))) -> 2.965 | N16: =IF(ISBLANK(Distance),"",Open_time Control_1+(INT(Open)&":"&IF(ROUND(((Open-INT(Open))*60),0)<10,0,"")&ROUND(((Open-INT(Open))*60),0))) -> 45850.34 | O16: =IF(ISBLANK(Distance),"",Open_time Control_1+(INT(Close)&":"&IF(ROUND(((Close-INT(Close))*60),0)<10,0,"")&ROUND(((Close-INT(Close))*60),0))) -> 45850.415 | Q16: Fill in the Locale (city) for each control. Establishment 1, 2, and 3 can be used to describe the control itself eg Locale HOPE Est.1 BUSINESS Est.2 Dairy Queen Est.3 817 Water Ave . For a secret control, use SECRET as the locale.
C17: Control 3 | D17: 95.1 | E17: NORTH COWICHAN | F17: INFORMATION | G17: Mays Rd @ Relke Rd | H17: Newspaper box | I17: Cowichan Valley _____? | K17: Leader Report Citizen | L17: =IF(ISBLANK(Distance),"",IF(Distance>1000,(Distance-1000)/26+33.0847,(IF(Distance>600,(Distance-600)/28+18.799,(IF(Distance>400,(Distance-400)/30+12.1324,(IF(Distance>200,(Distance-200)/32+5.8824,Distance/34)))))))) -> 2.7970588 | M17: =IF(ISBLANK(Distance),"",IF(Distance>=brevet,IF(brevet>1200,(brevet-1200)*75/1000+90,Max_time),IF(Distance>1200,(Distance-1200)*75/1000+90,IF(Distance>1000,(Distance-1000)/(1000/75)+75,IF(Distance>600,(Distance-600)/(400/35)+40,IF(Distance<=60,(Distance/20+1),Distance/15)))))) -> 6.34 | N17: =IF(ISBLANK(Distance),"",Open_time Control_1+(INT(Open)&":"&IF(ROUND(((Open-INT(Open))*60),0)<10,0,"")&ROUND(((Open-INT(Open))*60),0))) -> 45850.408 | O17: =IF(ISBLANK(Distance),"",Open_time Control_1+(INT(Close)&":"&IF(ROUND(((Close-INT(Close))*60),0)<10,0,"")&ROUND(((Close-INT(Close))*60),0))) -> 45850.556 | Q17: When using information controls, you can put your question in the Signature/Answer section eg Sig/Ans.1 Sign on main door Sig/Ans. 2 This week's special is? Sig/Ans. 3 ________________
C18: Control 4 | D18: 135.4 | E18: YELLOW POINT | F18: INFORMATION | G18: Yellow Pt Park, 4151 Yellow Pt Rd | H18: Info sign | I18: How many native species pictured? | K18: 0 3 6 | L18: =IF(ISBLANK(Distance),"",IF(Distance>1000,(Distance-1000)/26+33.0847,(IF(Distance>600,(Distance-600)/28+18.799,(IF(Distance>400,(Distance-400)/30+12.1324,(IF(Distance>200,(Distance-200)/32+5.8824,Distance/34)))))))) -> 3.9823529 | M18: =IF(ISBLANK(Distance),"",IF(Distance>=brevet,IF(brevet>1200,(brevet-1200)*75/1000+90,Max_time),IF(Distance>1200,(Distance-1200)*75/1000+90,IF(Distance>1000,(Distance-1000)/(1000/75)+75,IF(Distance>600,(Distance-600)/(400/35)+40,IF(Distance<=60,(Distance/20+1),Distance/15)))))) -> 9.0266667 | N18: =IF(ISBLANK(Distance),"",Open_time Control_1+(INT(Open)&":"&IF(ROUND(((Open-INT(Open))*60),0)<10,0,"")&ROUND(((Open-INT(Open))*60),0))) -> 45850.458 | O18: =IF(ISBLANK(Distance),"",Open_time Control_1+(INT(Close)&":"&IF(ROUND(((Close-INT(Close))*60),0)<10,0,"")&ROUND(((Close-INT(Close))*60),0))) -> 45850.668
C19: Control 5 | D19: 150.2 | E19: CEDAR | F19: BUSINESS | G19: Gas N Go, 1594 MacMillan Rd | L19: =IF(ISBLANK(Distance),"",IF(Distance>1000,(Distance-1000)/26+33.0847,(IF(Distance>600,(Distance-600)/28+18.799,(IF(Distance>400,(Distance-400)/30+12.1324,(IF(Distance>200,(Distance-200)/32+5.8824,Distance/34)))))))) -> 4.4176471 | M19: =IF(ISBLANK(Distance),"",IF(Distance>=brevet,IF(brevet>1200,(brevet-1200)*75/1000+90,Max_time),IF(Distance>1200,(Distance-1200)*75/1000+90,IF(Distance>1000,(Distance-1000)/(1000/75)+75,IF(Distance>600,(Distance-600)/(400/35)+40,IF(Distance<=60,(Distance/20+1),Distance/15)))))) -> 10.013333 | N19: =IF(ISBLANK(Distance),"",Open_time Control_1+(INT(Open)&":"&IF(ROUND(((Open-INT(Open))*60),0)<10,0,"")&ROUND(((Open-INT(Open))*60),0))) -> 45850.476 | O19: =IF(ISBLANK(Distance),"",Open_time Control_1+(INT(Close)&":"&IF(ROUND(((Close-INT(Close))*60),0)<10,0,"")&ROUND(((Close-INT(Close))*60),0))) -> 45850.709
C20: Control 6 | D20: 201.8 | E20: DUNCAN | F20: BUSINESS | G20: Tim Hortons Berkey's Corner | H20: 3320 Cowichan Lake Rd | L20: =IF(ISBLANK(Distance),"",IF(Distance>1000,(Distance-1000)/26+33.0847,(IF(Distance>600,(Distance-600)/28+18.799,(IF(Distance>400,(Distance-400)/30+12.1324,(IF(Distance>200,(Distance-200)/32+5.8824,Distance/34)))))))) -> 5.93865 | M20: =IF(ISBLANK(Distance),"",IF(Distance>=brevet,IF(brevet>1200,(brevet-1200)*75/1000+90,Max_time),IF(Distance>1200,(Distance-1200)*75/1000+90,IF(Distance>1000,(Distance-1000)/(1000/75)+75,IF(Distance>600,(Distance-600)/(400/35)+40,IF(Distance<=60,(Distance/20+1),Distance/15)))))) -> 13.5 | N20: =IF(ISBLANK(Distance),"",Open_time Control_1+(INT(Open)&":"&IF(ROUND(((Open-INT(Open))*60),0)<10,0,"")&ROUND(((Open-INT(Open))*60),0))) -> 45850.539 | O20: =IF(ISBLANK(Distance),"",Open_time Control_1+(INT(Close)&":"&IF(ROUND(((Close-INT(Close))*60),0)<10,0,"")&ROUND(((Close-INT(Close))*60),0))) -> 45850.854
C21: Control 7 | L21: =IF(ISBLANK(Distance),"",IF(Distance>1000,(Distance-1000)/26+33.0847,(IF(Distance>600,(Distance-600)/28+18.799,(IF(Distance>400,(Distance-400)/30+12.1324,(IF(Distance>200,(Distance-200)/32+5.8824,Distance/34)))))))) | M21: =IF(ISBLANK(Distance),"",IF(Distance>=brevet,IF(brevet>1200,(brevet-1200)*75/1000+90,Max_time),IF(Distance>1200,(Distance-1200)*75/1000+90,IF(Distance>1000,(Distance-1000)/(1000/75)+75,IF(Distance>600,(Distance-600)/(400/35)+40,IF(Distance<=60,(Distance/20+1),Distance/15)))))) | N21: =IF(ISBLANK(Distance),"",Open_time Control_1+(INT(Open)&":"&IF(ROUND(((Open-INT(Open))*60),0)<10,0,"")&ROUND(((Open-INT(Open))*60),0))) | O21: =IF(ISBLANK(Distance),"",Open_time Control_1+(INT(Close)&":"&IF(ROUND(((Close-INT(Close))*60),0)<10,0,"")&ROUND(((Close-INT(Close))*60),0)))
C22: Control 8 | L22: =IF(ISBLANK(Distance),"",IF(Distance>1000,(Distance-1000)/26+33.0847,(IF(Distance>600,(Distance-600)/28+18.799,(IF(Distance>400,(Distance-400)/30+12.1324,(IF(Distance>200,(Distance-200)/32+5.8824,Distance/34)))))))) | M22: =IF(ISBLANK(Distance),"",IF(Distance>=brevet,IF(brevet>1200,(brevet-1200)*75/1000+90,Max_time),IF(Distance>1200,(Distance-1200)*75/1000+90,IF(Distance>1000,(Distance-1000)/(1000/75)+75,IF(Distance>600,(Distance-600)/(400/35)+40,IF(Distance<=60,(Distance/20+1),Distance/15)))))) | N22: =IF(ISBLANK(Distance),"",Open_time Control_1+(INT(Open)&":"&IF(ROUND(((Open-INT(Open))*60),0)<10,0,"")&ROUND(((Open-INT(Open))*60),0))) | O22: =IF(ISBLANK(Distance),"",Open_time Control_1+(INT(Close)&":"&IF(ROUND(((Close-INT(Close))*60),0)<10,0,"")&ROUND(((Close-INT(Close))*60),0)))
C23: Control 9 | L23: =IF(ISBLANK(Distance),"",IF(Distance>1000,(Distance-1000)/26+33.0847,(IF(Distance>600,(Distance-600)/28+18.799,(IF(Distance>400,(Distance-400)/30+12.1324,(IF(Distance>200,(Distance-200)/32+5.8824,Distance/34)))))))) | M23: =IF(ISBLANK(Distance),"",IF(Distance>=brevet,IF(brevet>1200,(brevet-1200)*75/1000+90,Max_time),IF(Distance>1200,(Distance-1200)*75/1000+90,IF(Distance>1000,(Distance-1000)/(1000/75)+75,IF(Distance>600,(Distance-600)/(400/35)+40,IF(Distance<=60,(Distance/20+1),Distance/15)))))) | N23: =IF(ISBLANK(Distance),"",Open_time Control_1+(INT(Open)&":"&IF(ROUND(((Open-INT(Open))*60),0)<10,0,"")&ROUND(((Open-INT(Open))*60),0))) | O23: =IF(ISBLANK(Distance),"",Open_time Control_1+(INT(Close)&":"&IF(ROUND(((Close-INT(Close))*60),0)<10,0,"")&ROUND(((Close-INT(Close))*60),0)))
C24: Control 10 | L24: =IF(ISBLANK(Distance),"",IF(Distance>1000,(Distance-1000)/26+33.0847,(IF(Distance>600,(Distance-600)/28+18.799,(IF(Distance>400,(Distance-400)/30+12.1324,(IF(Distance>200,(Distance-200)/32+5.8824,Distance/34)))))))) | M24: =IF(ISBLANK(Distance),"",IF(Distance>=brevet,IF(brevet>1200,(brevet-1200)*75/1000+90,Max_time),IF(Distance>1200,(Distance-1200)*75/1000+90,IF(Distance>1000,(Distance-1000)/(1000/75)+75,IF(Distance>600,(Distance-600)/(400/35)+40,IF(Distance<=60,(Distance/20+1),Distance/15)))))) | N24: =IF(ISBLANK(Distance),"",Open_time Control_1+(INT(Open)&":"&IF(ROUND(((Open-INT(Open))*60),0)<10,0,"")&ROUND(((Open-INT(Open))*60),0))) | O24: =IF(ISBLANK(Distance),"",Open_time Control_1+(INT(Close)&":"&IF(ROUND(((Close-INT(Close))*60),0)<10,0,"")&ROUND(((Close-INT(Close))*60),0)))

Sheet Card #1
C2: Founding member of LES RANDONNEURS MONDIAUX (1983) | I2: Card revised: | J2: ='Control Entry'!B4 -> 45845
E3: Control Card | I3: Brevet # | J3: =IF(ISBLANK(Brevet_Number),"",Brevet_Number) -> 5489
E4: =IF(ISBLANK(Brevet_Length),"",Brevet_Length&" km Randonnée") -> 200 km Randonnée
E5: =IF(ISBLANK(Brevet_Description),"",Brevet_Description) -> It's just around the corner
B8: Rider: | G8: Member #
B10: Bicycle Type Circle one | D10: -------> | E10: Single Tandem Fixed Recumbent Velomobile
D12: Start Date: | F12: =IF(ISBLANK('Control Entry'!B12),"",'Control Entry'!B12) -> 45850 | H12: Start time: | I12: =IF(ISBLANK('Control Entry'!B13),"",'Control Entry'!B13) -> 0.29166667
D14: Finish Date: | H14: Finish time:
H16: Elapsed time:
C17: Rider's signature at completion
B19: At each control, please have signed or answer question and note time of day
B20: DIST (km) | C20: Open | D20: Close | E20: Locale | F20: Establishment | G20: Signature/Answer | J20: Time of Passage
C21: =Control_1 Open_time -> 45850.292 | D21: =Control_1 Close_time -> 45850.333 | F21: =IF(ISBLANK(Control_1 Establishment_1),"",Control_1 Establishment_1) -> STAFFED | G21: =IF(ISBLANK('Control Entry'!I15),"",'Control Entry'!I15)
B22: =IF(ISBLANK(Distance Control_1),"",Control_1 Distance) -> 0 | C22: =Control_1 Open_time -> 45850.292 | D22: =Control_1 Close_time -> 45850.333 | E22: =IF(ISBLANK(Locale Control_1),"",Locale Control_1) -> DUNCAN | F22: =IF(ISBLANK(Control_1 Establishment_2),"",Control_1 Establishment_2) -> Tim Hortons Berkey's Corner | G22: =IF(ISBLANK('Control Entry'!J15),"",'Control Entry'!J15)
C23: =Control_1 Open_time -> 45850.292 | D23: =Control_1 Close_time -> 45850.333 | F23: =IF(ISBLANK(Control_1 Establishment_3),"",Control_1 Establishment_3) -> 3320 Cowichan Lake Rd | G23: =IF(ISBLANK('Control Entry'!K15),"",'Control Entry'!K15)
C24: =Control_2 Open_time -> 45850.34 | D24: =Control_2 Close_time -> 45850.415 | F24: =IF(ISBLANK(Control_2 Establishment_1),"",Control_2 Establishment_1) -> INFORMATION | G24: =IF(ISBLANK('Control Entry'!I16),"",'Control Entry'!I16) -> Top listing on map legend?
B25: =IF(ISBLANK(Distance Control_2),"",Control_2 Distance) -> 39.3 | C25: =Control_2 Open_time -> 45850.34 | D25: =Control_2 Close_time -> 45850.415 | E25: =IF(ISBLANK(Locale Control_2),"",Locale Control_2) -> GORDON BAY | F25: =IF(ISBLANK(Control_2 Establishment_2),"",Control_2 Establishment_2) -> Gordon Bay Day Use area | G25: =IF(ISBLANK('Control Entry'!J16),"",'Control Entry'!J16)
C26: =Control_2 Open_time -> 45850.34 | D26: =Control_2 Close_time -> 45850.415 | F26: =IF(ISBLANK(Control_2 Establishment_3),"",Control_2 Establishment_3) -> Sign at washoom | G26: =IF(ISBLANK('Control Entry'!K16),"",'Control Entry'!K16) -> Toilets Parking Fishing
C27: =Control_3 Open_time -> 45850.408 | D27: =Control_3 Close_time -> 45850.556 | F27: =IF(ISBLANK(Control_3 Establishment_1),"",Control_3 Establishment_1) -> INFORMATION | G27: =IF(ISBLANK('Control Entry'!I17),"",'Control Entry'!I17) -> Cowichan Valley _____?
B28: =IF(ISBLANK(Distance Control_3),"",Control_3 Distance) -> 95.1 | C28: =Control_3 Open_time -> 45850.408 | D28: =Control_3 Close_time -> 45850.556 | E28: =IF(ISBLANK(Locale Control_3),"",Locale Control_3) -> NORTH COWICHAN | F28: =IF(ISBLANK(Control_3 Establishment_2),"",Control_3 Establishment_2) -> Mays Rd @ Relke Rd | G28: =IF(ISBLANK('Control Entry'!J17),"",'Control Entry'!J17)
C29: =Control_3 Open_time -> 45850.408 | D29: =Control_3 Close_time -> 45850.556 | F29: =IF(ISBLANK(Control_3 Establishment_3),"",Control_3 Establishment_3) -> Newspaper box | G29: =IF(ISBLANK('Control Entry'!K17),"",'Control Entry'!K17) -> Leader Report Citizen
C30: =Control_4 Open_time -> 45850.458 | D30: =Control_4 Close_time -> 45850.668 | F30: =IF(ISBLANK(Control_4 Establishment_1),"",Control_4 Establishment_1) -> INFORMATION | G30: =IF(ISBLANK('Control Entry'!I18),"",'Control Entry'!I18) -> How many native species pictured?
B31: =IF(ISBLANK(Distance Control_4),"",Control_4 Distance) -> 135.4 | C31: =Control_4 Open_time -> 45850.458 | D31: =Control_4 Close_time -> 45850.668 | E31: =IF(ISBLANK(Locale Control_4),"",Locale Control_4) -> YELLOW POINT | F31: =IF(ISBLANK(Control_4 Establishment_2),"",Control_4 Establishment_2) -> Yellow Pt Park, 4151 Yellow Pt Rd | G31: =IF(ISBLANK('Control Entry'!J18),"",'Control Entry'!J18)
C32: =Control_4 Open_time -> 45850.458 | D32: =Control_4 Close_time -> 45850.668 | F32: =IF(ISBLANK(Control_4 Establishment_3),"",Control_4 Establishment_3) -> Info sign | G32: =IF(ISBLANK('Control Entry'!K18),"",'Control Entry'!K18) -> 0 3 6
C33: =Control_5 Open_time -> 45850.476 | D33: =Control_5 Close_time -> 45850.709 | F33: =IF(ISBLANK(Control_5 Establishment_1),"",Control_5 Establishment_1) -> BUSINESS | G33: =IF(ISBLANK('Control Entry'!I19),"",'Control Entry'!I19)
B34: =IF(ISBLANK(Distance Control_5),"",Control_5 Distance) -> 150.2 | C34: =Control_5 Open_time -> 45850.476 | D34: =Control_5 Close_time -> 45850.709 | E34: =IF(ISBLANK(Locale Control_5),"",Locale Control_5) -> CEDAR | F34: =IF(ISBLANK(Control_5 Establishment_2),"",Control_5 Establishment_2) -> Gas N Go, 1594 MacMillan Rd | G34: =IF(ISBLANK('Control Entry'!J19),"",'Control Entry'!J19)
C35: =Control_5 Open_time -> 45850.476 | D35: =Control_5 Close_time -> 45850.709 | F35: =IF(ISBLANK(Control_5 Establishment_3),"",Control_5 Establishment_3) | G35: =IF(ISBLANK('Control Entry'!K19),"",'Control Entry'!K19)
C36: =Control_6 Open_time -> 45850.539 | D36: =Control_6 Close_time -> 45850.854 | F36: =IF(ISBLANK(Control_6 Establishment_1),"",Control_6 Establishment_1) -> BUSINESS | G36: =IF(ISBLANK('Control Entry'!I20),"",'Control Entry'!I20)
B37: =IF(ISBLANK(Distance Control_6),"",Control_6 Distance) -> 201.8 | C37: =Control_6 Open_time -> 45850.539 | D37: =Control_6 Close_time -> 45850.854 | E37: =IF(ISBLANK(Locale Control_6),"",Locale Control_6) -> DUNCAN | F37: =IF(ISBLANK(Control_6 Establishment_2),"",Control_6 Establishment_2) -> Tim Hortons Berkey's Corner | G37: =IF(ISBLANK('Control Entry'!J20),"",'Control Entry'!J20)
C38: =Control_6 Open_time -> 45850.539 | D38: =Control_6 Close_time -> 45850.854 | F38: =IF(ISBLANK(Control_6 Establishment_3),"",Control_6 Establishment_3) -> 3320 Cowichan Lake Rd | G38: =IF(ISBLANK('Control Entry'!K20),"",'Control Entry'!K20)
C39: =Control_7 Open_time | D39: =Control_7 Close_time | F39: =IF(ISBLANK(Control_7 Establishment_1),"",Control_7 Establishment_1) | G39: =IF(ISBLANK('Control Entry'!I21),"",'Control Entry'!I21)
B40: =IF(ISBLANK(Distance Control_7),"",Control_7 Distance) | C40: =Control_7 Open_time | D40: =Control_7 Close_time | E40: =IF(ISBLANK(Locale Control_7),"",Locale Control_7) | F40: =IF(ISBLANK(Control_7 Establishment_2),"",Control_7 Establishment_2) | G40: =IF(ISBLANK('Control Entry'!J21),"",'Control Entry'!J21)
C41: =Control_7 Open_time | D41: =Control_7 Close_time | F41: =IF(ISBLANK(Control_7 Establishment_3),"",Control_7 Establishment_3) | G41: =IF(ISBLANK('Control Entry'!K21),"",'Control Entry'!K21)
C42: =Control_8 Open_time | D42: =Control_8 Close_time | F42: =IF(ISBLANK(Control_8 Establishment_1),"",Control_8 Establishment_1) | G42: =IF(ISBLANK('Control Entry'!I22),"",'Control Entry'!I22)
B43: =IF(ISBLANK(Distance Control_8),"",Control_8 Distance) | C43: =Control_8 Open_time | D43: =Control_8 Close_time | E43: =IF(ISBLANK(Locale Control_8),"",Locale Control_8) | F43: =IF(ISBLANK(Control_8 Establishment_2),"",Control_8 Establishment_2) | G43: =IF(ISBLANK('Control Entry'!J22),"",'Control Entry'!J22)
C44: =Control_8 Open_time | D44: =Control_8 Close_time | F44: =IF(ISBLANK(Control_8 Establishment_3),"",Control_8 Establishment_3) | G44: =IF(ISBLANK('Control Entry'!K22),"",'Control Entry'!K22)
C45: =Control_9 Open_time | D45: =Control_9 Close_time | F45: =IF(ISBLANK(Control_9 Establishment_1),"",Control_9 Establishment_1) | G45: =IF(ISBLANK('Control Entry'!I23),"",'Control Entry'!I23)
B46: =IF(ISBLANK(Distance Control_9),"",Control_9 Distance) | C46: =Control_9 Open_time | D46: =Control_9 Close_time | E46: =IF(ISBLANK(Locale Control_9),"",Locale Control_9) | F46: =IF(ISBLANK(Control_9 Establishment_2),"",Control_9 Establishment_2) | G46: =IF(ISBLANK('Control Entry'!J23),"",'Control Entry'!J23)
C47: =Control_9 Open_time | D47: =Control_9 Close_time | F47: =IF(ISBLANK(Control_9 Establishment_3),"",Control_9 Establishment_3) | G47: =IF(ISBLANK('Control Entry'!K23),"",'Control Entry'!K23)
C48: =Control_10 Open_time | D48: =Control_10 Close_time | F48: =IF(ISBLANK(Control_10 Establishment_1),"",Control_10 Establishment_1) | G48: =IF(ISBLANK('Control Entry'!I24),"",'Control Entry'!I24)
...
