Workbook
Name Address_1: #REF!
Name Address_1: #REF!
Name Address_1: #REF!
Name Address_2: #REF!
Name Address_2: #REF!
Name Address_2: #REF!
Name brevet: 'Control Entry'!$C$5
Name Brevet_Description: 'Control Entry'!$B$7
Name Brevet_Length: 'Control Entry'!$B$5
Name Brevet_Number: 'Control Entry'!$B$8
Name City: #REF!
Name City: #REF!
Name City: #REF!
Name Close: 'Control Entry'!$M$14:$M$23
Name Close_time: 'Control Entry'!$O$14:$O$23
Name Control_1: 'Control Entry'!$D$14:$O$14
Name Control_10: 'Control Entry'!$D$23:$O$23
Name Control_11: 'Control Entry'!#REF!
Name Control_11: 'Control Entry'!#REF!
Name Control_11: 'Control Entry'!#REF!
Name Control_12: 'Control Entry'!#REF!
Name Control_12: 'Control Entry'!#REF!
Name Control_12: 'Control Entry'!#REF!
Name Control_13: 'Control Entry'!#REF!
Name Control_13: 'Control Entry'!#REF!
Name Control_13: 'Control Entry'!#REF!
Name Control_14: 'Control Entry'!#REF!
Name Control_14: 'Control Entry'!#REF!
Name Control_14: 'Control Entry'!#REF!
Name Control_15: 'Control Entry'!#REF!
Name Control_15: 'Control Entry'!#REF!
Name Control_15: 'Control Entry'!#REF!
Name Control_16: 'Control Entry'!#REF!
Name Control_16: 'Control Entry'!#REF!
Name Control_16: 'Control Entry'!#REF!
Name Control_17: 'Control Entry'!#REF!
Name Control_17: 'Control Entry'!#REF!
Name Control_17: 'Control Entry'!#REF!
Name Control_18: 'Control Entry'!#REF!
Name Control_18: 'Control Entry'!#REF!
Name Control_18: 'Control Entry'!#REF!
Name Control_19: 'Control Entry'!#REF!
Name Control_19: 'Control Entry'!#REF!
Name Control_19: 'Control Entry'!#REF!
Name Control_2: 'Control Entry'!$D$15:$O$15
Name Control_20: 'Control Entry'!#REF!
Name Control_20: 'Control Entry'!#REF!
Name Control_20: 'Control Entry'!#REF!
Name Control_3: 'Control Entry'!$D$16:$O$16
Name Control_4: 'Control Entry'!$D$17:$O$17
Name Control_5: 'Control Entry'!$D$18:$O$18
Name Control_6: 'Control Entry'!$D$19:$O$19
Name Control_7: 'Control Entry'!$D$20:$O$20
Name Control_8: 'Control Entry'!$D$21:$O$21
Name Control_9: 'Control Entry'!$D$22:$O$22
Name Country: #REF!
Name Country: #REF!
Name Country: #REF!
Name Distance: 'Control Entry'!$D$14:$D$23
Name email: #REF!

Sheet Control Entry
A1: DO NOT DELETE OR MOVE ROWS OR COLUMNS (delete contents of cells only) | I1: Scroll right to see further instructions | Q1: You can create 3 control cards (upto 30 controls) for one event, or 3 control cards (up to 10 controls) with different start loctions for a single event. Put a distance greater than zero in the first distance field of card 2 or 3 to have a single event. Put zero in the same distance field to create a new start location for the event. Control Card #1 will only show '#1' if a distance, not zero, is entered into the first distance box for Control Card #2. Similarly for Control Card #3
A3: Template Revised: | B3: 44674
A5: Brevet Length: | B5: 400 | C5: =IF(Brevet_Length>=1200,Brevet_Length,IF(Brevet_Length>=1000,1000,IF(Brevet_Length>=600,600,IF(Brevet_Length>=400,400,IF(Brevet_Length>=300,300,IF(Brevet_Length>=200,200,100)))))) -> 400 | J5: Instructions | Q5: Fill nominal brevet length. This is the ACP distance eg 200, 300, 1000
A6: Maximum Time: | B6: =IF(brevet=1200,90,IF(brevet=1000,75,IF(brevet=600,40,IF(brevet=400,27,IF(brevet=300,20,IF(brevet=200,13.5,IF(brevet=100,7,0))))))) -> 27 | Q6: Maximum allowable time automatically calculated
A7: Brevet Description: | B7: Mabel the Duck | Q7: Enter the brevet name eg 'Remembrance Day Brevet'
A8: Brevet Number: | B8: SI400-1 | Q8: Enter the brevet number. This is the BCR database number, and can be found on the event page in the database
A9: Schedule date: | B9: 05-21-22 | Q9: Enter the schedule date. This is the official ACP listed date and can be found on the shcedule on the website
A11: Start Date: | B11: 44702 | Q11: Enter the start date. This will be the same as the schedule date, exceot for pre-rides or unless a ride window has been enabled.
A12: Start Time: | B12: 0.20833333 | D12: Control Card #1 | I12: Control Card #1 Information Control Question (optional) | Q12: Enter the start time. This will be the official ACP listed start time found on the event page, unless a ride window has been enabled.
D13: Distance | E13: Locale | F13: Establishment 1 | G13: Establishment 2 | H13: Establishment 3 | I13: Signature/Answer 1 | J13: Signature/Answer 2 | K13: Signature/Answer 3 | L13: Open | M13: Close | N13: Open time | O13: Close time | Q13: Fill in the control distance. The opening and closing times will be automatically calculated based on the start time and the brevet distance. If you need more than 10 controls, use card #2, otherwise leave that section blank.
C14: Control 1 | D14: 0 | E14: 175 Kokanee Way | L14: =Start_date+Start_time -> 44702.208 | M14: =L14+"1:00" -> 44702.25 | N14: =IF(ISBLANK(Distance),"",Open Control_1) -> 44702.208 | O14: =IF(ISBLANK(Distance),"",Close Control_1) -> 44702.25 | Q14: Fill in the Locale (city) for each control. Establishment 1, 2, and 3 can be used to describe the control itself eg Locale HOPE Est.1 Dairy Queen Est.2 817 Water Ave Est. 3 (left blank)
C15: Control 2 | D15: 26.6 | E15: Duck Range Rd.@ Milner Rd. | L15: =IF(ISBLANK(Distance),"",IF(Distance>1000,(Distance-1000)/26+33.0847,(IF(Distance>600,(Distance-600)/28+18.799,(IF(Distance>400,(Distance-400)/30+12.1324,(IF(Distance>200,(Distance-200)/32+5.8824,Distance/34)))))))) -> 0.78235294 | M15: =IF(ISBLANK(Distance),"",IF(Distance>=brevet,IF(brevet>1200,(brevet-1200)*75/1000+90,Max_time),IF(Distance>1200,(Distance-1200)*75/1000+90,IF(Distance>1000,(Distance-1000)/(1000/75)+75,IF(Distance>600,(Distance-600)/(400/35)+40,IF(Distance<=60,(Distance/20+1),Distance/15)))))) -> 2.33 | N15: =IF(ISBLANK(Distance),"",Open_time Control_1+(INT(Open)&":"&IF(ROUND(((Open-INT(Open))*60),0)<10,0,"")&ROUND(((Open-INT(Open))*60),0))) -> 44702.241 | O15: =IF(ISBLANK(Distance),"",Open_time Control_1+(INT(Close)&":"&IF(ROUND(((Close-INT(Close))*60),0)<10,0,"")&ROUND(((Close-INT(Close))*60),0))) -> 44702.306 | Q15: When using information controls, you can put your question in the Signature/Answer section eg Sig/Ans.1 Sign on main door Sig/Ans. 2 This week's special is? Sig/Ans. 3 ________________
C16: Control 3 | D16: 105.4 | E16: 4815 Salmon River Rd. | L16: =IF(ISBLANK(Distance),"",IF(Distance>1000,(Distance-1000)/26+33.0847,(IF(Distance>600,(Distance-600)/28+18.799,(IF(Distance>400,(Distance-400)/30+12.1324,(IF(Distance>200,(Distance-200)/32+5.8824,Distance/34)))))))) -> 3.1 | M16: =IF(ISBLANK(Distance),"",IF(Distance>=brevet,IF(brevet>1200,(brevet-1200)*75/1000+90,Max_time),IF(Distance>1200,(Distance-1200)*75/1000+90,IF(Distance>1000,(Distance-1000)/(1000/75)+75,IF(Distance>600,(Distance-600)/(400/35)+40,IF(Distance<=60,(Distance/20+1),Distance/15)))))) -> 7.0266667 | N16: =IF(ISBLANK(Distance),"",Open_time Control_1+(INT(Open)&":"&IF(ROUND(((Open-INT(Open))*60),0)<10,0,"")&ROUND(((Open-INT(Open))*60),0))) -> 44702.338 | O16: =IF(ISBLANK(Distance),"",Open_time Control_1+(INT(Close)&":"&IF(ROUND(((Close-INT(Close))*60),0)<10,0,"")&ROUND(((Close-INT(Close))*60),0))) -> 44702.501
C17: Control 4 | D17: 142.3 | E17: Kalamalka Lake Rd. | L17: =IF(ISBLANK(Distance),"",IF(Distance>1000,(Distance-1000)/26+33.0847,(IF(Distance>600,(Distance-600)/28+18.799,(IF(Distance>400,(Distance-400)/30+12.1324,(IF(Distance>200,(Distance-200)/32+5.8824,Distance/34)))))))) -> 4.1852941 | M17: =IF(ISBLANK(Distance),"",IF(Distance>=brevet,IF(brevet>1200,(brevet-1200)*75/1000+90,Max_time),IF(Distance>1200,(Distance-1200)*75/1000+90,IF(Distance>1000,(Distance-1000)/(1000/75)+75,IF(Distance>600,(Distance-600)/(400/35)+40,IF(Distance<=60,(Distance/20+1),Distance/15)))))) -> 9.4866667 | N17: =IF(ISBLANK(Distance),"",Open_time Control_1+(INT(Open)&":"&IF(ROUND(((Open-INT(Open))*60),0)<10,0,"")&ROUND(((Open-INT(Open))*60),0))) -> 44702.383 | O17: =IF(ISBLANK(Distance),"",Open_time Control_1+(INT(Close)&":"&IF(ROUND(((Close-INT(Close))*60),0)<10,0,"")&ROUND(((Close-INT(Close))*60),0))) -> 44702.603
C18: Control 5 | D18: 195.9 | E18: 3022 Lumby-Mabel Lake Rd. | L18: =IF(ISBLANK(Distance),"",IF(Distance>1000,(Distance-1000)/26+33.0847,(IF(Distance>600,(Distance-600)/28+18.799,(IF(Distance>400,(Distance-400)/30+12.1324,(IF(Distance>200,(Distance-200)/32+5.8824,Distance/34)))))))) -> 5.7617647 | M18: =IF(ISBLANK(Distance),"",IF(Distance>=brevet,IF(brevet>1200,(brevet-1200)*75/1000+90,Max_time),IF(Distance>1200,(Distance-1200)*75/1000+90,IF(Distance>1000,(Distance-1000)/(1000/75)+75,IF(Distance>600,(Distance-600)/(400/35)+40,IF(Distance<=60,(Distance/20+1),Distance/15)))))) -> 13.06 | N18: =IF(ISBLANK(Distance),"",Open_time Control_1+(INT(Open)&":"&IF(ROUND(((Open-INT(Open))*60),0)<10,0,"")&ROUND(((Open-INT(Open))*60),0))) -> 44702.449 | O18: =IF(ISBLANK(Distance),"",Open_time Control_1+(INT(Close)&":"&IF(ROUND(((Close-INT(Close))*60),0)<10,0,"")&ROUND(((Close-INT(Close))*60),0))) -> 44702.753
C19: Control 6 | D19: 240.5 | E19: Buchanan Rd. @ Murphy Rd. | L19: =IF(ISBLANK(Distance),"",IF(Distance>1000,(Distance-1000)/26+33.0847,(IF(Distance>600,(Distance-600)/28+18.799,(IF(Distance>400,(Distance-400)/30+12.1324,(IF(Distance>200,(Distance-200)/32+5.8824,Distance/34)))))))) -> 7.148025 | M19: =IF(ISBLANK(Distance),"",IF(Distance>=brevet,IF(brevet>1200,(brevet-1200)*75/1000+90,Max_time),IF(Distance>1200,(Distance-1200)*75/1000+90,IF(Distance>1000,(Distance-1000)/(1000/75)+75,IF(Distance>600,(Distance-600)/(400/35)+40,IF(Distance<=60,(Distance/20+1),Distance/15)))))) -> 16.033333 | N19: =IF(ISBLANK(Distance),"",Open_time Control_1+(INT(Open)&":"&IF(ROUND(((Open-INT(Open))*60),0)<10,0,"")&ROUND(((Open-INT(Open))*60),0))) -> 44702.506 | O19: =IF(ISBLANK(Distance),"",Open_time Control_1+(INT(Close)&":"&IF(ROUND(((Close-INT(Close))*60),0)<10,0,"")&ROUND(((Close-INT(Close))*60),0))) -> 44702.876
C20: Control 7 | D20: 299 | E20: 91nDeep Creek Rd. | L20: =IF(ISBLANK(Distance),"",IF(Distance>1000,(Distance-1000)/26+33.0847,(IF(Distance>600,(Distance-600)/28+18.799,(IF(Distance>400,(Distance-400)/30+12.1324,(IF(Distance>200,(Distance-200)/32+5.8824,Distance/34)))))))) -> 8.97615 | M20: =IF(ISBLANK(Distance),"",IF(Distance>=brevet,IF(brevet>1200,(brevet-1200)*75/1000+90,Max_time),IF(Distance>1200,(Distance-1200)*75/1000+90,IF(Distance>1000,(Distance-1000)/(1000/75)+75,IF(Distance>600,(Distance-600)/(400/35)+40,IF(Distance<=60,(Distance/20+1),Distance/15)))))) -> 19.933333 | N20: =IF(ISBLANK(Distance),"",Open_time Control_1+(INT(Open)&":"&IF(ROUND(((Open-INT(Open))*60),0)<10,0,"")&ROUND(((Open-INT(Open))*60),0))) -> 44702.583 | O20: =IF(ISBLANK(Distance),"",Open_time Control_1+(INT(Close)&":"&IF(ROUND(((Close-INT(Close))*60),0)<10,0,"")&ROUND(((Close-INT(Close))*60),0))) -> 44703.039
C21: Control 8 | D21: 406 | E21: 175 Kokanee Way | L21: =IF(ISBLANK(Distance),"",IF(Distance>1000,(Distance-1000)/26+33.0847,(IF(Distance>600,(Distance-600)/28+18.799,(IF(Distance>400,(Distance-400)/30+12.1324,(IF(Distance>200,(Distance-200)/32+5.8824,Distance/34)))))))) -> 12.3324 | M21: =IF(ISBLANK(Distance),"",IF(Distance>=brevet,IF(brevet>1200,(brevet-1200)*75/1000+90,Max_time),IF(Distance>1200,(Distance-1200)*75/1000+90,IF(Distance>1000,(Distance-1000)/(1000/75)+75,IF(Distance>600,(Distance-600)/(400/35)+40,IF(Distance<=60,(Distance/20+1),Distance/15)))))) -> 27 | N21: =IF(ISBLANK(Distance),"",Open_time Control_1+(INT(Open)&":"&IF(ROUND(((Open-INT(Open))*60),0)<10,0,"")&ROUND(((Open-INT(Open))*60),0))) -> 44702.722 | O21: =IF(ISBLANK(Distance),"",Open_time Control_1+(INT(Close)&":"&IF(ROUND(((Close-INT(Close))*60),0)<10,0,"")&ROUND(((Close-INT(Close))*60),0))) -> 44703.333
C22: Control 9 | L22: =IF(ISBLANK(Distance),"",IF(Distance>1000,(Distance-1000)/26+33.0847,(IF(Distance>600,(Distance-600)/28+18.799,(IF(Distance>400,(Distance-400)/30+12.1324,(IF(Distance>200,(Distance-200)/32+5.8824,Distance/34)))))))) | M22: =IF(ISBLANK(Distance),"",IF(Distance>=brevet,IF(brevet>1200,(brevet-1200)*75/1000+90,Max_time),IF(Distance>1200,(Distance-1200)*75/1000+90,IF(Distance>1000,(Distance-1000)/(1000/75)+75,IF(Distance>600,(Distance-600)/(400/35)+40,IF(Distance<=60,(Distance/20+1),Distance/15)))))) | N22: =IF(ISBLANK(Distance),"",Open_time Control_1+(INT(Open)&":"&IF(ROUND(((Open-INT(Open))*60),0)<10,0,"")&ROUND(((Open-INT(Open))*60),0))) | O22: =IF(ISBLANK(Distance),"",Open_time Control_1+(INT(Close)&":"&IF(ROUND(((Close-INT(Close))*60),0)<10,0,"")&ROUND(((Close-INT(Close))*60),0)))
C23: Control 10 | L23: =IF(ISBLANK(Distance),"",IF(Distance>1000,(Distance-1000)/26+33.0847,(IF(Distance>600,(Distance-600)/28+18.799,(IF(Distance>400,(Distance-400)/30+12.1324,(IF(Distance>200,(Distance-200)/32+5.8824,Distance/34)))))))) | M23: =IF(ISBLANK(Distance),"",IF(Distance>=brevet,IF(brevet>1200,(brevet-1200)*75/1000+90,Max_time),IF(Distance>1200,(Distance-1200)*75/1000+90,IF(Distance>1000,(Distance-1000)/(1000/75)+75,IF(Distance>600,(Distance-600)/(400/35)+40,IF(Distance<=60,(Distance/20+1),Distance/15)))))) | N23: =IF(ISBLANK(Distance),"",Open_time Control_1+(INT(Open)&":"&IF(ROUND(((Open-INT(Open))*60),0)<10,0,"")&ROUND(((Open-INT(Open))*60),0))) | O23: =IF(ISBLANK(Distance),"",Open_time Control_1+(INT(Close)&":"&IF(ROUND(((Close-INT(Close))*60),0)<10,0,"")&ROUND(((Close-INT(Close))*60),0)))
D25: Control Card #2 | I25: Control Card #2 Information Control Question (optional)
D26: Distance | E26: Locale | F26: Establishment 1 | G26: Establishment 2 | H26: Establishment 3 | I26: Signature/Answer 1 | J26: Signature/Answer 2 | K26: Signature/Answer 3 | L26: Open | M26: Close | N26: Open time | O26: Close time
L27: =IF(ISBLANK(D27),"",IF(D27>1000,(D27-1000)/26+33.0847,(IF(D27>600,(D27-600)/28+18.799,(IF(D27>400,(D27-400)/30+12.1324,(IF(D27>200,(D27-200)/32+5.8824,D27/34)))))))) | M27: =IF(ISBLANK(D27),"",IF((D27=0),1,IF(D27>=brevet,IF(brevet>1200,(brevet-1200)*75/1000+90,Max_time),IF(D27>1200,(D27-1200)*75/1000+90,IF(D27>1000,(D27-1000)/(1000/75)+75,IF(D27>600,(D27-600)/(400/35)+40,IF(D27<=60,D27/20+1,D27/15))))))) | N27: =IF(ISBLANK(D27),"",Open_time Control_1+(INT(L27)&":"&IF(ROUND(((L27-INT(L27))*60),0)<10,0,"")&ROUND(((L27-INT(L27))*60),0))) | O27: =IF(ISBLANK(D27),"",Open_time Control_1+(INT(M27)&":"&IF(ROUND(((M27-INT(M27))*60),0)<10,0,"")&ROUND(((M27-INT(M27))*60),0)))
L28: =IF(ISBLANK(D28),"",IF(D28>1000,(D28-1000)/26+33.0847,(IF(D28>600,(D28-600)/28+18.799,(IF(D28>400,(D28-400)/30+12.1324,(IF(D28>200,(D28-200)/32+5.8824,D28/34)))))))) | M28: =IF(ISBLANK(D28),"",IF((D28=0),1,IF(D28>=brevet,IF(brevet>1200,(brevet-1200)*75/1000+90,Max_time),IF(D28>1200,(D28-1200)*75/1000+90,IF(D28>1000,(D28-1000)/(1000/75)+75,IF(D28>600,(D28-600)/(400/35)+40,IF(D28<=60,D28/20+1,D28/15))))))) | N28: =IF(ISBLANK(D28),"",Open_time Control_1+(INT(L28)&":"&IF(ROUND(((L28-INT(L28))*60),0)<10,0,"")&ROUND(((L28-INT(L28))*60),0))) | O28: =IF(ISBLANK(D28),"",Open_time Control_1+(INT(M28)&":"&IF(ROUND(((M28-INT(M28))*60),0)<10,0,"")&ROUND(((M28-INT(M28))*60),0)))
L29: =IF(ISBLANK(D29),"",IF(D29>1000,(D29-1000)/26+33.0847,(IF(D29>600,(D29-600)/28+18.799,(IF(D29>400,(D29-400)/30+12.1324,(IF(D29>200,(D29-200)/32+5.8824,D29/34)))))))) | M29: =IF(ISBLANK(D29),"",IF((D29=0),1,IF(D29>=brevet,IF(brevet>1200,(brevet-1200)*75/1000+90,Max_time),IF(D29>1200,(D29-1200)*75/1000+90,IF(D29>1000,(D29-1000)/(1000/75)+75,IF(D29>600,(D29-600)/(400/35)+40,IF(D29<=60,D29/20+1,D29/15))))))) | N29: =IF(ISBLANK(D29),"",Open_time Control_1+(INT(L29)&":"&IF(ROUND(((L29-INT(L29))*60),0)<10,0,"")&ROUND(((L29-INT(L29))*60),0))) | O29: =IF(ISBLANK(D29),"",Open_time Control_1+(INT(M29)&":"&IF(ROUND(((M29-INT(M29))*60),0)<10,0,"")&ROUND(((M29-INT(M29))*60),0)))
L30: =IF(ISBLANK(D30),"",IF(D30>1000,(D30-1000)/26+33.0847,(IF(D30>600,(D30-600)/28+18.799,(IF(D30>400,(D30-400)/30+12.1324,(IF(D30>200,(D30-200)/32+5.8824,D30/34)))))))) | M30: =IF(ISBLANK(D30),"",IF((D30=0),1,IF(D30>=brevet,IF(brevet>1200,(brevet-1200)*75/1000+90,Max_time),IF(D30>1200,(D30-1200)*75/1000+90,IF(D30>1000,(D30-1000)/(1000/75)+75,IF(D30>600,(D30-600)/(400/35)+40,IF(D30<=60,D30/20+1,D30/15))))))) | N30: =IF(ISBLANK(D30),"",Open_time Control_1+(INT(L30)&":"&IF(ROUND(((L30-INT(L30))*60),0)<10,0,"")&ROUND(((L30-INT(L30))*60),0))) | O30: =IF(ISBLANK(D30),"",Open_time Control_1+(INT(M30)&":"&IF(ROUND(((M30-INT(M30))*60),0)<10,0,"")&ROUND(((M30-INT(M30))*60),0)))
L31: =IF(ISBLANK(D31),"",IF(D31>1000,(D31-1000)/26+33.0847,(IF(D31>600,(D31-600)/28+18.799,(IF(D31>400,(D31-400)/30+12.1324,(IF(D31>200,(D31-200)/32+5.8824,D31/34)))))))) | M31: =IF(ISBLANK(D31),"",IF((D31=0),1,IF(D31>=brevet,IF(brevet>1200,(brevet-1200)*75/1000+90,Max_time),IF(D31>1200,(D31-1200)*75/1000+90,IF(D31>1000,(D31-1000)/(1000/75)+75,IF(D31>600,(D31-600)/(400/35)+40,IF(D31<=60,D31/20+1,D31/15))))))) | N31: =IF(ISBLANK(D31),"",Open_time Control_1+(INT(L31)&":"&IF(ROUND(((L31-INT(L31))*60),0)<10,0,"")&ROUND(((L31-INT(L31))*60),0))) | O31: =IF(ISBLANK(D31),"",Open_time Control_1+(INT(M31)&":"&IF(ROUND(((M31-INT(M31))*60),0)<10,0,"")&ROUND(((M31-INT(M31))*60),0)))
L32: =IF(ISBLANK(D32),"",IF(D32>1000,(D32-1000)/26+33.0847,(IF(D32>600,(D32-600)/28+18.799,(IF(D32>400,(D32-400)/30+12.1324,(IF(D32>200,(D32-200)/32+5.8824,D32/34)))))))) | M32: =IF(ISBLANK(D32),"",IF((D32=0),1,IF(D32>=brevet,IF(brevet>1200,(brevet-1200)*75/1000+90,Max_time),IF(D32>1200,(D32-1200)*75/1000+90,IF(D32>1000,(D32-1000)/(1000/75)+75,IF(D32>600,(D32-600)/(400/35)+40,IF(D32<=60,D32/20+1,D32/15))))))) | N32: =IF(ISBLANK(D32),"",Open_time Control_1+(INT(L32)&":"&IF(ROUND(((L32-INT(L32))*60),0)<10,0,"")&ROUND(((L32-INT(L32))*60),0))) | O32: =IF(ISBLANK(D32),"",Open_time Control_1+(INT(M32)&":"&IF(ROUND(((M32-INT(M32))*60),0)<10,0,"")&ROUND(((M32-INT(M32))*60),0)))
L33: =IF(ISBLANK(D33),"",IF(D33>1000,(D33-1000)/26+33.0847,(IF(D33>600,(D33-600)/28+18.799,(IF(D33>400,(D33-400)/30+12.1324,(IF(D33>200,(D33-200)/32+5.8824,D33/34)))))))) | M33: =IF(ISBLANK(D33),"",IF((D33=0),1,IF(D33>=brevet,IF(brevet>1200,(brevet-1200)*75/1000+90,Max_time),IF(D33>1200,(D33-1200)*75/1000+90,IF(D33>1000,(D33-1000)/(1000/75)+75,IF(D33>600,(D33-600)/(400/35)+40,IF(D33<=60,D33/20+1,D33/15))))))) | N33: =IF(ISBLANK(D33),"",Open_time Control_1+(INT(L33)&":"&IF(ROUND(((L33-INT(L33))*60),0)<10,0,"")&ROUND(((L33-INT(L33))*60),0))) | O33: =IF(ISBLANK(D33),"",Open_time Control_1+(INT(M33)&":"&IF(ROUND(((M33-INT(M33))*60),0)<10,0,"")&ROUND(((M33-INT(M33))*60),0)))
L34: =IF(ISBLANK(D34),"",IF(D34>1000,(D34-1000)/26+33.0847,(IF(D34>600,(D34-600)/28+18.799,(IF(D34>400,(D34-400)/30+12.1324,(IF(D34>200,(D34-200)/32+5.8824,D34/34)))))))) | M34: =IF(ISBLANK(D34),"",IF((D34=0),1,IF(D34>=brevet,IF(brevet>1200,(brevet-1200)*75/1000+90,Max_time),IF(D34>1200,(D34-1200)*75/1000+90,IF(D34>1000,(D34-1000)/(1000/75)+75,IF(D34>600,(D34-600)/(400/35)+40,IF(D34<=60,D34/20+1,D34/15))))))) | N34: =IF(ISBLANK(D34),"",Open_time Control_1+(INT(L34)&":"&IF(ROUND(((L34-INT(L34))*60),0)<10,0,"")&ROUND(((L34-INT(L34))*60),0))) | O34: =IF(ISBLANK(D34),"",Open_time Control_1+(INT(M34)&":"&IF(ROUND(((M34-INT(M34))*60),0)<10,0,"")&ROUND(((M34-INT(M34))*60),0)))
L35: =IF(ISBLANK(D35),"",IF(D35>1000,(D35-1000)/26+33.0847,(IF(D35>600,(D35-600)/28+18.799,(IF(D35>400,(D35-400)/30+12.1324,(IF(D35>200,(D35-200)/32+5.8824,D35/34)))))))) | M35: =IF(ISBLANK(D35),"",IF((D35=0),1,IF(D35>=brevet,IF(brevet>1200,(brevet-1200)*75/1000+90,Max_time),IF(D35>1200,(D35-1200)*75/1000+90,IF(D35>1000,(D35-1000)/(1000/75)+75,IF(D35>600,(D35-600)/(400/35)+40,IF(D35<=60,D35/20+1,D35/15))))))) | N35: =IF(ISBLANK(D35),"",Open_time Control_1+(INT(L35)&":"&IF(ROUND(((L35-INT(L35))*60),0)<10,0,"")&ROUND(((L35-INT(L35))*60),0))) | O35: =IF(ISBLANK(D35),"",Open_time Control_1+(INT(M35)&":"&IF(ROUND(((M35-INT(M35))*60),0)<10,0,"")&ROUND(((M35-INT(M35))*60),0)))
L36: =IF(ISBLANK(D36),"",IF(D36>1000,(D36-1000)/26+33.0847,(IF(D36>600,(D36-600)/28+18.799,(IF(D36>400,(D36-400)/30+12.1324,(IF(D36>200,(D36-200)/32+5.8824,D36/34)))))))) | M36: =IF(ISBLANK(D36),"",IF((D36=0),1,IF(D36>=brevet,IF(brevet>1200,(brevet-1200)*75/1000+90,Max_time),IF(D36>1200,(D36-1200)*75/1000+90,IF(D36>1000,(D36-1000)/(1000/75)+75,IF(D36>600,(D36-600)/(400/35)+40,IF(D36<=60,D36/20+1,D36/15))))))) | N36: =IF(ISBLANK(D36),"",Open_time Control_1+(INT(L36)&":"&IF(ROUND(((L36-INT(L36))*60),0)<10,0,"")&ROUND(((L36-INT(L36))*60),0))) | O36: =IF(ISBLANK(D36),"",Open_time Control_1+(INT(M36)&":"&IF(ROUND(((M36-INT(M36))*60),0)<10,0,"")&ROUND(((M36-INT(M36))*60),0)))
D38: Control Card #3 | I38: Control Card #3 Information Control Question (optional)
D39: Distance | E39: Locale | F39: Establishment 1 | G39: Establishment 2 | H39: Establishment 3 | I39: Signature/Answer 1 | J39: Signature/Answer 2 | K39: Signature/Answer 3 | L39: Open | M39: Close | N39: Open time | O39: Close time
L40: =IF(ISBLANK(D40),"",IF(D40>1000,(D40-1000)/26+33.0847,(IF(D40>600,(D40-600)/28+18.799,(IF(D40>400,(D40-400)/30+12.1324,(IF(D40>200,(D40-200)/32+5.8824,D40/34)))))))) | M40: =IF(ISBLANK(D40),"",IF((D40=0),1,IF(D40>=brevet,IF(brevet>1200,(brevet-1200)*75/1000+90,Max_time),IF(D40>1200,(D40-1200)*75/1000+90,IF(D40>1000,(D40-1000)/(1000/75)+75,IF(D40>600,(D40-600)/(400/35)+40,IF(D40<=60,D40/20+1,D40/15))))))) | N40: =IF(ISBLANK(D40),"",Open_time Control_1+(INT(L40)&":"&IF(ROUND(((L40-INT(L40))*60),0)<10,0,"")&ROUND(((L40-INT(L40))*60),0))) | O40: =IF(ISBLANK(D40),"",Open_time Control_1+(INT(M40)&":"&IF(ROUND(((M40-INT(M40))*60),0)<10,0,"")&ROUND(((M40-INT(M40))*60),0)))
L41: =IF(ISBLANK(D41),"",IF(D41>1000,(D41-1000)/26+33.0847,(IF(D41>600,(D41-600)/28+18.799,(IF(D41>400,(D41-400)/30+12.1324,(IF(D41>200,(D41-200)/32+5.8824,D41/34)))))))) | M41: =IF(ISBLANK(D41),"",IF((D41=0),1,IF(D41>=brevet,IF(brevet>1200,(brevet-1200)*75/1000+90,Max_time),IF(D41>1200,(D41-1200)*75/1000+90,IF(D41>1000,(D41-1000)/(1000/75)+75,IF(D41>600,(D41-600)/(400/35)+40,IF(D41<=60,D41/20+1,D41/15))))))) | N41: =IF(ISBLANK(D41),"",Open_time Control_1+(INT(L41)&":"&IF(ROUND(((L41-INT(L41))*60),0)<10,0,"")&ROUND(((L41-INT(L41))*60),0))) | O41: =IF(ISBLANK(D41),"",Open_time Control_1+(INT(M41)&":"&IF(ROUND(((M41-INT(M41))*60),0)<10,0,"")&ROUND(((M41-INT(M41))*60),0)))
L42: =IF(ISBLANK(D42),"",IF(D42>1000,(D42-1000)/26+33.0847,(IF(D42>600,(D42-600)/28+18.799,(IF(D42>400,(D42-400)/30+12.1324,(IF(D42>200,(D42-200)/32+5.8824,D42/34)))))))) | M42: =IF(ISBLANK(D42),"",IF((D42=0),1,IF(D42>=brevet,IF(brevet>1200,(brevet-1200)*75/1000+90,Max_time),IF(D42>1200,(D42-1200)*75/1000+90,IF(D42>1000,(D42-1000)/(1000/75)+75,IF(D42>600,(D42-600)/(400/35)+40,IF(D42<=60,D42/20+1,D42/15))))))) | N42: =IF(ISBLANK(D42),"",Open_time Control_1+(INT(L42)&":"&IF(ROUND(((L42-INT(L42))*60),0)<10,0,"")&ROUND(((L42-INT(L42))*60),0))) | O42: =IF(ISBLANK(D42),"",Open_time Control_1+(INT(M42)&":"&IF(ROUND(((M42-INT(M42))*60),0)<10,0,"")&ROUND(((M42-INT(M42))*60),0)))
L43: =IF(ISBLANK(D43),"",IF(D43>1000,(D43-1000)/26+33.0847,(IF(D43>600,(D43-600)/28+18.799,(IF(D43>400,(D43-400)/30+12.1324,(IF(D43>200,(D43-200)/32+5.8824,D43/34)))))))) | M43: =IF(ISBLANK(D43),"",IF((D43=0),1,IF(D43>=brevet,IF(brevet>1200,(brevet-1200)*75/1000+90,Max_time),IF(D43>1200,(D43-1200)*75/1000+90,IF(D43>1000,(D43-1000)/(1000/75)+75,IF(D43>600,(D43-600)/(400/35)+40,IF(D43<=60,D43/20+1,D43/15))))))) | N43: =IF(ISBLANK(D43),"",Open_time Control_1+(INT(L43)&":"&IF(ROUND(((L43-INT(L43))*60),0)<10,0,"")&ROUND(((L43-INT(L43))*60),0))) | O43: =IF(ISBLANK(D43),"",Open_time Control_1+(INT(M43)&":"&IF(ROUND(((M43-INT(M43))*60),0)<10,0,"")&ROUND(((M43-INT(M43))*60),0)))
L44: =IF(ISBLANK(D44),"",IF(D44>1000,(D44-1000)/26+33.0847,(IF(D44>600,(D44-600)/28+18.799,(IF(D44>400,(D44-400)/30+12.1324,(IF(D44>200,(D44-200)/32+5.8824,D44/34)))))))) | M44: =IF(ISBLANK(D44),"",IF((D44=0),1,IF(D44>=brevet,IF(brevet>1200,(brevet-1200)*75/1000+90,Max_time),IF(D44>1200,(D44-1200)*75/1000+90,IF(D44>1000,(D44-1000)/(1000/75)+75,IF(D44>600,(D44-600)/(400/35)+40,IF(D44<=60,D44/20+1,D44/15))))))) | N44: =IF(ISBLANK(D44),"",Open_time Control_1+(INT(L44)&":"&IF(ROUND(((L44-INT(L44))*60),0)<10,0,"")&ROUND(((L44-INT(L44))*60),0))) | O44: =IF(ISBLANK(D44),"",Open_time Control_1+(INT(M44)&":"&IF(ROUND(((M44-INT(M44))*60),0)<10,0,"")&ROUND(((M44-INT(M44))*60),0)))
L45: =IF(ISBLANK(D45),"",IF(D45>1000,(D45-1000)/26+33.0847,(IF(D45>600,(D45-600)/28+18.799,(IF(D45>400,(D45-400)/30+12.1324,(IF(D45>200,(D45-200)/32+5.8824,D45/34)))))))) | M45: =IF(ISBLANK(D45),"",IF((D45=0),1,IF(D45>=brevet,IF(brevet>1200,(brevet-1200)*75/1000+90,Max_time),IF(D45>1200,(D45-1200)*75/1000+90,IF(D45>1000,(D45-1000)/(1000/75)+75,IF(D45>600,(D45-600)/(400/35)+40,IF(D45<=60,D45/20+1,D45/15))))))) | N45: =IF(ISBLANK(D45),"",Open_time Control_1+(INT(L45)&":"&IF(ROUND(((L45-INT(L45))*60),0)<10,0,"")&ROUND(((L45-INT(L45))*60),0))) | O45: =IF(ISBLANK(D45),"",Open_time Control_1+(INT(M45)&":"&IF(ROUND(((M45-INT(M45))*60),0)<10,0,"")&ROUND(((M45-INT(M45))*60),0)))
...

Sheet Control Card #1
A1: At each control, please have signed or answer question and note time of day | H1: |
A2: DIST (km) | B2: Open | C2: Close | D2: Locale | E2: Establishment | F2: Signature/Answer | G2: Time of Passage | H2: | | K2: Founding member of LES RANDONNEURS MONDIAUX (1983)
B3: =Control_1 Open_time -> 44702.208 | C3: =Control_1 Close_time -> 44702.25 | E3: =IF(ISBLANK(Control_1 Establishment_1),"",Control_1 Establishment_1) | F3: =IF(ISBLANK('Control Entry'!I14),"",'Control Entry'!I14) | H3: | | O3: Control Card | S3: =IF('Control Entry'!D27=0,"","#1")
A4: =IF(ISBLANK(Distance Control_1),"",Control_1 Distance) -> 0 | B4: =Control_1 Open_time -> 44702.208 | C4: =Control_1 Close_time -> 44702.25 | D4: =IF(ISBLANK(Locale Control_1),"",Locale Control_1) -> 175 Kokanee Way | E4: =IF(ISBLANK(Control_1 Establishment_2),"",Control_1 Establishment_2) | F4: =IF(ISBLANK('Control Entry'!J14),"",'Control Entry'!J14) | H4: | | M4: =IF(ISBLANK(brevet),"",brevet&" km Randonnée") -> 400 km Randonnée
B5: =Control_1 Open_time -> 44702.208 | C5: =Control_1 Close_time -> 44702.25 | E5: =IF(ISBLANK(Control_1 Establishment_3),"",Control_1 Establishment_3) | F5: =IF(ISBLANK('Control Entry'!K14),"",'Control Entry'!K14) | H5: | | N5: Brevet No. | P5: =IF(ISBLANK(Brevet_Number),"",Brevet_Number) -> SI400-1 | R5: =IF(ISBLANK('Control Entry'!$B9),"",'Control Entry'!$B9) -> 05-21-22
B6: =Control_2 Open_time -> 44702.241 | C6: =Control_2 Close_time -> 44702.306 | E6: =IF(ISBLANK(Control_2 Establishment_1),"",Control_2 Establishment_1) | F6: =IF(ISBLANK('Control Entry'!I15),"",'Control Entry'!I15) | H6: | | L6: =IF(ISBLANK(Brevet_Description),"",Brevet_Description) -> Mabel the Duck
A7: =IF(ISBLANK(Distance Control_2),"",Control_2 Distance) -> 26.6 | B7: =Control_2 Open_time -> 44702.241 | C7: =Control_2 Close_time -> 44702.306 | D7: =IF(ISBLANK(Locale Control_2),"",Locale Control_2) -> Duck Range Rd.@ Milner Rd. | E7: =IF(ISBLANK(Control_2 Establishment_2),"",Control_2 Establishment_2) | F7: =IF(ISBLANK('Control Entry'!J15),"",'Control Entry'!J15) | H7: |
B8: =Control_2 Open_time -> 44702.241 | C8: =Control_2 Close_time -> 44702.306 | E8: =IF(ISBLANK(Control_2 Establishment_3),"",Control_2 Establishment_3) | F8: =IF(ISBLANK('Control Entry'!K15),"",'Control Entry'!K15) | H8: | | J8: Name | S8: Member #
B9: =Control_3 Open_time -> 44702.338 | C9: =Control_3 Close_time -> 44702.501 | E9: =IF(ISBLANK(Control_3 Establishment_1),"",Control_3 Establishment_1) | F9: =IF(ISBLANK('Control Entry'!I16),"",'Control Entry'!I16) | H9: | | J9: Address | L9: (only add if change needed to database)
A10: =IF(ISBLANK(Distance Control_3),"",Control_3 Distance) -> 105.4 | B10: =Control_3 Open_time -> 44702.338 | C10: =Control_3 Close_time -> 44702.501 | D10: =IF(ISBLANK(Locale Control_3),"",Locale Control_3) -> 4815 Salmon River Rd. | E10: =IF(ISBLANK(Control_3 Establishment_2),"",Control_3 Establishment_2) | F10: =IF(ISBLANK('Control Entry'!J16),"",'Control Entry'!J16) | H10: |
B11: =Control_3 Open_time -> 44702.338 | C11: =Control_3 Close_time -> 44702.501 | E11: =IF(ISBLANK(Control_3 Establishment_3),"",Control_3 Establishment_3) | F11: =IF(ISBLANK('Control Entry'!K16),"",'Control Entry'!K16) | H11: | | J11: City | P11: Province/State
B12: =Control_4 Open_time -> 44702.383 | C12: =Control_4 Close_time -> 44702.603 | E12: =IF(ISBLANK(Control_4 Establishment_1),"",Control_4 Establishment_1) | F12: =IF(ISBLANK('Control Entry'!I17),"",'Control Entry'!I17) | H12: | | J12: Country | P12: Postal Code
A13: =IF(ISBLANK(Distance Control_4),"",Control_4 Distance) -> 142.3 | B13: =Control_4 Open_time -> 44702.383 | C13: =Control_4 Close_time -> 44702.603 | D13: =IF(ISBLANK(Locale Control_4),"",Locale Control_4) -> Kalamalka Lake Rd. | E13: =IF(ISBLANK(Control_4 Establishment_2),"",Control_4 Establishment_2) | F13: =IF(ISBLANK('Control Entry'!J17),"",'Control Entry'!J17) | H13: | | J13: Telephone | P13: email
B14: =Control_4 Open_time -> 44702.383 | C14: =Control_4 Close_time -> 44702.603 | E14: =IF(ISBLANK(Control_4 Establishment_3),"",Control_4 Establishment_3) | F14: =IF(ISBLANK('Control Entry'!K17),"",'Control Entry'!K17) | H14: |
B15: =Control_5 Open_time -> 44702.449 | C15: =Control_5 Close_time -> 44702.753 | E15: =IF(ISBLANK(Control_5 Establishment_1),"",Control_5 Establishment_1) | F15: =IF(ISBLANK('Control Entry'!I18),"",'Control Entry'!I18) | H15: | | L15: Ride Day Emergency Contact
A16: =IF(ISBLANK(Distance Control_5),"",Control_5 Distance) -> 195.9 | B16: =Control_5 Open_time -> 44702.449 | C16: =Control_5 Close_time -> 44702.753 | D16: =IF(ISBLANK(Locale Control_5),"",Locale Control_5) -> 3022 Lumby-Mabel Lake Rd. | E16: =IF(ISBLANK(Control_5 Establishment_2),"",Control_5 Establishment_2) | F16: =IF(ISBLANK('Control Entry'!J18),"",'Control Entry'!J18) | H16: |
B17: =Control_5 Open_time -> 44702.449 | C17: =Control_5 Close_time -> 44702.753 | E17: =IF(ISBLANK(Control_5 Establishment_3),"",Control_5 Establishment_3) | F17: =IF(ISBLANK('Control Entry'!K18),"",'Control Entry'!K18) | H17: |
B18: =Control_6 Open_time -> 44702.506 | C18: =Control_6 Close_time -> 44702.876 | E18: =IF(ISBLANK(Control_6 Establishment_1),"",Control_6 Establishment_1) | F18: =IF(ISBLANK('Control Entry'!I19),"",'Control Entry'!I19) | H18: |
A19: =IF(ISBLANK(Distance Control_6),"",Control_6 Distance) -> 240.5 | B19: =Control_6 Open_time -> 44702.506 | C19: =Control_6 Close_time -> 44702.876 | D19: =IF(ISBLANK(Locale Control_6),"",Locale Control_6) -> Buchanan Rd. @ Murphy Rd. | E19: =IF(ISBLANK(Control_6 Establishment_2),"",Control_6 Establishment_2) | F19: =IF(ISBLANK('Control Entry'!J19),"",'Control Entry'!J19) | H19: |
B20: =Control_6 Open_time -> 44702.506 | C20: =Control_6 Close_time -> 44702.876 | E20: =IF(ISBLANK(Control_6 Establishment_3),"",Control_6 Establishment_3) | F20: =IF(ISBLANK('Control Entry'!K19),"",'Control Entry'!K19) | H20: | | J20: Start Date | L20: =IF(ISBLANK('Control Entry'!B11),"",'Control Entry'!B11) -> 44702 | P20: Start time | S20: =IF(ISBLANK('Control Entry'!B12),"",'Control Entry'!B12) -> 0.20833333
B21: =Control_7 Open_time -> 44702.583 | C21: =Control_7 Close_time -> 44703.039 | E21: =IF(ISBLANK(Control_7 Establishment_1),"",Control_7 Establishment_1) | F21: =IF(ISBLANK('Control Entry'!I20),"",'Control Entry'!I20) | H21: |
A22: =IF(ISBLANK(Distance Control_7),"",Control_7 Distance) -> 299 | B22: =Control_7 Open_time -> 44702.583 | C22: =Control_7 Close_time -> 44703.039 | D22: =IF(ISBLANK(Locale Control_7),"",Locale Control_7) -> 91nDeep Creek Rd. | E22: =IF(ISBLANK(Control_7 Establishment_2),"",Control_7 Establishment_2) | F22: =IF(ISBLANK('Control Entry'!J20),"",'Control Entry'!J20) | H22: | | J22: Finish Date | P22: Finish time
B23: =Control_7 Open_time -> 44702.583 | C23: =Control_7 Close_time -> 44703.039 | E23: =IF(ISBLANK(Control_7 Establishment_3),"",Control_7 Establishment_3) | F23: =IF(ISBLANK('Control Entry'!K20),"",'Control Entry'!K20) | H23: |
B24: =Control_8 Open_time -> 44702.722 | C24: =Control_8 Close_time -> 44703.333 | E24: =IF(ISBLANK(Control_8 Establishment_1),"",Control_8 Establishment_1) | F24: =IF(ISBLANK('Control Entry'!I21),"",'Control Entry'!I21) | H24: | | P24: Elapsed time
A25: =IF(ISBLANK(Distance Control_8),"",Control_8 Distance) -> 406 | B25: =Control_8 Open_time -> 44702.722 | C25: =Control_8 Close_time -> 44703.333 | D25: =IF(ISBLANK(Locale Control_8),"",Locale Control_8) -> 175 Kokanee Way | E25: =IF(ISBLANK(Control_8 Establishment_2),"",Control_8 Establishment_2) | F25: =IF(ISBLANK('Control Entry'!J21),"",'Control Entry'!J21) | H25: | | J25: Rider's signature at completion
B26: =Control_8 Open_time -> 44702.722 | C26: =Control_8 Close_time -> 44703.333 | E26: =IF(ISBLANK(Control_8 Establishment_3),"",Control_8 Establishment_3) | F26: =IF(ISBLANK('Control Entry'!K21),"",'Control Entry'!K21) | H26: |
B27: =Control_9 Open_time | C27: =Control_9 Close_time | E27: =IF(ISBLANK(Control_9 Establishment_1),"",Control_9 Establishment_1) | F27: =IF(ISBLANK('Control Entry'!I22),"",'Control Entry'!I22) | H27: | | K27: Bicycle Type Circle one | M27: -------> | N27: Single | P27: Tandem | R27: Fixed | S27: Recumbent | U27: Velomobile
A28: =IF(ISBLANK(Distance Control_9),"",Control_9 Distance) | B28: =Control_9 Open_time | C28: =Control_9 Close_time | D28: =IF(ISBLANK(Locale Control_9),"",Locale Control_9) | E28: =IF(ISBLANK(Control_9 Establishment_2),"",Control_9 Establishment_2) | F28: =IF(ISBLANK('Control Entry'!J22),"",'Control Entry'!J22) | H28: |
B29: =Control_9 Open_time | C29: =Control_9 Close_time | E29: =IF(ISBLANK(Control_9 Establishment_3),"",Control_9 Establishment_3) | F29: =IF(ISBLANK('Control Entry'!K22),"",'Control Entry'!K22) | H29: | | M29: Randonneur Committee Authorization
B30: =Control_10 Open_time | C30: =Control_10 Close_time | E30: =IF(ISBLANK(Control_10 Establishment_1),"",Control_10 Establishment_1) | F30: =IF(ISBLANK('Control Entry'!I23),"",'Control Entry'!I23) | H30: |
A31: =IF(ISBLANK(Distance Control_10),"",Control_10 Distance) | B31: =Control_10 Open_time | C31: =Control_10 Close_time | D31: =IF(ISBLANK(Locale Control_10),"",Locale Control_10) | E31: =IF(ISBLANK(Control_10 Establishment_2),"",Control_10 Establishment_2) | F31: =IF(ISBLANK('Control Entry'!J23),"",'Control Entry'!J23) | H31: |
B32: =Control_10 Open_time | C32: =Control_10 Close_time | E32: =IF(ISBLANK(Control_10 Establishment_3),"",Control_10 Establishment_3) | F32: =IF(ISBLANK('Control Entry'!K23),"",'Control Entry'!K23) | H32: |
A33: Report results or abandonment through registration email link | M33: Template Revised: | Q33: ='Control Entry'!B3 -> 44674

Sheet Control Card #2
A1: At each control, please have signed or answer question and note time of day | H1: |
A2: DIST (km) | B2: Open | C2: Close | D2: Locale | E2: Establishment | F2: Signature/Answer | G2: Time of Passage | H2: | | K2: Founding member of LES RANDONNEURS MONDIAUX (1983)
B3: ='Control Entry'!N27 | C3: ='Control Entry'!O27 | E3: =IF(ISBLANK('Control Entry'!F27),"",'Control Entry'!F27) | F3: =IF(ISBLANK('Control Entry'!I27),"",'Control Entry'!I27) | H3: | | O3: Control Card | S3: =IF('Control Entry'!D27=0,"","#2")
A4: =IF(ISBLANK('Control Entry'!D27),"",'Control Entry'!D27) | B4: ='Control Entry'!N27 | C4: ='Control Entry'!O27 | D4: =IF(ISBLANK('Control Entry'!E27),"",'Control Entry'!E27) | E4: =IF(ISBLANK('Control Entry'!G27),"",'Control Entry'!G27) | F4: =IF(ISBLANK('Control Entry'!J27),"",'Control Entry'!J27) | H4: | | M4: =IF(ISBLANK(brevet),"",brevet&" km Randonnée") -> 400 km Randonnée
B5: ='Control Entry'!N27 | C5: ='Control Entry'!O27 | E5: =IF(ISBLANK('Control Entry'!H27),"",'Control Entry'!H27) | F5: =IF(ISBLANK('Control Entry'!K27),"",'Control Entry'!K27) | H5: | | N5: Brevet No. | P5: =IF(ISBLANK(Brevet_Number),"",Brevet_Number) -> SI400-1 | R5: =IF(ISBLANK('Control Entry'!$B9),"",'Control Entry'!$B9) -> 05-21-22
B6: ='Control Entry'!N28 | C6: ='Control Entry'!O28 | E6: =IF(ISBLANK('Control Entry'!F28),"",'Control Entry'!F28) | F6: =IF(ISBLANK('Control Entry'!I28),"",'Control Entry'!I28) | H6: | | L6: =IF(ISBLANK(Brevet_Description),"",Brevet_Description) -> Mabel the Duck
A7: =IF(ISBLANK('Control Entry'!D28),"",'Control Entry'!D28) | B7: ='Control Entry'!N28 | C7: ='Control Entry'!O28 | D7: =IF(ISBLANK('Control Entry'!E28),"",'Control Entry'!E28) | E7: =IF(ISBLANK('Control Entry'!G28),"",'Control Entry'!G28) | F7: =IF(ISBLANK('Control Entry'!J28),"",'Control Entry'!J28) | H7: |
B8: ='Control Entry'!N28 | C8: ='Control Entry'!O28 | E8: =IF(ISBLANK('Control Entry'!H28),"",'Control Entry'!H28) | F8: =IF(ISBLANK('Control Entry'!K28),"",'Control Entry'!K28) | H8: | | J8: Name | S8: Member #
B9: ='Control Entry'!N29 | C9: ='Control Entry'!O29 | E9: =IF(ISBLANK('Control Entry'!F29),"",'Control Entry'!F29) | F9: =IF(ISBLANK('Control Entry'!I29),"",'Control Entry'!I29) | H9: | | J9: Address | L9: (only add if change needed to database)
A10: =IF(ISBLANK('Control Entry'!D29),"",'Control Entry'!D29) | B10: ='Control Entry'!N29 | C10: ='Control Entry'!O29 | D10: =IF(ISBLANK('Control Entry'!E29),"",'Control Entry'!E29) | E10: =IF(ISBLANK('Control Entry'!G29),"",'Control Entry'!G29) | F10: =IF(ISBLANK('Control Entry'!J29),"",'Control Entry'!J29) | H10: |
B11: ='Control Entry'!N29 | C11: ='Control Entry'!O29 | E11: =IF(ISBLANK('Control Entry'!H29),"",'Control Entry'!H29) | F11: =IF(ISBLANK('Control Entry'!K29),"",'Control Entry'!K29) | H11: | | J11: City | P11: Province/State
B12: ='Control Entry'!N30 | C12: ='Control Entry'!O30 | E12: =IF(ISBLANK('Control Entry'!F30),"",'Control Entry'!F30) | F12: =IF(ISBLANK('Control Entry'!I30),"",'Control Entry'!I30) | H12: | | J12: Country | P12: Postal Code
A13: =IF(ISBLANK('Control Entry'!D30),"",'Control Entry'!D30) | B13: ='Control Entry'!N30 | C13: ='Control Entry'!O30 | D13: =IF(ISBLANK('Control Entry'!E30),"",'Control Entry'!E30) | E13: =IF(ISBLANK('Control Entry'!G30),"",'Control Entry'!G30) | F13: =IF(ISBLANK('Control Entry'!J30),"",'Control Entry'!J30) | H13: | | J13: Telephone | P13: email
B14: ='Control Entry'!N30 | C14: ='Control Entry'!O30 | E14: =IF(ISBLANK('Control Entry'!H30),"",'Control Entry'!H30) | F14: =IF(ISBLANK('Control Entry'!K30),"",'Control Entry'!K30) | H14: |
B15: ='Control Entry'!N31 | C15: ='Control Entry'!O31 | E15: =IF(ISBLANK('Control Entry'!F31),"",'Control Entry'!F31) | F15: =IF(ISBLANK('Control Entry'!I31),"",'Control Entry'!I31) | H15: | | L15: Ride Day Emergency Contact
A16: =IF(ISBLANK('Control Entry'!D31),"",'Control Entry'!D31) | B16: ='Control Entry'!N31 | C16: ='Control Entry'!O31 | D16: =IF(ISBLANK('Control Entry'!E31),"",'Control Entry'!E31) | E16: =IF(ISBLANK('Control Entry'!G31),"",'Control Entry'!G31) | F16: =IF(ISBLANK('Control Entry'!J31),"",'Control Entry'!J31) | H16: |
B17: ='Control Entry'!N31 | C17: ='Control Entry'!O31 | E17: =IF(ISBLANK('Control Entry'!H31),"",'Control Entry'!H31) | F17: =IF(ISBLANK('Control Entry'!K31),"",'Control Entry'!K31) | H17: |
B18: ='Control Entry'!N32 | C18: ='Control Entry'!O32 | E18: =IF(ISBLANK('Control Entry'!F32),"",'Control Entry'!F32) | F18: =IF(ISBLANK('Control Entry'!I32),"",'Control Entry'!I32) | H18: |
A19: =IF(ISBLANK('Control Entry'!D32),"",'Control Entry'!D32) | B19: ='Control Entry'!N32 | C19: ='Control Entry'!O32 | D19: =IF(ISBLANK('Control Entry'!E32),"",'Control Entry'!E32) | E19: =IF(ISBLANK('Control Entry'!G32),"",'Control Entry'!G32) | F19: =IF(ISBLANK('Control Entry'!J32),"",'Control Entry'!J32) | H19: |
B20: ='Control Entry'!N32 | C20: ='Control Entry'!O32 | E20: =IF(ISBLANK('Control Entry'!H32),"",'Control Entry'!H32) | F20: =IF(ISBLANK('Control Entry'!K32),"",'Control Entry'!K32) | H20: | | J20: Start Date | L20: =IF(ISBLANK('Control Entry'!B11),"",'Control Entry'!B11) -> 44702 | P20: Start time | S20: =IF(ISBLANK('Control Entry'!B12),"",'Control Entry'!B12) -> 0.20833333
B21: ='Control Entry'!N33 | C21: ='Control Entry'!O33 | E21: =IF(ISBLANK('Control Entry'!F33),"",'Control Entry'!F33) | F21: =IF(ISBLANK('Control Entry'!I33),"",'Control Entry'!I33) | H21: |
A22: =IF(ISBLANK('Control Entry'!D33),"",'Control Entry'!D33) | B22: ='Control Entry'!N33 | C22: ='Control Entry'!O33 | D22: =IF(ISBLANK('Control Entry'!E33),"",'Control Entry'!E33) | E22: =IF(ISBLANK('Control Entry'!G33),"",'Control Entry'!G33) | F22: =IF(ISBLANK('Control Entry'!J33),"",'Control Entry'!J33) | H22: | | J22: Finish Date | P22: Finish time
B23: ='Control Entry'!N33 | C23: ='Control Entry'!O33 | E23: =IF(ISBLANK('Control Entry'!H33),"",'Control Entry'!H33) | F23: =IF(ISBLANK('Control Entry'!K33),"",'Control Entry'!K33) | H23: |
B24: ='Control Entry'!N34 | C24: ='Control Entry'!O34 | E24: =IF(ISBLANK('Control Entry'!F34),"",'Control Entry'!F34) | F24: =IF(ISBLANK('Control Entry'!I34),"",'Control Entry'!I34) | H24: | | P24: Elapsed time
A25: =IF(ISBLANK('Control Entry'!D34),"",'Control Entry'!D34) | B25: ='Control Entry'!N34 | C25: ='Control Entry'!O34 | D25: =IF(ISBLANK('Control Entry'!E34),"",'Control Entry'!E34) | E25: =IF(ISBLANK('Control Entry'!G34),"",'Control Entry'!G34) | F25: =IF(ISBLANK('Control Entry'!J34),"",'Control Entry'!J34) | H25: | | J25: Rider's signature at completion
B26: ='Control Entry'!N34 | C26: ='Control Entry'!O34 | E26: =IF(ISBLANK('Control Entry'!H34),"",'Control Entry'!H34) | F26: =IF(ISBLANK('Control Entry'!K34),"",'Control Entry'!K34) | H26: |
B27: ='Control Entry'!N35 | C27: ='Control Entry'!O35 | E27: =IF(ISBLANK('Control Entry'!F35),"",'Control Entry'!F35) | F27: =IF(ISBLANK('Control Entry'!I35),"",'Control Entry'!I35) | H27: | | K27: Bicycle Type Circle one | M27: -------> | N27: Single | P27: Tandem | R27: Fixed | S27: Recumbent | U27: Velomobile
A28: =IF(ISBLANK('Control Entry'!D35),"",'Control Entry'!D35) | B28: ='Control Entry'!N35 | C28: ='Control Entry'!O35 | D28: =IF(ISBLANK('Control Entry'!E35),"",'Control Entry'!E35) | E28: =IF(ISBLANK('Control Entry'!G35),"",'Control Entry'!G35) | F28: =IF(ISBLANK('Control Entry'!J35),"",'Control Entry'!J35) | H28: |
B29: ='Control Entry'!N35 | C29: ='Control Entry'!O35 | E29: =IF(ISBLANK('Control Entry'!H35),"",'Control Entry'!H35) | F29: =IF(ISBLANK('Control Entry'!K35),"",'Control Entry'!K35) | H29: | | M29: Randonneur Committee Authorization
B30: ='Control Entry'!N36 | C30: ='Control Entry'!O36 | E30: =IF(ISBLANK('Control Entry'!F36),"",'Control Entry'!F36) | F30: =IF(ISBLANK('Control Entry'!I36),"",'Control Entry'!I36) | H30: |
A31: =IF(ISBLANK('Control Entry'!D36),"",'Control Entry'!D36) | B31: ='Control Entry'!N36 | C31: ='Control Entry'!O36 | D31: =IF(ISBLANK('Control Entry'!E36),"",'Control Entry'!E36) | E31: =IF(ISBLANK('Control Entry'!G36),"",'Control Entry'!G36) | F31: =IF(ISBLANK('Control Entry'!J36),"",'Control Entry'!J36) | H31: |
B32: ='Control Entry'!N36 | C32: ='Control Entry'!O36 | E32: =IF(ISBLANK('Control Entry'!H36),"",'Control Entry'!H36) | F32: =IF(ISBLANK('Control Entry'!K36),"",'Control Entry'!K36) | H32: |
A33: Report results or abandonment through registration email link | M33: Template Revised: | Q33: ='Control Entry'!B3 -> 44674

Sheet Control Card #3
A1: At each control, please have signed or answer question and note time of day | H1: |
A2: DIST (km) | B2: Open | C2: Close | D2: Locale | E2: Establishment | F2: Signature/Answer | G2: Time of Passage | H2: | | K2: Founding member of LES RANDONNEURS MONDIAUX (1983)
B3: ='Control Entry'!N40 | C3: ='Control Entry'!O40 | E3: =IF(ISBLANK('Control Entry'!F40),"",'Control Entry'!F40) | F3: =IF(ISBLANK('Control Entry'!I40),"",'Control Entry'!I40) | H3: | | O3: Control Card | S3: =IF('Control Entry'!D40=0,"","#3")
A4: =IF(ISBLANK('Control Entry'!D40),"",'Control Entry'!D40) | B4: ='Control Entry'!N40 | C4: ='Control Entry'!O40 | D4: =IF(ISBLANK('Control Entry'!E40),"",'Control Entry'!E40) | E4: =IF(ISBLANK('Control Entry'!G40),"",'Control Entry'!G40) | F4: =IF(ISBLANK('Control Entry'!J40),"",'Control Entry'!J40) | H4: | | M4: =IF(ISBLANK(brevet),"",brevet&" km Randonnée") -> 400 km Randonnée
B5: ='Control Entry'!N40 | C5: ='Control Entry'!O40 | E5: =IF(ISBLANK('Control Entry'!H27),"",'Control Entry'!H27) | F5: =IF(ISBLANK('Control Entry'!K40),"",'Control Entry'!K40) | H5: | | N5: Brevet No. | P5: =IF(ISBLANK(Brevet_Number),"",Brevet_Number) -> SI400-1 | R5: =IF(ISBLANK('Control Entry'!$B9),"",'Control Entry'!$B9) -> 05-21-22
B6: ='Control Entry'!N41 | C6: ='Control Entry'!O41 | E6: =IF(ISBLANK('Control Entry'!F41),"",'Control Entry'!F41) | F6: =IF(ISBLANK('Control Entry'!I41),"",'Control Entry'!I41) | H6: | | L6: =IF(ISBLANK(Brevet_Description),"",Brevet_Description) -> Mabel the Duck
A7: =IF(ISBLANK('Control Entry'!D41),"",'Control Entry'!D41) | B7: ='Control Entry'!N41 | C7: ='Control Entry'!O41 | D7: =IF(ISBLANK('Control Entry'!E41),"",'Control Entry'!E41) | E7: =IF(ISBLANK('Control Entry'!G41),"",'Control Entry'!G41) | F7: =IF(ISBLANK('Control Entry'!J41),"",'Control Entry'!J41) | H7: |
B8: ='Control Entry'!N41 | C8: ='Control Entry'!O41 | E8: =IF(ISBLANK('Control Entry'!H41),"",'Control Entry'!H41) | F8: =IF(ISBLANK('Control Entry'!K41),"",'Control Entry'!K41) | H8: | | J8: Name | S8: Member #
B9: ='Control Entry'!N42 | C9: ='Control Entry'!O42 | E9: =IF(ISBLANK('Control Entry'!F42),"",'Control Entry'!F42) | F9: =IF(ISBLANK('Control Entry'!I42),"",'Control Entry'!I42) | H9: | | J9: Address | L9: (only add if change needed to database)
A10: =IF(ISBLANK('Control Entry'!D42),"",'Control Entry'!D42) | B10: ='Control Entry'!N42 | C10: ='Control Entry'!O42 | D10: =IF(ISBLANK('Control Entry'!E42),"",'Control Entry'!E42) | E10: =IF(ISBLANK('Control Entry'!G42),"",'Control Entry'!G42) | F10: =IF(ISBLANK('Control Entry'!J42),"",'Control Entry'!J42) | H10: |
B11: ='Control Entry'!N42 | C11: ='Control Entry'!O42 | E11: =IF(ISBLANK('Control Entry'!H42),"",'Control Entry'!H42) | F11: =IF(ISBLANK('Control Entry'!K42),"",'Control Entry'!K42) | H11: | | J11: City | P11: Province/State
B12: ='Control Entry'!N43 | C12: ='Control Entry'!O43 | E12: =IF(ISBLANK('Control Entry'!F43),"",'Control Entry'!F43) | F12: =IF(ISBLANK('Control Entry'!I43),"",'Control Entry'!I43) | H12: | | J12: Country | P12: Postal Code
A13: =IF(ISBLANK('Control Entry'!D43),"",'Control Entry'!D43) | B13: ='Control Entry'!N43 | C13: ='Control Entry'!O43 | D13: =IF(ISBLANK('Control Entry'!E43),"",'Control Entry'!E43) | E13: =IF(ISBLANK('Control Entry'!G43),"",'Control Entry'!G43) | F13: =IF(ISBLANK('Control Entry'!J43),"",'Control Entry'!J43) | H13: | | J13: Telephone | P13: email
B14: ='Control Entry'!N43 | C14: ='Control Entry'!O43 | E14: =IF(ISBLANK('Control Entry'!H43),"",'Control Entry'!H43) | F14: =IF(ISBLANK('Control Entry'!K43),"",'Control Entry'!K43) | H14: |
B15: ='Control Entry'!N44 | C15: ='Control Entry'!O44 | E15: =IF(ISBLANK('Control Entry'!F44),"",'Control Entry'!F44) | F15: =IF(ISBLANK('Control Entry'!I44),"",'Control Entry'!I44) | H15: | | L15: Ride Day Emergency Contact
A16: =IF(ISBLANK('Control Entry'!D44),"",'Control Entry'!D44) | B16: ='Control Entry'!N44 | C16: ='Control Entry'!O44 | D16: =IF(ISBLANK('Control Entry'!E44),"",'Control Entry'!E44) | E16: =IF(ISBLANK('Control Entry'!G44),"",'Control Entry'!G44) | F16: =IF(ISBLANK('Control Entry'!J44),"",'Control Entry'!J44) | H16: |
B17: ='Control Entry'!N44 | C17: ='Control Entry'!O44 | E17: =IF(ISBLANK('Control Entry'!H44),"",'Control Entry'!H44) | F17: =IF(ISBLANK('Control Entry'!K44),"",'Control Entry'!K44) | H17: |
B18: ='Control Entry'!N45 | C18: ='Control Entry'!O45 | E18: =IF(ISBLANK('Control Entry'!F45),"",'Control Entry'!F45) | F18: =IF(ISBLANK('Control Entry'!I45),"",'Control Entry'!I45) | H18: |
A19: =IF(ISBLANK('Control Entry'!D45),"",'Control Entry'!D45) | B19: ='Control Entry'!N45 | C19: ='Control Entry'!O45 | D19: =IF(ISBLANK('Control Entry'!E45),"",'Control Entry'!E45) | E19: =IF(ISBLANK('Control Entry'!G45),"",'Control Entry'!G45) | F19: =IF(ISBLANK('Control Entry'!J45),"",'Control Entry'!J415) | H19: |
B20: ='Control Entry'!N45 | C20: ='Control Entry'!O45 | E20: =IF(ISBLANK('Control Entry'!H45),"",'Control Entry'!H45) | F20: =IF(ISBLANK('Control Entry'!K45),"",'Control Entry'!K45) | H20: | | J20: Start Date | L20: =IF(ISBLANK('Control Entry'!B11),"",'Control Entry'!B11) -> 44702 | P20: Start time | S20: =IF(ISBLANK('Control Entry'!B12),"",'Control Entry'!B12) -> 0.20833333
B21: ='Control Entry'!N46 | C21: ='Control Entry'!O46 | E21: =IF(ISBLANK('Control Entry'!F46),"",'Control Entry'!F46) | F21: =IF(ISBLANK('Control Entry'!I46),"",'Control Entry'!I46) | H21: |
A22: =IF(ISBLANK('Control Entry'!D46),"",'Control Entry'!D46) | B22: ='Control Entry'!N46 | C22: ='Control Entry'!O46 | D22: =IF(ISBLANK('Control Entry'!E46),"",'Control Entry'!E46) | E22: =IF(ISBLANK('Control Entry'!G46),"",'Control Entry'!G46) | F22: =IF(ISBLANK('Control Entry'!J46),"",'Control Entry'!J46) | H22: | | J22: Finish Date | P22: Finish time
B23: ='Control Entry'!N46 | C23: ='Control Entry'!O46 | E23: =IF(ISBLANK('Control Entry'!H46),"",'Control Entry'!H46) | F23: =IF(ISBLANK('Control Entry'!K46),"",'Control Entry'!K46) | H23: |
B24: ='Control Entry'!N47 | C24: ='Control Entry'!O47 | E24: =IF(ISBLANK('Control Entry'!F47),"",'Control Entry'!F47) | F24: =IF(ISBLANK('Control Entry'!I34),"",'Control Entry'!I34) | H24: | | P24: Elapsed time
A25: =IF(ISBLANK('Control Entry'!D47),"",'Control Entry'!D47) | B25: ='Control Entry'!N47 | C25: ='Control Entry'!O47 | D25: =IF(ISBLANK('Control Entry'!E47),"",'Control Entry'!E47) | E25: =IF(ISBLANK('Control Entry'!G47),"",'Control Entry'!G47) | F25: =IF(ISBLANK('Control Entry'!J34),"",'Control Entry'!J34) | H25: | | J25: Rider's signature at completion
B26: ='Control Entry'!N47 | C26: ='Control Entry'!O47 | E26: =IF(ISBLANK('Control Entry'!H47),"",'Control Entry'!H47) | F26: =IF(ISBLANK('Control Entry'!K34),"",'Control Entry'!K34) | H26: |
B27: ='Control Entry'!N48 | C27: ='Control Entry'!O48 | E27: =IF(ISBLANK('Control Entry'!F48),"",'Control Entry'!F48) | F27: =IF(ISBLANK('Control Entry'!I48),"",'Control Entry'!I48) | H27: | | K27: Bicycle Type Circle one | M27: -------> | N27: Single | P27: Tandem | R27: Fixed | S27: Recumbent | U27: Velomobile
A28: =IF(ISBLANK('Control Entry'!D48),"",'Control Entry'!D48) | B28: ='Control Entry'!N48 | C28: ='Control Entry'!O48 | D28: =IF(ISBLANK('Control Entry'!E48),"",'Control Entry'!E48) | E28: =IF(ISBLANK('Control Entry'!G48),"",'Control Entry'!G48) | F28: =IF(ISBLANK('Control Entry'!J48),"",'Control Entry'!J48) | H28: |
B29: ='Control Entry'!N48 | C29: ='Control Entry'!O48 | E29: =IF(ISBLANK('Control Entry'!H48),"",'Control Entry'!H48) | F29: =IF(ISBLANK('Control Entry'!K48),"",'Control Entry'!K48) | H29: | | M29: Randonneur Committee Authorization
B30: ='Control Entry'!N49 | C30: ='Control Entry'!O49 | E30: =IF(ISBLANK('Control Entry'!F49),"",'Control Entry'!F49) | F30: =IF(ISBLANK('Control Entry'!I49),"",'Control Entry'!I49) | H30: |
A31: =IF(ISBLANK('Control Entry'!D49),"",'Control Entry'!D49) | B31: ='Control Entry'!N49 | C31: ='Control Entry'!O49 | D31: =IF(ISBLANK('Control Entry'!E49),"",'Control Entry'!E49) | E31: =IF(ISBLANK('Control Entry'!G49),"",'Control Entry'!G49) | F31: =IF(ISBLANK('Control Entry'!J49),"",'Control Entry'!J49) | H31: |
B32: ='Control Entry'!N49 | C32: ='Control Entry'!O49 | E32: =IF(ISBLANK('Control Entry'!H49),"",'Control Entry'!H49) | F32: =IF(ISBLANK('Control Entry'!K49),"",'Control Entry'!K49) | H32: |
A33: Report results or abandonment through registration email link | M33: Template Revised: | Q33: ='Control Entry'!B3 -> 44674
